Workbook

Sheet 吟醸酒の部
A3: 吟醸酒の部 出品票 | F3: 吟醸酒の部 出品票 | K3: 吟醸酒の部 出品票 | P3: 吟醸酒の部 出品票 | U3: 吟醸酒の部 出品票 | Z3: 吟醸酒の部 出品票
A5: 税務署名 | F5: 税務署名 | K5: 税務署名 | P5: 税務署名 | U5: 税務署名 | Z5: 税務署名
F6: =IF($A$6="","",$A$6) | K6: =IF($A$6="","",$A$6) | P6: =IF($A$6="","",$A$6) | U6: =IF($A$6="","",$A$6) | Z6: =IF($A$6="","",$A$6)
A7: 製造場名 | F7: 製造場名 | K7: 製造場名 | P7: 製造場名 | U7: 製造場名 | Z7: 製造場名
F8: =IF($A$8="","",$A$8) | K8: =IF($A$8="","",$A$8) | P8: =IF($A$8="","",$A$8) | U8: =IF($A$8="","",$A$8) | Z8: =IF($A$8="","",$A$8)
A9: （太線内を記入してください） | F9: （太線内を記入してください） | K9: （太線内を記入してください） | P9: （太線内を記入してください） | U9: （太線内を記入してください） | Z9: （太線内を記入してください）
A11: 符 号 | B11: イ | F11: 符 号 | G11: イ | K11: 符 号 | L11: イ | P11: 符 号 | Q11: イ | U11: 符 号 | V11: イ | Z11: 符 号 | AA11: イ
A13: 受付番号 | F13: 受付番号 | K13: 受付番号 | P13: 受付番号 | U13: 受付番号 | Z13: 受付番号
A15: 暗 番 | F15: 暗 番 | K15: 暗 番 | P15: 暗 番 | U15: 暗 番 | Z15: 暗 番
A23: 吟醸酒の部 出品票 | F23: 吟醸酒の部 出品票 | K23: 吟醸酒の部 出品票 | P23: 吟醸酒の部 出品票 | U23: 吟醸酒の部 出品票 | Z23: 吟醸酒の部 出品票
A25: 税務署名 | F25: 税務署名 | K25: 税務署名 | P25: 税務署名 | U25: 税務署名 | Z25: 税務署名
A26: =IF($A$6="","",$A$6) | F26: =IF($A$6="","",$A$6) | K26: =IF($A$6="","",$A$6) | P26: =IF($A$6="","",$A$6) | U26: =IF($A$6="","",$A$6) | Z26: =IF($A$6="","",$A$6)
A27: 製造場名 | F27: 製造場名 | K27: 製造場名 | P27: 製造場名 | U27: 製造場名 | Z27: 製造場名
A28: =IF($A$8="","",$A$8) | F28: =IF($A$8="","",$A$8) | K28: =IF($A$8="","",$A$8) | P28: =IF($A$8="","",$A$8) | U28: =IF($A$8="","",$A$8) | Z28: =IF($A$8="","",$A$8)
A29: （太線内を記入してください） | F29: （太線内を記入してください） | K29: （太線内を記入してください） | P29: （太線内を記入してください） | U29: （太線内を記入してください） | Z29: （太線内を記入してください）
A31: 符 号 | B31: ロ | F31: 符 号 | G31: ロ | K31: 符 号 | L31: ロ | P31: 符 号 | Q31: ロ | U31: 符 号 | V31: ロ | Z31: 符 号 | AA31: ロ
A33: 受付番号 | F33: 受付番号 | K33: 受付番号 | P33: 受付番号 | U33: 受付番号 | Z33: 受付番号
A35: 暗 番 | F35: 暗 番 | K35: 暗 番 | P35: 暗 番 | U35: 暗 番 | Z35: 暗 番

Sheet 純米酒の部
A3: 純米酒の部 出品票 | F3: 純米酒の部 出品票 | K3: 純米酒の部 出品票 | P3: 純米酒の部 出品票 | U3: 純米酒の部 出品票 | Z3: 純米酒の部 出品票
A5: 税務署名 | F5: 税務署名 | K5: 税務署名 | P5: 税務署名 | U5: 税務署名 | Z5: 税務署名
A6: =IF(吟醸酒の部!$A$6="","",吟醸酒の部!$A$6) | F6: =IF(吟醸酒の部!$A$6="","",吟醸酒の部!$A$6) | K6: =IF(吟醸酒の部!$A$6="","",吟醸酒の部!$A$6) | P6: =IF(吟醸酒の部!$A$6="","",吟醸酒の部!$A$6) | U6: =IF(吟醸酒の部!$A$6="","",吟醸酒の部!$A$6) | Z6: =IF(吟醸酒の部!$A$6="","",吟醸酒の部!$A$6)
A7: 製造場名 | F7: 製造場名 | K7: 製造場名 | P7: 製造場名 | U7: 製造場名 | Z7: 製造場名
A8: =IF(吟醸酒の部!$A$8="","",吟醸酒の部!$A$8) | F8: =IF(吟醸酒の部!$A$8="","",吟醸酒の部!$A$8) | K8: =IF(吟醸酒の部!$A$8="","",吟醸酒の部!$A$8) | P8: =IF(吟醸酒の部!$A$8="","",吟醸酒の部!$A$8) | U8: =IF(吟醸酒の部!$A$8="","",吟醸酒の部!$A$8) | Z8: =IF(吟醸酒の部!$A$8="","",吟醸酒の部!$A$8)
A9: （太線内を記入してください） | F9: （太線内を記入してください） | K9: （太線内を記入してください） | P9: （太線内を記入してください） | U9: （太線内を記入してください） | Z9: （太線内を記入してください）
A11: 符 号 | B11: イ | F11: 符 号 | G11: イ | K11: 符 号 | L11: イ | P11: 符 号 | Q11: イ | U11: 符 号 | V11: イ | Z11: 符 号 | AA11: イ
A13: 受付番号 | F13: 受付番号 | K13: 受付番号 | P13: 受付番号 | U13: 受付番号 | Z13: 受付番号
A15: 暗 番 | F15: 暗 番 | K15: 暗 番 | P15: 暗 番 | U15: 暗 番 | Z15: 暗 番
A23: 純米酒の部 出品票 | F23: 純米酒の部 出品票 | K23: 純米酒の部 出品票 | P23: 純米酒の部 出品票 | U23: 純米酒の部 出品票 | Z23: 純米酒の部 出品票
A25: 税務署名 | F25: 税務署名 | K25: 税務署名 | P25: 税務署名 | U25: 税務署名 | Z25: 税務署名
A26: =IF(吟醸酒の部!$A$6="","",吟醸酒の部!$A$6) | F26: =IF(吟醸酒の部!$A$6="","",吟醸酒の部!$A$6) | K26: =IF(吟醸酒の部!$A$6="","",吟醸酒の部!$A$6) | P26: =IF(吟醸酒の部!$A$6="","",吟醸酒の部!$A$6) | U26: =IF(吟醸酒の部!$A$6="","",吟醸酒の部!$A$6) | Z26: =IF(吟醸酒の部!$A$6="","",吟醸酒の部!$A$6)
A27: 製造場名 | F27: 製造場名 | K27: 製造場名 | P27: 製造場名 | U27: 製造場名 | Z27: 製造場名
A28: =IF(吟醸酒の部!$A$8="","",吟醸酒の部!$A$8) | F28: =IF(吟醸酒の部!$A$8="","",吟醸酒の部!$A$8) | K28: =IF(吟醸酒の部!$A$8="","",吟醸酒の部!$A$8) | P28: =IF(吟醸酒の部!$A$8="","",吟醸酒の部!$A$8) | U28: =IF(吟醸酒の部!$A$8="","",吟醸酒の部!$A$8) | Z28: =IF(吟醸酒の部!$A$8="","",吟醸酒の部!$A$8)
A29: （太線内を記入してください） | F29: （太線内を記入してください） | K29: （太線内を記入してください） | P29: （太線内を記入してください） | U29: （太線内を記入してください） | Z29: （太線内を記入してください）
A31: 符 号 | B31: ロ | F31: 符 号 | G31: ロ | K31: 符 号 | L31: ロ | P31: 符 号 | Q31: ロ | U31: 符 号 | V31: ロ | Z31: 符 号 | AA31: ロ
A33: 受付番号 | F33: 受付番号 | K33: 受付番号 | P33: 受付番号 | U33: 受付番号 | Z33: 受付番号
A35: 暗 番 | F35: 暗 番 | K35: 暗 番 | P35: 暗 番 | U35: 暗 番 | Z35: 暗 番
