{"text_format":"1","workbook":"xlsx","n_sheets":8,"sheets":["①　基本情報","②　関与先名簿等総括表","③　関与先名簿","④　使用人名簿","【記載例】「①基本情報」","【記載例】　「②関与先名簿等総括表」","【記載例】「③関与先名簿」","【記載例】「④使用人名簿」"],"not_rendered":{"charts":0,"images":1,"macros":1,"external_links":0,"defined_names":0,"comments":0,"pivot_tables":0},"unopened":[],"bounds":{"document_bytes":16777216,"sheet_cells":100000,"rows_first":2000,"rows_last":500,"rows_between":2000,"halvings":0,"cell_chars":16384,"cell_head_chars":4096},"cells_cut":0,"cells_raw":0,"read":"whole","date_system":"1900"}

{"sheet":"①　基本情報","index":0,"n_rows":12,"n_cols":3,"rows_kept":12,"cut":false,"hidden":false,"merged":[]}
["①　基本情報"]
["番号","項目","基本情報"]
[1,"提出日"]
[2,"税理士会支部"]
[3,"税理士（法人）名"]
[4,"税理士（法人）登録番号"]
[5,"事務所所在地"]
[6,"問合せ電話番号"]
["※　「①基本情報」は関与先名簿等総括表等を作成するために入力いただくシートであり、提出していただく必要はありません。"]
["※　提出いただくのは「②関与先名簿等総括表」、「③関与先名簿」及び「④使用人名簿」のシートです。"]
["　　適宜入力いただいた後に、全てのシートを保存 ボタンを押すと、本Excelファイルと同じ場所にCSV形式で保存されます。"]
["　　保存されたCSVデータをe-Taxで提出してください。"]

{"sheet":"②　関与先名簿等総括表","index":1,"n_rows":64,"n_cols":12,"rows_kept":64,"cut":false,"hidden":false,"merged":[[6,2,6,3],[1,2,1,3],[2,2,2,3],[3,2,3,3],[4,2,4,3],[5,2,5,3]]}
["②　関与先名簿等総括表"]
[null,null,"提出日",null,{"$f":"'①　基本情報'!C3","v":"00:00:00"}]
[null,null,"税理士会支部",null,{"$f":"'①　基本情報'!C4","v":0}]
[null,null,"税理士（法人）名",null,{"$f":"'①　基本情報'!C5","v":0}]
[null,null,"税理士（法人）登録番号",null,{"$f":"'①　基本情報'!C6","v":0}]
[null,null,"事務所所在地",null,{"$f":"'①　基本情報'!C7","v":0}]
[null,null,"問合せ電話番号",null,{"$f":"'①　基本情報'!C8","v":0}]
[]
["１　関与先",null,null,null,null,"（単位：件）",null,"２－１　開業税理士記入欄：使用人等"]
["番号","管轄税務署","法人関与件数","個人関与件数","合　　計","備考",null,null,null,"（単位：人）"]
[1,"鳥取",null,null,{"$f":"SUM(C11:D11)","v":0},null,null,"使用人等","内　有資格者","備考"]
[2,"米子",null,null,{"$f":"SUM(C12:D12)","v":0}]
[3,"倉吉",null,null,0]
[4,"松江",null,null,0]
[5,"浜田",null,null,0,null,null,"２－２　税理士法人記入欄：社員税理士等"]
[6,"出雲",null,null,0,null,null,null,null,null,null,"（単位：人）"]
[7,"益田",null,null,0,null,null,"社員税理士","所属税理士","使用人","内　有資格者","備考"]
[8,"石見大田",null,null,0]
[9,"大東",null,null,0]
[10,"西郷",null,null,0]
[11,"岡山東",null,null,0]
[12,"岡山西",null,null,0]
[13,"西大寺",null,null,0]
[14,"瀬戸",null,null,0]
[15,"児島",null,null,0]
[16,"倉敷",null,null,0]
[17,"玉島",null,null,0]
[18,"津山",null,null,0]
[19,"玉野",null,null,0]
[20,"笠岡",null,null,0]
[21,"高梁",null,null,0]
[22,"新見",null,null,0]
[23,"久世",null,null,0]
[24,"広島東",null,null,0]
[25,"広島南",null,null,0]
[26,"広島西",null,null,0]
[27,"広島北",null,null,0]
[28,"呉",null,null,0]
[29,"竹原",null,null,0]
[30,"三原",null,null,0]
[31,"尾道",null,null,0]
[32,"福山",null,null,0]
[33,"府中",null,null,0]
[34,"三次",null,null,0]
[35,"庄原",null,null,0]
[36,"西条",null,null,0]
[37,"廿日市",null,null,0]
[38,"海田",null,null,0]
[39,"吉田",null,null,0]
[40,"下関",null,null,0]
[41,"宇部",null,null,0]
[42,"山口",null,null,0]
[43,"萩",null,null,0]
[44,"徳山",null,null,0]
[45,"防府",null,null,0]
[46,"岩国",null,null,0]
[47,"光",null,null,0]
[48,"長門",null,null,0]
[49,"柳井",null,null,0]
[50,"厚狭",null,null,0]
[51]
[52]
[53]
[null,"合　　計",{"$f":"SUM(C11:C63)","v":0},{"$f":"SUM(D11:D63)","v":0},{"$f":"SUM(C64:D64)","v":0}]

{"sheet":"③　関与先名簿","index":2,"n_rows":109,"n_cols":6,"rows_kept":109,"cut":false,"hidden":false,"merged":[[6,2,6,3],[1,2,1,3],[2,2,2,3],[3,2,3,3],[4,2,4,3],[5,2,5,3]]}
["③　関与先名簿"]
[null,null,"提出日",null,{"$f":"'①　基本情報'!C3","v":"00:00:00"}]
[null,null,"税理士会支部",null,{"$f":"'①　基本情報'!C4","v":0}]
[null,null,"税理士（法人）名",null,{"$f":"'①　基本情報'!C5","v":0}]
[null,null,"税理士（法人）登録番号",null,{"$f":"'①　基本情報'!C6","v":0}]
[null,null,"事務所所在地",null,{"$f":"'①　基本情報'!C7","v":0}]
[null,null,"問合せ電話番号",null,{"$f":"'①　基本情報'!C8","v":0}]
[]
["番号","氏名又は名称","住所又は所在地","決算月","関与開始年月日","備考"]
[1]
[2]
[3]
[4]
[5]
[6]
[7]
[8]
[9]
[10]
[11]
[12]
[13]
[14]
[15]
[16]
[17]
[18]
[19]
[20]
[21]
[22]
[23]
[24]
[25]
[26]
[27]
[28]
[29]
[30]
[31]
[32]
[33]
[34]
[35]
[36]
[37]
[38]
[39]
[40]
[41]
[42]
[43]
[44]
[45]
[46]
[47]
[48]
[49]
[50]
[51]
[52]
[53]
[54]
[55]
[56]
[57]
[58]
[59]
[60]
[61]
[62]
[63]
[64]
[65]
[66]
[67]
[68]
[69]
[70]
[71]
[72]
[73]
[74]
[75]
[76]
[77]
[78]
[79]
[80]
[81]
[82]
[83]
[84]
[85]
[86]
[87]
[88]
[89]
[90]
[91]
[92]
[93]
[94]
[95]
[96]
[97]
[98]
[99]
[100]

{"sheet":"④　使用人名簿","index":3,"n_rows":29,"n_cols":7,"rows_kept":29,"cut":false,"hidden":false,"merged":[[6,2,6,3],[1,2,1,3],[2,2,2,3],[3,2,3,3],[4,2,4,3],[5,2,5,3]]}
["④　使用人名簿"]
[null,null,"提出日",null,{"$f":"'①　基本情報'!C3","v":"00:00:00"}]
[null,null,"税理士会支部",null,{"$f":"'①　基本情報'!C4","v":0}]
[null,null,"税理士（法人）名",null,{"$f":"'①　基本情報'!C5","v":0}]
[null,null,"税理士（法人）登録番号",null,{"$f":"'①　基本情報'!C6","v":0}]
[null,null,"事務所所在地",null,{"$f":"'①　基本情報'!C7","v":0}]
[null,null,"問合せ電話番号",null,{"$f":"'①　基本情報'!C8","v":0}]
[]
["番号","氏　　　名","生年月日","住　　所","税理士資格の有無","採用年月日","摘　要"]
[1]
[2]
[3]
[4]
[5,null,null,null,"　"]
[6,null,null,null,"　"]
[7,null,null,null,"　"]
[8,null,null,null,"　"]
[9,null,null,null,"　"]
[10,null,null,null,"　"]
[11,null,null,null,"　"]
[12,null,null,null,"　"]
[13,null,null,null,"　"]
[14,null,null,null,"　"]
[15,null,null,null,"　"]
[16,null,null,null,"　"]
[17,null,null,null,"　"]
[18,null,null,null,"　"]
[19,null,null,null,"　"]
[20,null,null,null,"　"]

{"sheet":"【記載例】「①基本情報」","index":4,"n_rows":8,"n_cols":3,"rows_kept":8,"cut":false,"hidden":false,"merged":[]}
["①　基本情報【記載例】"]
["番号","項目","基本情報"]
[1,"提出日","令和〇年〇月〇日"]
[2,"税理士会支部","広島東"]
[3,"税理士（法人）名","国税　太郎"]
[4,"税理士（法人）登録番号","1234567"]
[5,"事務所所在地","広島市中区上八丁堀6-30"]
[6,"問合せ電話番号","082-221-92××"]

{"sheet":"【記載例】　「②関与先名簿等総括表」","index":5,"n_rows":64,"n_cols":12,"rows_kept":64,"cut":false,"hidden":false,"merged":[[6,2,6,3],[1,2,1,3],[2,2,2,3],[3,2,3,3],[4,2,4,3],[5,2,5,3]]}
["②　関与先名簿等総括表【記載例】"]
[null,null,"提出日",null,"令和〇年〇月〇日"]
[null,null,"税理士会支部",null,{"$f":"【記載例】「①基本情報」!C4","v":"広島東"}]
[null,null,"税理士（法人）名",null,{"$f":"【記載例】「①基本情報」!C5","v":"国税　太郎"}]
[null,null,"税理士（法人）登録番号",null,{"$f":"【記載例】「①基本情報」!C6","v":"1234567"}]
[null,null,"事務所所在地",null,{"$f":"【記載例】「①基本情報」!C7","v":"広島市中区上八丁堀6-30"}]
[null,null,"問合せ電話番号",null,{"$f":"【記載例】「①基本情報」!C8","v":"082-221-92××"}]
[]
["１　関与先",null,"有",null,null,"（単位：件）",null,"２－１　開業税理士記入欄：使用人等",null,null,"無"]
["番号","管轄税務署","法人関与件数","個人関与件数","合　　計","備考",null,null,null,"（単位：人）"]
[1,"鳥取",null,null,{"$f":"SUM(C11:D11)","v":0},null,null,"使用人等","内　有資格者","備考"]
[2,"米子",null,null,{"$f":"SUM(C12:D12)","v":0},null,null,"0","0"]
[3,"倉吉",null,null,0]
[4,"松江",null,null,0]
[5,"浜田",null,null,0,null,null,"２－２　税理士法人記入欄：社員税理士等"]
[6,"出雲",null,null,0,null,null,null,null,null,null,"（単位：人）"]
[7,"益田",null,null,0,null,null,"社員税理士","所属税理士","使用人","内　有資格者","備考"]
[8,"石見大田",null,null,0,null,null,"3","4","21","3"]
[9,"大東",null,null,0]
[10,"西郷",null,null,0]
[11,"岡山東",6,3,9]
[12,"岡山西",null,2,2]
[13,"西大寺",null,null,0]
[14,"瀬戸",null,null,0]
[15,"児島",null,null,0]
[16,"倉敷",null,null,0]
[17,"玉島",null,null,0]
[18,"津山",null,null,0]
[19,"玉野",null,null,0]
[20,"笠岡",null,null,0]
[21,"高梁",null,null,0]
[22,"新見",null,null,0]
[23,"久世",null,null,0]
[24,"広島東",38,28,66]
[25,"広島南",12,10,22]
[26,"広島西",8,4,12]
[27,"広島北",5,4,9]
[28,"呉",null,null,0]
[29,"竹原",null,null,0]
[30,"三原",null,null,0]
[31,"尾道",null,null,0]
[32,"福山",null,null,0]
[33,"府中",null,null,0]
[34,"三次",null,null,0]
[35,"庄原",null,null,0]
[36,"西条",null,null,0]
[37,"廿日市",null,2,2]
[38,"海田",3,null,3]
[39,"吉田",null,null,0]
[40,"下関",null,null,0]
[41,"宇部",null,null,0]
[42,"山口",null,null,0]
[43,"萩",null,null,0]
[44,"徳山",null,null,0]
[45,"防府",null,null,0]
[46,"岩国",null,null,0]
[47,"光",null,null,0]
[48,"長門",null,null,0]
[49,"柳井",null,null,0]
[50,"厚狭",null,null,0]
[51,"新宿",1,null,1]
[52,"東大阪",null,2,2]
[53,null,null,null,0]
[null,"合　　計",{"$f":"SUM(C11:C63)","v":73},{"$f":"SUM(D11:D63)","v":55},{"$f":"SUM(C64:D64)","v":128}]

{"sheet":"【記載例】「③関与先名簿」","index":6,"n_rows":15,"n_cols":6,"rows_kept":15,"cut":false,"hidden":false,"merged":[[6,2,6,3],[1,2,1,3],[2,2,2,3],[3,2,3,3],[4,2,4,3],[5,2,5,3]]}
["③　関与先名簿【記載例】"]
[null,null,"提出日",null,"令和〇年〇月〇日"]
[null,null,"税理士会支部",null,{"$f":"【記載例】「①基本情報」!C4","v":"広島東"}]
[null,null,"税理士（法人）名",null,{"$f":"【記載例】「①基本情報」!C5","v":"国税　太郎"}]
[null,null,"税理士（法人）登録番号",null,{"$f":"【記載例】「①基本情報」!C6","v":"1234567"}]
[null,null,"事務所所在地",null,{"$f":"【記載例】「①基本情報」!C7","v":"広島市中区上八丁堀6-30"}]
[null,null,"問合せ電話番号",null,{"$f":"【記載例】「①基本情報」!C8","v":"082-221-92××"}]
[]
["番号","氏名又は名称","住所又は所在地","決算月","関与開始年月日","備考"]
[1,"国税　広島","広島市中区上八丁堀１",null,"1998-01-01","確定申告のみ"]
[2,"㈱岡山","岡山市北区蕃山町１","3月","2021-02-16","相談のみ"]
[3,"国税　二郎","島根県松江市朝日町１",null,"2023-09-01","贈与税のみ"]
[4]
[113]
[114,"㈱新宿","東京都新宿区北新宿１丁目","7月","2024-04-01"]

{"sheet":"【記載例】「④使用人名簿」","index":7,"n_rows":29,"n_cols":7,"rows_kept":29,"cut":false,"hidden":false,"merged":[[6,2,6,3],[1,2,1,3],[2,2,2,3],[3,2,3,3],[4,2,4,3],[5,2,5,3]]}
["④　使用人名簿【記載例】"]
[null,null,"提出日",null,"令和〇年〇月〇日"]
[null,null,"税理士会支部",null,{"$f":"【記載例】「①基本情報」!C4","v":"広島東"}]
[null,null,"税理士（法人）名",null,{"$f":"【記載例】「①基本情報」!C5","v":"国税　太郎"}]
[null,null,"税理士（法人）登録番号",null,{"$f":"【記載例】「①基本情報」!C6","v":"1234567"}]
[null,null,"事務所所在地",null,{"$f":"【記載例】「①基本情報」!C7","v":"広島市中区上八丁堀6-30"}]
[null,null,"問合せ電話番号",null,{"$f":"【記載例】「①基本情報」!C8","v":"082-221-92××"}]
[]
["番号","氏　　　名","生年月日","住　　所","税理士資格の有無","採用年月日","摘　要"]
[1,"国税　三郎","1962-04-18","広島市中区紙屋町１","有","1984-04-01"]
[2,"事務員　一郎","1977-05-15","広島市安佐南区長束１","無","1996-04-01"]
[3,null,null,null,"　"]
[4,null,null,null,"　"]
[5,null,null,null,"　"]
[6,null,null,null,"　"]
[7,null,null,null,"　"]
[8,null,null,null,"　"]
[9,null,null,null,"　"]
[10,null,null,null,"　"]
[11,null,null,null,"　"]
[12,null,null,null,"　"]
[13,null,null,null,"　"]
[14,null,null,null,"　"]
[15,null,null,null,"　"]
[16,null,null,null,"　"]
[17,null,null,null,"　"]
[18,null,null,null,"　"]
[19,null,null,null,"　"]
[20,null,null,null,"　"]