{"text_format":"1","workbook":"xlsx","n_sheets":5,"sheets":["使い方","仕込一覧","換算表","様式","(記入例)1"],"not_rendered":{"charts":6,"images":0,"macros":1,"external_links":0,"defined_names":3,"comments":0,"pivot_tables":0},"unopened":[],"bounds":{"document_bytes":16777216,"sheet_cells":100000,"rows_first":2000,"rows_last":500,"rows_between":2000,"halvings":0,"cell_chars":16384,"cell_head_chars":4096},"cells_cut":0,"cells_raw":0,"read":"whole","date_system":"1900"}

{"sheet":"使い方","index":0,"n_rows":24,"n_cols":3,"rows_kept":24,"cut":false,"hidden":false,"merged":[[13,1,13,2],[16,1,16,2],[14,1,14,2],[3,1,3,2],[5,1,5,2],[7,1,7,2],[10,1,10,2],[11,1,11,2],[9,1,9,2],[12,1,12,2]]}
["もろみ管理ツールの使い方"]
[]
["１　入力方法"]
[null,"　黄色く塗られたセルに入力してください。それ以外の部分は自動的に計算・表示されるため、入力は不要です。"]
["２　「仕込一覧」シート"]
[null,"　「各シートデータを一覧に反映」ボタンをクリックすると、各仕込（各シート）のデータが転記され、仕込一覧表が作成されます。"]
["３　「様式」シート"]
[null,"(1) 「表示グラフ選択」ボタン\n　クリックすると、表示するグラフを選択できます。\n(2) 「シートを追加」ボタン\n　クリックするごとに、仕込１号から順に新規シートが追加されます。\n(3) 目標ボーメ等\n　目標値（過去の順調なもろみ経過の値など）を入力すると、比較用グラフが描画されます。\n(4) AB直線理論式\n　AB直線の理論式（Alc=α-(β×Be)におけるα及びβ）を入力すると、その数式で表される比較用グラフが描画されます。αは、日本酒度０まで切れた時のアルコール分、βは、ボーメが１切れた時にアルコール分が何％増えるかを表しています。"]
["４　各指標等について"]
[null,"(1) 原料由来水(kg)\n　　【原料由来水(kg)＝掛米由来水重量(kg)＋麹由来水重量(kg)】\n　仕込みにおいて原料から持ち込まれる水の重量を算出したものです。(5) 推定粕歩合などの計算に用いられます。表示させるには、「白米水分」や「出麹水分」の入力が必要です。"]
[null,"(2) 溶解度\n　　【溶解度＝原エキス分×汲水歩合÷100】\n　原料米の溶解の程度を示す新たな指標で、原エキス分を汲水歩合100％に換算したものです。仕込配合（特に汲水歩合）が異なる仕込間でも同じスケールで比較可能で、米の収穫年度ごとの溶けやすさや、原料処理法が米の溶け具合に与える影響を、数値化してとらえることが期待されます。"]
[null,"(3) 発酵度\n　　【発酵度＝アルコール分×汲水歩合÷100】\n　アルコール分を汲水歩合100％に換算したものです。"]
[null,"(4) 発酵/溶解比\n　　【発酵/溶解比＝発酵度÷溶解度】\n　溶解成分のうち、どのくらいの量がアルコールに変換されているかを見る指標です。発酵の終点に向けてどのように進んでいるか、終点まであとどれくらいか等を示す指標として使用することが期待されます。"]
[null,"(5) 白米利用率、対玄米利用率\n　　【白米利用率＝（清酒アルコールエキス＋清酒エキス）÷白米エキス重量】\n　　【対玄米利用率＝白米利用率×精米歩合÷100】\n　原料米のデンプンが清酒中のアルコール及びエキスとして利用された割合をエキス換算にて表した数値です。原価計算等の経済的な面だけでなく、味わいの多寡など酒質管理の面における指標となることが期待されます。"]
[null,"(6) 推定粕歩合\n　　【推定粕歩合＝（白米固形分－白米溶解量）×2÷白米重量×100】\n　白米の溶解量から、その時点で上槽した場合にどれくらいの粕歩合になるかを推定する指標です。固形分1 kgの溶解によって0.612 Lの液量増加があるとし、粕の水分率を50%とした場合の値です。白米溶解量は、原エキス分から算出します。表示させるには、「白米水分」や「出麹水分」の入力が必要です（麹由来の水分が算出できない場合、麹米の「白米水分」の値を代わりに使用して算出されます。）。"]
["５　注意事項"]
[null,"　本ツールの正確性・妥当性等については細心の注意を払っておりますが、その保証をするものではありません。"]
[]
[null,"作　成","広島国税局鑑定官室"]
[null,"作成日","2025年6月25日　初版"]
[null,"監　修","(地独)鳥取県産業技術センター、島根県産業技術センター、岡山県工業技術センター、(地独)山口県産業技術センター"]
[null,"出　典","濃淡指数、シブ予測係数比等：宮城県酒造組合、宮城県産業技術総合センター食品バイオ技術部\n溶解度、発酵度、白米利用率等：もろみエール（名古屋国税局鑑定官室）"]
[null,"改訂履歴","2025年11月11日　Version 2。表示グラフの選択機能を修正。１ページ目に検尺入力欄を追加。麹枯らし後水分の計算式を修正。日本酒度の入力欄を追加。"]
[null,null,"2026年6月9日　Version 3。目標AB直線のグラフを修正。乾物白米当たりの総酵素力価の計算式を修正。データ送信ボタンを削除。"]

{"sheet":"仕込一覧","index":1,"n_rows":5,"n_cols":8,"rows_kept":5,"cut":false,"hidden":false,"merged":[]}
[]
[null,"令和",null,"酒造年度"]
[]
[null,null,"key"]
[null,null,"仕込番号","(留)仕込日","原料米品種","精米歩合","特定名称等","酵母"]

{"sheet":"換算表","index":2,"n_rows":273,"n_cols":5,"rows_kept":273,"cut":false,"hidden":true,"merged":[]}
["国税庁所定分析法　第２表　アルコール分と密度(15℃)及び比重(15/15℃)換算表より"]
[null,"アルコール分(vol%)","比重(15/15℃)","slope","intercept"]
[null,0,1,-1.6000000000004899E-3,1]
[null,0.1,0.99983999999999995,-1.4999999999998346E-3,0.99998999999999993]
[null,0.2,0.99968999999999997,-1.4999999999998352E-3,0.99998999999999993]
[null,0.3,0.99953999999999998,-1.5999999999993795E-3,1.0000199999999997]
[null,0.4,0.99938000000000005,-1.5000000000009455E-3,0.99998000000000042]
[null,0.5,0.99922999999999995,-1.4999999999998352E-3,0.99997999999999998]
[null,0.6,0.99907999999999997,-1.4999999999998352E-3,0.99997999999999987]
[null,0.7,0.99892999999999998,-1.4999999999998335E-3,0.99997999999999987]
[null,0.8,0.99878,-1.4999999999998352E-3,0.99997999999999987]
[null,0.9,0.99863000000000002,-1.4999999999998352E-3,0.99997999999999998]
[null,1,0.99848000000000003,-1.4999999999998335E-3,0.99997999999999976]
[null,1.1000000000000001,0.99833000000000005,-1.500000000000947E-3,0.99998000000000109]
[null,1.2,0.99817999999999996,-1.4999999999998335E-3,0.99997999999999976]
[null,1.3,0.99802999999999997,-1.3999999999991814E-3,0.99984999999999891]
[null,1.4,0.99789000000000005,-1.5000000000009437E-3,0.99999000000000138]
[null,1.5,0.99773999999999996,-1.4999999999998335E-3,0.99998999999999971]
[null,1.6,0.99758999999999998,-1.4000000000002919E-3,0.99983000000000044]
[null,1.7,0.99744999999999995,-1.4999999999998335E-3,0.99999999999999956]
[null,1.8,0.99729999999999996,-1.4999999999998368E-3,0.99999999999999978]
[null,1.9,0.99714999999999998,-1.4000000000002888E-3,0.99981000000000053]
[null,2,0.99700999999999995,-1.3999999999991784E-3,0.9998099999999982]
[null,2.1,0.99687000000000003,-1.4999999999998335E-3,1.0000199999999997]
[null,2.2000000000000002,0.99672000000000005,-1.4000000000002949E-3,0.99980000000000069]
[null,2.2999999999999998,0.99658000000000002,-1.4999999999998335E-3,1.0000299999999995]
[null,2.4,0.99643000000000004,-1.4000000000002888E-3,0.99979000000000073]
[null,2.5,0.99629000000000001,-1.4000000000002888E-3,0.99979000000000073]
[null,2.6,0.99614999999999998,-1.4000000000002888E-3,0.99979000000000073]
[null,2.7,0.99600999999999995,-1.3999999999991847E-3,0.99978999999999785]
[null,2.8,0.99587000000000003,-1.4999999999998335E-3,1.0000699999999996]
[null,2.9,0.99572000000000005,-1.4000000000002888E-3,0.99978000000000089]
[null,3,0.99558000000000002,-1.4000000000002888E-3,0.99978000000000089]
[null,3.1,0.99543999999999999,-1.4000000000002888E-3,0.99978000000000089]
[null,3.2,0.99529999999999996,-1.3999999999991847E-3,0.99977999999999745]
[null,3.3,0.99516000000000004,-1.4000000000002888E-3,0.999780000000001]
[null,3.4,0.99502000000000002,-1.2999999999996335E-3,0.99943999999999877]
[null,3.5,0.99489000000000005,-1.4000000000002888E-3,0.99979000000000107]
[null,3.6,0.99475000000000002,-1.4000000000002888E-3,0.99979000000000107]
[null,3.7,0.99460999999999999,-1.4000000000002949E-3,0.99979000000000107]
[null,3.8,0.99446999999999997,-1.4999999999998335E-3,1.0001699999999993]
[null,3.9,0.99431999999999998,-1.2999999999996335E-3,0.99938999999999856]
[null,4,0.99419000000000002,-1.4000000000002949E-3,0.99979000000000118]
[null,4.0999999999999996,0.99404999999999999,-1.2999999999996278E-3,0.99937999999999849]
[null,4.2,0.99392000000000003,-1.4000000000002949E-3,0.99980000000000124]
[null,4.3,0.99378,-1.4000000000002825E-3,0.99980000000000124]
[null,4.4000000000000004,0.99363999999999997,-1.2999999999996393E-3,0.99935999999999836]
[null,4.5,0.99351,-1.4000000000002949E-3,0.99981000000000131]
[null,4.5999999999999996,0.99336999999999998,-1.2999999999996278E-3,0.9993499999999983]
[null,4.7,0.99324000000000001,-1.2999999999996393E-3,0.9993499999999983]
[null,4.8,0.99311000000000005,-1.4000000000002825E-3,0.99983000000000144]
[null,4.9000000000000004,0.99297000000000002,-1.3000000000007496E-3,0.99934000000000367]
[null,5,0.99283999999999994,-1.2999999999996393E-3,0.99933999999999812]
[null,5.0999999999999996,0.99270999999999998,-1.2999999999996278E-3,0.99933999999999812]
[null,5.2,0.99258000000000002,-1.4000000000002949E-3,0.99986000000000153]
[null,5.3,0.99243999999999999,-1.2999999999996278E-3,0.99932999999999805]
[null,5.4,0.99231000000000003,-1.3000000000007496E-3,0.99933000000000416]
[null,5.5,0.99217999999999995,-1.2999999999996393E-3,0.99932999999999794]
[null,5.6,0.99204999999999999,-1.2999999999996278E-3,0.99932999999999794]
[null,5.7,0.99192000000000002,-1.3000000000007496E-3,0.99933000000000427]
[null,5.8,0.99178999999999995,-1.2999999999996278E-3,0.99932999999999783]
[null,5.9,0.99165999999999999,-1.2999999999996393E-3,0.99932999999999783]
[null,6,0.99153000000000002,-1.3000000000007496E-3,0.9993300000000046]
[null,6.1,0.99139999999999995,-1.2999999999996278E-3,0.99932999999999772]
[null,6.2,0.99126999999999998,-1.2999999999996393E-3,0.99932999999999772]
[null,6.3,0.99114000000000002,-1.3000000000007381E-3,0.9993300000000046]
[null,6.4,0.99100999999999995,-1.199999999998984E-3,0.99868999999999342]
[null,6.5,0.99089000000000005,-1.3000000000007496E-3,0.999340000000005]
[null,6.6,0.99075999999999997,-1.2999999999996278E-3,0.99933999999999756]
[null,6.7,0.99063000000000001,-1.2000000000000942E-3,0.99867000000000061]
[null,6.8,0.99051,-1.2999999999996278E-3,0.99934999999999752]
[null,6.9,0.99038000000000004,-1.3000000000007496E-3,0.99935000000000529]
[null,7,0.99024999999999996,-1.2000000000000942E-3,0.99865000000000059]
[null,7.1,0.99012999999999995,-1.2999999999996278E-3,0.99935999999999736]
[null,7.2,0.99,-1.2000000000000942E-3,0.99864000000000075]
[null,7.3,0.98987999999999998,-1.2999999999996278E-3,0.99936999999999732]
[null,7.4,0.98975000000000002,-1.2000000000000942E-3,0.99863000000000068]
[null,7.5,0.98963000000000001,-1.2999999999996393E-3,0.99937999999999727]
[null,7.6,0.98950000000000005,-1.2000000000000836E-3,0.99862000000000073]
[null,7.7,0.98938000000000004,-1.2000000000000942E-3,0.99862000000000073]
[null,7.8,0.98926000000000003,-1.3000000000007381E-3,0.99940000000000584]
[null,7.9,0.98912999999999995,-1.2000000000000942E-3,0.99861000000000066]
[null,8,0.98900999999999994,-1.199999999998984E-3,0.99860999999999178]
[null,8.1,0.98889000000000005,-1.2000000000000942E-3,0.99861000000000089]
[null,8.1999999999999993,0.98877000000000004,-1.3000000000007264E-3,0.99943000000000592]
[null,8.3000000000000007,0.98863999999999996,-1.200000000000094E-3,0.99860000000000082]
[null,8.4,0.98851999999999995,-1.200000000000094E-3,0.99860000000000071]
[null,8.5,0.98839999999999995,-1.199999999998984E-3,0.99859999999999127]
[null,8.6,0.98828000000000005,-1.2000000000000942E-3,0.99860000000000093]
[null,8.6999999999999993,0.98816000000000004,-1.2000000000000728E-3,0.9986000000000006]
[null,8.8000000000000007,0.98804000000000003,-1.1999999999999875E-3,0.99859999999999993]
[null,8.9,0.98792000000000002,-1.2000000000002007E-3,0.99860000000000171]
[null,9,0.98780000000000001,-1.200000000000094E-3,0.99860000000000093]
[null,9.1,0.98768,-1.1999999999999661E-3,0.9985999999999996]
[null,9.1999999999999993,0.98755999999999999,-1.200000000000094E-3,0.99860000000000093]
[null,9.3000000000000007,0.98743999999999998,-1.0999999999994387E-3,0.99766999999999473]
[null,9.4,0.98733000000000004,-1.2000000000002007E-3,0.998610000000002]
[null,9.5,0.98721000000000003,-1.1999999999999661E-3,0.99860999999999966]
[null,9.6,0.98709000000000002,-1.2000000000000942E-3,0.998610000000001]
[null,9.6999999999999993,0.98697000000000001,-1.1000000000005489E-3,0.9976400000000053]
[null,9.8000000000000007,0.98685999999999996,-1.200000000000094E-3,0.99862000000000084]
[null,9.9,0.98673999999999995,-1.1999999999990905E-3,0.99861999999999096]
[null,10,0.98662000000000005,-1.1000000000005489E-3,0.9976200000000055]
[null,10.1,0.98651,-1.2000000000000942E-3,0.99863000000000102]
[null,10.199999999999999,0.98638999999999999,-1.2000000000000728E-3,0.99863000000000068]
[null,10.3,0.98626999999999998,-1.0999999999994387E-3,0.99759999999999427]
[null,10.4,0.98616000000000004,-1.200000000000094E-3,0.99864000000000097]
[null,10.5,0.98604000000000003,-1.1000000000016431E-3,0.9975900000000173]
[null,10.6,0.98592999999999997,-1.2000000000000942E-3,0.99865000000000093]
[null,10.7,0.98580999999999996,-1.0999999999994387E-3,0.99757999999999381]
[null,10.8,0.98570000000000002,-1.1000000000005292E-3,0.99758000000000557]
[null,10.9,0.98558999999999997,-1.2000000000000942E-3,0.99867000000000095]
[null,11,0.98546999999999996,-1.0999999999994387E-3,0.99756999999999363]
[null,11.1,0.98536000000000001,-1.1000000000005489E-3,0.99757000000000595]
[null,11.2,0.98524999999999996,-1.200000000000094E-3,0.99869000000000097]
[null,11.3,0.98512999999999995,-1.0999999999994192E-3,0.99755999999999323]
[null,11.4,0.98502000000000001,-1.1000000000005489E-3,0.99756000000000611]
[null,11.5,0.98490999999999995,-1.1000000000005331E-3,0.997560000000006]
[null,11.6,0.98480000000000001,-1.200000000000094E-3,0.99872000000000083]
[null,11.7,0.98468,-1.1000000000005489E-3,0.99755000000000615]
[null,11.8,0.98456999999999995,-1.0999999999994387E-3,0.99754999999999316]
[null,11.9,0.98446,-1.1000000000005489E-3,0.99755000000000627]
[null,12,0.98434999999999995,-1.0999999999994192E-3,0.99754999999999272]
[null,12.1,0.98424,-1.1000000000005489E-3,0.99755000000000638]
[null,12.2,0.98412999999999995,-1.0999999999994387E-3,0.99754999999999294]
[null,12.3,0.98402000000000001,-1.1000000000005489E-3,0.99755000000000649]
[null,12.4,0.98390999999999995,-1.0999999999994387E-3,0.99754999999999272]
[null,12.5,0.98380000000000001,-1.1000000000005292E-3,0.99755000000000638]
[null,12.6,0.98368999999999995,-1.1000000000005328E-3,0.99755000000000649]
[null,12.7,0.98358000000000001,-1.1000000000005489E-3,0.9975500000000066]
[null,12.8,0.98346999999999996,-1.0999999999994387E-3,0.99754999999999239]
[null,12.9,0.98336000000000001,-1.200000000000094E-3,0.99884000000000095]
[null,13,0.98324,-1.1000000000005489E-3,0.99754000000000675]
[null,13.1,0.98312999999999995,-9.9999999999987555E-4,0.99622999999999806]
[null,13.2,0.98302999999999996,-1.0999999999994387E-3,0.99754999999999217]
[null,13.3,0.98292000000000002,-1.1000000000005489E-3,0.99755000000000693]
[null,13.4,0.98280999999999996,-1.0999999999994387E-3,0.99754999999999217]
[null,13.5,0.98270000000000002,-9.9999999999989355E-4,0.99619999999999831]
[null,13.6,0.98260000000000003,-1.1000000000005292E-3,0.99756000000000689]
[null,13.7,0.98248999999999997,-1.1000000000005526E-3,0.99756000000000711]
[null,13.8,0.98238000000000003,-9.9999999999987555E-4,0.99617999999999796]
[null,13.9,0.98228000000000004,-1.1000000000005489E-3,0.99757000000000728]
[null,14,0.98216999999999999,-1.0999999999994387E-3,0.99756999999999174]
[null,14.1,0.98206000000000004,-9.9999999999989355E-4,0.99615999999999816]
[null,14.2,0.98196000000000006,-1.1000000000005489E-3,0.99758000000000746]
[null,14.3,0.98185,-1.1000000000005292E-3,0.99758000000000713]
[null,14.4,0.98173999999999995,-9.9999999999989355E-4,0.99613999999999803]
[null,14.5,0.98163999999999996,-1.0999999999994387E-3,0.99758999999999132]
[null,14.6,0.98153000000000001,-9.9999999999989355E-4,0.99612999999999807]
[null,14.7,0.98143000000000002,-1.1000000000005489E-3,0.9976000000000077]
[null,14.8,0.98131999999999997,-1.0000000000008882E-3,0.99612000000001266]
[null,14.9,0.98121999999999998,-9.9999999999987555E-4,0.99611999999999767]
[null,15,0.98111999999999999,-1.0999999999994387E-3,0.99761999999999107]
[null,15.1,0.98101000000000005,-1.0000000000010036E-3,0.99611000000001471]
[null,15.2,0.98090999999999995,-1.0999999999994387E-3,0.99762999999999091]
[null,15.3,0.98080000000000001,-9.9999999999989355E-4,0.99609999999999788]
[null,15.4,0.98070000000000002,-1.1000000000005292E-3,0.99764000000000763]
[null,15.5,0.98058999999999996,-9.9999999999989355E-4,0.99608999999999781]
[null,15.6,0.98048999999999997,-9.9999999999989355E-4,0.99608999999999781]
[null,15.7,0.98038999999999998,-1.0999999999994387E-3,0.99765999999999055]
[null,15.8,0.98028000000000004,-9.9999999999989355E-4,0.99607999999999786]
[null,15.9,0.98018000000000005,-1.0000000000019984E-3,0.99608000000003127]
[null,16,0.98007999999999995,-9.9999999999987555E-4,0.99607999999999741]
[null,16.100000000000001,0.97997999999999996,-1.099999999999458E-3,0.99768999999999053]
[null,16.2,0.97987000000000002,-9.9999999999987555E-4,0.99606999999999735]
[null,16.3,0.97977000000000003,-9.9999999999987555E-4,0.99606999999999735]
[null,16.399999999999999,0.97967000000000004,-9.999999999999109E-4,0.99606999999999801]
[null,16.5,0.97957000000000005,-1.1000000000005292E-3,0.99772000000000816]
[null,16.600000000000001,0.97946,-9.999999999999109E-4,0.99605999999999795]
[null,16.7,0.97936000000000001,-9.9999999999987555E-4,0.99605999999999728]
[null,16.8,0.97926000000000002,-9.9999999999987555E-4,0.99605999999999728]
[null,16.899999999999999,0.97916000000000003,-1.000000000000906E-3,0.99606000000001471]
[null,17,0.97906000000000004,-9.9999999999987555E-4,0.99605999999999728]
[null,17.100000000000001,0.97896000000000005,-1.1000000000005682E-3,0.99777000000000904]
[null,17.2,0.97885,-9.9999999999987555E-4,0.9960499999999971]
[null,17.3,0.97875000000000001,-9.999999999999109E-4,0.99604999999999777]
[null,17.399999999999999,0.97865000000000002,-9.9999999999987555E-4,0.9960499999999971]
[null,17.5,0.97855000000000003,-9.9999999999987555E-4,0.9960499999999971]
[null,17.600000000000001,0.97845000000000004,-9.999999999999109E-4,0.99604999999999777]
[null,17.7,0.97835000000000005,-1.0000000000009858E-3,0.99605000000001676]
[null,17.8,0.97824999999999995,-9.999999999999109E-4,0.99604999999999766]
[null,17.899999999999999,0.97814999999999996,-9.9999999999987555E-4,0.99604999999999699]
[null,18,0.97804999999999997,-1.000000000000906E-3,0.99605000000001553]
[null,18.100000000000001,0.97794999999999999,-9.9999999999987555E-4,0.99604999999999688]
[null,18.2,0.97785,-1.0999999999994192E-3,0.99786999999998849]
[null,18.3,0.97774000000000005,-1.0000000000010211E-3,0.99604000000001791]
[null,18.399999999999999,0.97763999999999995,-9.9999999999987555E-4,0.99603999999999682]
[null,18.5,0.97753999999999996,-9.999999999999109E-4,0.99603999999999748]
[null,18.600000000000001,0.97743999999999998,-9.9999999999987555E-4,0.99603999999999682]
[null,18.7,0.97733999999999999,-9.9999999999987555E-4,0.99603999999999682]
[null,18.8,0.97724,-9.999999999999109E-4,0.99603999999999748]
[null,18.899999999999999,0.97714000000000001,-9.9999999999987555E-4,0.99603999999999682]
[null,19,0.97704000000000002,-9.999999999999109E-4,0.99603999999999748]
[null,19.100000000000001,0.97694000000000003,-9.9999999999987555E-4,0.99603999999999682]
[null,19.2,0.97684000000000004,-1.000000000000906E-3,0.99604000000001669]
[null,19.3,0.97674000000000005,-1.0000000000009858E-3,0.99604000000001824]
[null,19.399999999999999,0.97663999999999995,-9.9999999999987555E-4,0.99603999999999659]
[null,19.5,0.97653999999999996,-9.999999999999109E-4,0.99603999999999737]
[null,19.600000000000001,0.97643999999999997,-9.9999999999987555E-4,0.99603999999999659]
[null,19.7,0.97633999999999999,-9.999999999999109E-4,0.99603999999999737]
[null,19.8,0.97624,-9.9999999999987555E-4,0.99603999999999659]
[null,19.899999999999999,0.97614000000000001,-9.0000000000033207E-4,0.99405000000000576]
[null,20,0.97604999999999997,-9.999999999999109E-4,0.99604999999999733]
[null,20.100000000000001,0.97594999999999998,-1.0000000000008704E-3,0.99605000000001653]
[null,20.2,0.97585,-9.999999999999109E-4,0.99604999999999722]
[null,20.3,0.97575000000000001,-9.9999999999987555E-4,0.99604999999999644]
[null,20.399999999999999,0.97565000000000002,-9.9999999999987555E-4,0.99604999999999644]
[null,20.5,0.97555000000000003,-9.999999999999109E-4,0.99604999999999722]
[null,20.6,0.97545000000000004,-9.9999999999987555E-4,0.99604999999999644]
[null,20.7,0.97535000000000005,-1.0000000000010211E-3,0.9960500000000202]
[null,20.8,0.97524999999999995,-9.9999999999987555E-4,0.99604999999999633]
[null,20.9,0.97514999999999996,-9.9999999999987555E-4,0.99604999999999633]
[null,21,0.97504999999999997,-9.999999999999109E-4,0.9960499999999971]
[null,21.1,0.97494999999999998,-9.9999999999987555E-4,0.99604999999999633]
[null,21.2,0.97484999999999999,-1.000000000000906E-3,0.9960500000000182]
[null,21.3,0.97475000000000001,-9.9999999999987555E-4,0.99604999999999622]
[null,21.4,0.97465000000000002,-9.999999999999109E-4,0.99604999999999699]
[null,21.5,0.97455000000000003,-9.9999999999987555E-4,0.99604999999999622]
[null,21.6,0.97445000000000004,-9.9999999999987555E-4,0.99604999999999622]
[null,21.7,0.97435000000000005,-1.0000000000010211E-3,0.99605000000002109]
[null,21.8,0.97424999999999995,-9.9999999999987555E-4,0.99604999999999611]
[null,21.9,0.97414999999999996,-9.999999999999109E-4,0.99604999999999688]
[null,22,0.97404999999999997,-9.9999999999987555E-4,0.99604999999999611]
[null,22.1,0.97394999999999998,-9.9999999999987555E-4,0.99604999999999611]
[null,22.2,0.97384999999999999,-9.999999999999109E-4,0.99604999999999688]
[null,22.3,0.97375,-1.0000000000008704E-3,0.99605000000001831]
[null,22.4,0.97365000000000002,-1.1000000000005682E-3,0.99829000000001145]
[null,22.5,0.97353999999999996,-9.9999999999987555E-4,0.99603999999999593]
[null,22.6,0.97343999999999997,-9.999999999999109E-4,0.99603999999999671]
[null,22.7,0.97333999999999998,-9.9999999999987555E-4,0.99603999999999593]
[null,22.8,0.97323999999999999,-9.9999999999987555E-4,0.99603999999999593]
[null,22.9,0.97314000000000001,-9.999999999999109E-4,0.99603999999999682]
[null,23,0.97304000000000002,-9.9999999999987555E-4,0.99603999999999593]
[null,23.1,0.97294000000000003,-9.999999999999109E-4,0.99603999999999682]
[null,23.2,0.97284000000000004,-9.9999999999987555E-4,0.99603999999999593]
[null,23.3,0.97274000000000005,-1.1000000000005292E-3,0.99837000000001108]
[null,23.4,0.97262999999999999,-1.000000000000906E-3,0.99603000000001995]
[null,23.5,0.97253000000000001,-9.9999999999987555E-4,0.99602999999999575]
[null,23.6,0.97243000000000002,-9.999999999999109E-4,0.99602999999999664]
[null,23.7,0.97233000000000003,-9.9999999999987555E-4,0.99602999999999575]
[null,23.8,0.97223000000000004,-1.1000000000005682E-3,0.99841000000001212]
[null,23.9,0.97211999999999998,-1.0999999999994192E-3,0.99840999999998459]
[null,24,0.97201000000000004,-9.9999999999987555E-4,0.99600999999999573]
[null,24.1,0.97191000000000005,-1.0000000000010211E-3,0.99601000000002327]
[null,24.2,0.97180999999999995,-9.9999999999987555E-4,0.99600999999999562]
[null,24.3,0.97170999999999996,-1.099999999999458E-3,0.99843999999998534]
[null,24.4,0.97160000000000002,-9.9999999999987555E-4,0.99599999999999567]
[null,24.5,0.97150000000000003,-1.0000000000008704E-3,0.99600000000002009]
[null,24.6,0.97140000000000004,-1.1000000000005682E-3,0.99846000000001245]
[null,24.7,0.97128999999999999,-9.9999999999987555E-4,0.99598999999999549]
[null,24.8,0.97119,-9.999999999999109E-4,0.99598999999999638]
[null,24.9,0.97109000000000001,-1.1000000000005292E-3,0.99848000000001169]
[null,25,0.97097999999999995,-9.9999999999987555E-4,0.99597999999999542]
[null,25.1,0.97087999999999997,-9.999999999999109E-4,0.99597999999999631]
[null,25.2,0.97077999999999998,-1.0999999999994192E-3,0.99849999999998384]
[null,25.3,0.97067000000000003,-9.999999999999109E-4,0.99596999999999636]
[null,25.4,0.97057000000000004,-1.1000000000005292E-3,0.998510000000012]
[null,25.5,0.97045999999999999,-9.9999999999987555E-4,0.9959599999999954]
[null,25.6,0.97036,-1.1000000000005682E-3,0.99852000000001295]
[null,25.7,0.97024999999999995,-9.9999999999987555E-4,0.99594999999999534]
[null,25.8,0.97014999999999996,-1.099999999999458E-3,0.99852999999998437]
[null,25.9,0.97004000000000001,-9.9999999999987555E-4,0.99593999999999538]
[null,26,0.96994000000000002,-1.1000000000005292E-3,0.9985400000000122]
[null,26.1,0.96982999999999997,-1.099999999999458E-3,0.99853999999998433]
[null,26.2,0.96972000000000003,-9.9999999999987555E-4,0.99591999999999536]
[null,26.3,0.96962000000000004,-1.1000000000005682E-3,0.99855000000001348]
[null,26.4,0.96950999999999998,-9.9999999999987555E-4,0.9959099999999953]
[null,26.5,0.96940999999999999,-1.0999999999994192E-3,0.99855999999998302]
[null,26.6,0.96930000000000005,-1.1000000000005682E-3,0.99856000000001366]
[null,26.7,0.96919,-1.0999999999994192E-3,0.99855999999998302]
[null,26.8,0.96908000000000005,-1.0000000000010211E-3,0.99588000000002608]
[null,26.9,0.96897999999999995,-1.0999999999994192E-3,0.99856999999998286]
[null,27,0.96887000000000001]

{"sheet":"様式","index":3,"n_rows":80,"n_cols":118,"rows_kept":80,"cut":false,"hidden":false,"merged":[[70,2,70,3],[71,1,71,3],[73,1,73,3],[74,1,74,3],[63,1,63,3],[63,82,63,86],[63,87,63,89],[64,1,64,3],[65,1,70,1],[65,2,65,3],[66,2,66,3],[67,2,67,3],[68,2,68,3],[69,2,69,3],[61,87,61,89],[61,92,61,96],[61,97,61,99],[62,1,62,3],[62,82,62,86],[62,87,62,89],[59,87,59,89],[59,92,59,96],[59,97,59,99],[60,1,60,3],[60,65,62,67],[60,68,62,79],[60,82,60,86],[60,87,60,89],[60,92,60,96],[60,97,60,99],[59,1,59,3],[59,65,59,67],[59,68,59,69],[59,72,59,74],[59,75,59,77],[59,78,59,79],[59,82,59,86],[61,1,61,3],[61,82,61,86],[57,92,57,96],[57,97,57,99],[58,1,58,3],[58,65,58,67],[58,68,58,69],[58,70,58,71],[58,72,58,74],[58,75,58,77],[58,78,58,79],[58,82,58,86],[58,87,58,89],[58,92,58,96],[58,97,58,99],[56,97,56,99],[57,1,57,3],[57,65,57,67],[57,68,57,69],[57,70,57,71],[57,72,57,74],[57,75,57,77],[57,78,57,79],[57,82,57,86],[57,87,57,89],[56,72,56,74],[56,75,56,77],[56,78,56,79],[56,82,56,86],[56,87,56,89],[56,92,56,96],[55,81,63,81],[55,82,55,86],[55,87,55,89],[55,92,55,96],[55,97,55,99],[56,1,56,3],[56,64,62,64],[56,65,56,67],[56,68,56,69],[56,70,56,71],[55,1,55,3],[55,64,55,67],[55,68,55,71],[55,72,55,74],[55,75,55,77],[55,78,55,79],[54,1,54,3],[54,64,54,67],[54,68,54,71],[54,72,54,74],[54,75,54,77],[54,78,54,79],[52,78,52,79],[53,64,53,67],[53,68,53,71],[53,72,53,74],[53,75,53,77],[53,78,53,79],[51,60,53,60],[51,64,51,67],[51,68,51,71],[51,72,51,74],[51,75,51,77],[51,78,51,79],[52,64,52,67],[52,68,52,71],[52,72,52,74],[52,75,52,77],[51,54,53,54],[51,55,53,55],[51,56,53,56],[51,57,53,57],[51,58,53,58],[51,59,53,59],[51,48,53,48],[51,49,53,49],[51,50,53,50],[51,51,53,51],[51,52,53,52],[51,53,53,53],[51,42,53,42],[51,43,53,43],[51,44,53,44],[51,45,53,45],[51,46,53,46],[51,47,53,47],[51,36,53,36],[51,37,53,37],[51,38,53,38],[51,39,53,39],[51,40,53,40],[51,41,53,41],[51,33,53,33],[51,34,53,34],[51,35,53,35],[51,24,53,24],[51,25,53,25],[51,26,53,26],[51,27,53,27],[51,28,53,28],[51,29,53,29],[49,64,49,67],[49,68,49,71],[49,72,49,74],[49,75,49,77],[49,78,49,79],[50,64,50,67],[50,68,50,71],[50,72,50,74],[50,75,50,77],[51,4,53,4],[51,5,53,5],[51,6,53,6],[51,7,53,7],[51,8,53,8],[51,9,53,9],[51,10,53,10],[51,11,53,11],[49,63,62,63],[51,18,53,18],[51,19,53,19],[51,20,53,20],[51,21,53,21],[51,22,53,22],[51,23,53,23],[51,12,53,12],[51,13,53,13],[51,14,53,14],[51,15,53,15],[51,16,53,16],[51,17,53,17],[51,30,53,30],[51,31,53,31],[51,32,53,32],[45,101,54,102],[45,103,54,104],[46,1,46,3],[46,64,46,67],[46,68,46,69],[46,72,46,74],[46,75,46,77],[45,82,54,84],[45,85,54,86],[45,87,54,88],[45,89,54,90],[45,91,54,92],[45,93,54,94],[46,78,46,79],[47,64,47,67],[47,68,47,69],[47,72,47,74],[47,75,47,77],[47,78,47,79],[45,95,54,96],[45,97,54,98],[45,99,54,100],[50,78,50,79],[51,1,53,3],[45,1,45,3],[45,72,45,74],[45,75,45,77],[45,78,45,79],[44,1,44,3],[44,63,48,63],[44,64,45,67],[44,68,45,69],[44,70,47,71],[44,72,44,74],[48,64,48,67],[48,68,48,69],[48,70,48,71],[48,72,48,74],[43,1,43,3],[43,64,43,67],[43,68,43,69],[43,70,43,71],[43,72,43,73],[43,74,43,75],[42,1,42,3],[42,64,42,67],[42,68,42,69],[42,70,42,71],[42,72,42,73],[42,74,42,75],[40,99,44,100],[40,74,40,75],[40,76,40,77],[40,78,40,79],[40,82,44,84],[40,85,44,86],[40,87,44,88],[42,76,42,77],[42,78,42,79],[44,75,44,77],[44,78,44,79],[41,72,41,73],[41,74,41,75],[41,76,41,77],[41,78,41,79],[40,89,44,90],[40,91,44,92],[40,93,44,94],[40,95,44,96],[40,97,44,98],[43,76,43,77],[43,78,43,79],[39,95,39,96],[39,97,39,98],[39,99,39,100],[39,101,39,102],[39,103,39,104],[40,1,40,3],[40,64,40,67],[40,68,40,69],[40,70,40,71],[40,72,40,73],[39,82,39,84],[39,85,39,86],[39,87,39,88],[39,89,39,90],[39,91,39,92],[39,93,39,94],[40,101,44,102],[40,103,44,104],[41,1,41,3],[41,64,41,67],[41,68,41,69],[41,70,41,71],[38,101,38,102],[38,103,38,104],[39,1,39,3],[39,64,39,67],[39,68,39,69],[39,70,39,71],[39,72,39,73],[39,74,39,75],[39,76,39,77],[39,78,39,79],[38,89,38,90],[38,91,38,92],[38,93,38,94],[38,95,38,96],[38,97,38,98],[38,99,38,100],[38,1,38,3],[38,64,38,66],[38,78,38,79],[38,82,38,84],[38,85,38,86],[38,87,38,88],[37,93,37,94],[37,95,37,96],[37,97,37,98],[37,99,37,100],[37,101,37,102],[37,103,37,104],[36,101,36,102],[36,103,36,104],[37,1,37,3],[37,64,37,66],[37,78,37,79],[37,82,37,84],[37,85,37,86],[37,87,37,88],[37,89,37,90],[37,91,37,92],[36,89,36,90],[36,91,36,92],[36,93,36,94],[36,95,36,96],[36,97,36,98],[36,99,36,100],[35,97,35,98],[35,99,35,100],[35,101,35,102],[35,103,35,104],[36,1,36,3],[36,64,36,66],[36,78,36,79],[36,82,36,84],[36,85,36,86],[36,87,36,88],[35,85,35,86],[35,87,35,88],[35,89,35,90],[35,91,35,92],[35,93,35,94],[35,95,35,96],[34,103,34,104],[35,1,35,3],[35,64,35,67],[35,68,35,69],[35,70,35,71],[35,72,35,73],[35,74,35,75],[35,76,35,77],[35,78,35,79],[35,82,35,84],[34,91,34,92],[34,93,34,94],[34,95,34,96],[34,97,34,98],[34,99,34,100],[34,101,34,102],[34,76,34,77],[34,78,34,79],[34,82,34,84],[34,85,34,86],[34,87,34,88],[34,89,34,90],[34,1,34,3],[34,64,34,67],[34,68,34,69],[34,70,34,71],[34,72,34,73],[34,74,34,75],[33,93,33,94],[33,95,33,96],[33,97,33,98],[33,99,33,100],[33,101,33,102],[33,103,33,104],[33,78,33,79],[33,82,33,84],[33,85,33,86],[33,87,33,88],[33,89,33,90],[33,91,33,92],[32,99,32,100],[32,101,32,102],[32,103,32,104],[32,91,32,92],[32,93,32,94],[32,95,32,96],[32,97,32,98],[33,1,33,3],[33,64,33,67],[33,68,33,69],[33,70,33,71],[33,72,33,73],[33,74,33,75],[33,76,33,77],[32,87,32,88],[32,89,32,90],[32,72,32,73],[32,74,32,75],[32,76,32,77],[32,78,32,79],[32,82,32,84],[32,85,32,86],[32,1,32,3],[32,8,32,9],[32,10,32,11],[32,64,32,67],[32,68,32,69],[32,70,32,71],[31,93,31,94],[31,95,31,96],[31,97,31,98],[31,99,31,100],[31,101,31,102],[31,103,31,104],[31,78,31,79],[31,82,31,84],[31,85,31,86],[31,87,31,88],[31,89,31,90],[31,91,31,92],[31,1,31,3],[31,4,31,5],[31,6,31,7],[31,8,31,9],[31,10,31,11],[30,82,30,84],[30,85,30,86],[30,87,30,88],[30,89,30,90],[31,64,31,67],[31,68,31,69],[31,70,31,71],[31,72,31,73],[31,74,31,75],[31,76,31,77],[29,103,29,104],[30,64,30,67],[30,68,30,69],[30,70,30,71],[30,72,30,73],[30,74,30,75],[30,76,30,77],[30,78,30,79],[29,87,29,88],[29,89,29,90],[29,91,29,92],[29,93,29,94],[29,95,29,96],[29,97,29,98],[30,101,30,102],[30,103,30,104],[30,91,30,92],[30,93,30,94],[30,95,30,96],[30,97,30,98],[30,99,30,100],[28,3,29,3],[28,64,28,67],[28,82,28,84],[28,85,28,86],[28,87,28,88],[28,89,28,90],[28,103,28,104],[29,63,43,63],[29,68,29,69],[29,70,29,71],[29,72,29,73],[29,74,29,75],[29,76,29,77],[29,78,29,79],[29,82,29,84],[29,85,29,86],[28,91,28,92],[28,93,28,94],[28,95,28,96],[28,97,28,98],[28,99,28,100],[28,101,28,102],[29,99,29,100],[29,101,29,102],[26,85,26,86],[26,87,26,88],[26,101,26,102],[26,103,26,104],[27,64,27,67],[27,82,27,84],[27,85,27,86],[27,87,27,88],[27,89,27,90],[27,91,27,92],[27,93,27,94],[27,95,27,96],[26,89,26,90],[26,91,26,92],[26,93,26,94],[26,95,26,96],[26,97,26,98],[26,99,26,100],[27,97,27,98],[27,99,27,100],[27,101,27,102],[27,103,27,104],[24,103,24,104],[25,64,25,67],[25,82,25,84],[25,85,25,86],[25,87,25,88],[25,89,25,90],[25,91,25,92],[25,93,25,94],[24,87,24,88],[24,89,24,90],[24,91,24,92],[24,93,24,94],[24,95,24,96],[24,97,24,98],[25,95,25,96],[25,97,25,98],[25,99,25,100],[25,101,25,102],[25,103,25,104],[24,85,24,86],[23,64,23,67],[23,82,23,84],[23,85,23,86],[23,87,23,88],[23,89,23,90],[23,91,23,92],[24,99,24,100],[24,101,24,102],[22,97,22,98],[22,99,22,100],[22,101,22,102],[21,97,21,98],[21,99,21,100],[21,101,21,102],[23,93,23,94],[23,95,23,96],[23,97,23,98],[23,99,23,100],[23,101,23,102],[22,89,22,90],[21,85,21,86],[21,87,21,88],[21,89,21,90],[21,91,21,92],[21,93,21,94],[21,95,21,96],[22,91,22,92],[22,93,22,94],[22,95,22,96],[19,103,19,104],[20,3,21,3],[20,64,20,67],[20,89,20,90],[20,93,20,94],[20,97,20,102],[20,103,20,104],[21,64,21,67],[21,81,54,81],[21,82,21,84],[19,82,20,84],[19,89,19,90],[19,91,20,92],[19,93,19,94],[19,95,20,96],[19,97,19,102],[19,11,20,11],[19,64,19,67],[21,103,23,104],[22,3,23,3],[22,64,22,67],[22,82,22,84],[22,85,22,86],[22,87,22,88],[13,99,18,100],[13,101,18,102],[13,103,18,104],[14,3,15,3],[14,11,15,11],[14,64,14,67],[15,64,15,67],[16,3,17,3],[16,64,16,67],[17,64,17,67],[13,87,18,88],[13,89,18,90],[13,91,18,92],[13,93,18,94],[13,95,18,96],[13,97,18,98],[12,3,13,3],[12,64,12,67],[12,82,12,84],[13,64,13,67],[13,82,18,84],[13,85,18,86],[18,3,19,3],[18,64,18,67],[7,82,7,84],[8,1,8,2],[8,68,8,71],[8,72,8,75],[8,76,8,79],[9,11,10,11],[9,68,9,71],[9,72,9,75],[9,76,9,79],[9,82,9,84],[10,63,28,63],[10,68,10,71],[10,72,10,75],[10,76,11,76],[10,79,11,79],[10,82,10,84],[11,82,11,84],[24,3,25,3],[24,11,25,11],[24,64,24,67],[24,82,24,84],[26,3,27,3],[26,64,26,67],[26,82,26,84],[6,1,6,2],[6,63,9,63],[6,68,6,71],[6,72,6,75],[6,76,6,79],[7,1,7,2],[7,64,9,67],[7,68,7,71],[7,72,7,75],[7,76,7,79],[4,87,4,88],[4,89,4,90],[4,103,4,104],[5,1,5,2],[5,64,5,67],[5,76,5,79],[5,82,5,84],[5,85,5,86],[5,87,5,88],[5,89,5,90],[5,91,5,92],[5,93,5,94],[4,91,4,92],[4,93,4,94],[4,95,4,96],[4,97,4,98],[4,99,4,100],[4,101,4,102],[5,95,5,96],[5,97,5,98],[5,99,5,100],[5,101,5,102],[5,103,5,104],[1,82,1,84],[1,85,3,86],[1,87,3,88],[1,89,3,90],[6,82,6,84],[8,82,8,84],[2,103,2,104],[3,1,3,2],[3,64,3,67],[3,76,3,79],[3,82,3,84],[3,91,3,92],[3,93,3,94],[3,95,3,96],[3,97,3,98],[3,99,3,100],[3,101,3,102],[3,103,3,104],[4,1,4,2],[4,11,5,11],[4,64,4,67],[4,76,4,79],[4,82,4,84],[4,85,4,86],[0,2,0,3],[0,8,0,11],[0,16,0,17],[0,23,0,25],[0,30,0,32],[1,63,5,63],[1,103,1,104],[2,64,2,67],[2,76,2,79],[2,82,2,84],[2,91,2,92],[2,93,2,94],[2,95,2,96],[2,97,2,98],[2,99,2,100],[2,101,2,102],[1,91,1,92],[1,93,1,94],[1,95,1,96],[1,97,1,98],[1,99,1,100],[1,101,1,102],[1,76,1,79],[1,81,20,81]]}
[null,"仕込",null,null,"号",null,"原料米",null,null,null,null,null,null,"精米歩合",null,null,null,null,"％",null,"特定名称等",null,null,null,null,null,null,null,"酵母"]
[null,null,null,null,null,null,null,null,null,null,null,null,null,null,null,null,null,null,null,null,null,null,null,null,null,null,null,null,null,null,null,null,null,null,null,null,null,null,null,null,null,null,null,null,null,null,null,null,null,null,null,null,null,null,null,null,null,null,null,null,null,null,null,"仕込配合",null,null,null,null,"酒母","添","仲","留","追水","四段",null,null,"合計",null,null,null,null,"仕込／添加／上槽前後","区分",null,null,"添",null,"仲",null,"留",null,"上槽",null,"※選択",null,"※選択",null,"※選択",null,"※選択",null,"※選択",null,"※選択"]
[null,null,null,null,null,null,null,null,null,null,null,90,null,null,null,null,null,null,null,null,null,null,null,null,null,null,null,null,null,null,null,null,null,null,null,null,null,null,null,null,null,null,null,null,null,null,null,null,null,null,null,null,null,null,null,null,null,null,null,null,null,null,null,null,"総米(kg)",null,null,null,{"$f":"IF(BQ5=\"\",\"-\",BQ4+BQ5)","v":"-"},{"$f":"IF(BR5=\"\",\"-\",BR4+BR5)","v":"-"},"-","-",null,{"$f":"IF(BV5=\"\",\"-\",BV4+BV5)","v":"-"},null,null,{"$f":"SUM(BQ3:BX3)","v":0},null,null,null,null,null,"添加ｱﾙｺｰﾙ分(%)"]
[null,null,null,"酒母","添","仲","留","四段","合計",null,null,null,null,null,null,null,null,null,null,null,null,null,null,null,null,null,null,null,null,null,null,null,null,null,null,null,null,null,null,null,null,null,null,null,null,null,null,null,null,null,null,null,null,null,null,null,null,null,null,null,null,null,null,null,"掛米(kg)",null,null,null,null,null,null,null,null,null,null,null,{"$f":"SUM(BQ4:BX4)","v":0},null,null,null,null,null,"添加数量(kg、L)"]
[null,"麹歩合",null,{"$f":"IFERROR(BQ$5/BQ$3*100,\"-\")","v":"-"},{"$f":"IFERROR(BR$5/BR$3*100,\"-\")","v":"-"},{"$f":"IFERROR(BS$5/BS$3*100,\"-\")","v":"-"},{"$f":"IFERROR(BT$5/BT$3*100,\"-\")","v":"-"},"-",{"$f":"IFERROR(BY$5/BY$3*100,\"-\")","v":"-"},null,null,80,null,null,null,null,null,null,null,null,null,null,null,null,null,null,null,null,null,null,null,null,null,null,null,null,null,null,null,null,null,null,null,null,null,null,null,null,null,null,null,null,null,null,null,null,null,null,null,null,null,null,null,null,"麹米(kg)",null,null,null,null,null,null,null,null,null,null,null,0,null,null,null,null,null,"月日",null,null,{"$f":"E33","v":"00:00:00"},null,{"$f":"I33","v":"00:00:00"},null,{"$f":"K33","v":"00:00:00"}]
[null,"配合比",null,{"$f":"IFERROR(BQ$3/$BY$3*100,\"-\")","v":"-"},{"$f":"IFERROR(BR$3/$BY$3*100,\"-\")","v":"-"},{"$f":"IFERROR(BS$3/$BY$3*100,\"-\")","v":"-"},{"$f":"IFERROR(BT$3/$BY$3*100,\"-\")","v":"-"},{"$f":"IFERROR(BV3/BY3*100,\"-\")","v":"-"},null,null,null,null,null,null,null,null,null,null,null,null,null,null,null,null,null,null,null,null,null,null,null,null,null,null,null,null,null,null,null,null,null,null,null,null,null,null,null,null,null,null,null,null,null,null,null,null,null,null,null,null,null,null,null,null,"汲水(L)",null,null,null,null,null,null,null,{"$f":"SUM(M47:BI47)","v":0},null,null,null,{"$f":"SUM(BQ6:BX6)","v":0},null,null,null,null,null,"容器番号"]
[null,"添：仲：留",null,null,1,{"$f":"IFERROR(F6/$E6,\"-\")","v":"-"},{"$f":"IFERROR(G6/$E6,\"-\")","v":"-"},null,null,null,null,null,null,null,null,null,null,null,null,null,null,null,null,null,null,null,null,null,null,null,null,null,null,null,null,null,null,null,null,null,null,null,null,null,null,null,null,null,null,null,null,null,null,null,null,null,null,null,null,null,null,null,null,"水",null,null,null,null,"物品名",null,null,null,"使用量(g)",null,null,null,"1000L当り使用量(g)",null,null,null,null,null,"添加前後",null,null,"前","後","前","後","前","後","前","後","前","後","前","後","前","後","前","後","前","後","前","後"]
[null,"汲水歩合",null,{"$f":"IFERROR(BQ$6/BQ$3*100,\"-\")","v":"-"},{"$f":"IFERROR(BR$6/BR$3*100,\"-\")","v":"-"},{"$f":"IFERROR(BS$6/BS$3*100,\"-\")","v":"-"},{"$f":"IFERROR(BT$6/BT$3*100,\"-\")","v":"-"},{"$f":"IFERROR(BU$6/BU$3*100,\"-\")","v":"-"},{"$f":"IFERROR($BY$6/$BY$3*100,\"-\")","v":"-"},null,null,70,null,null,null,null,null,null,null,null,null,null,null,null,null,null,null,null,null,null,null,null,null,null,null,null,null,null,null,null,null,null,null,null,null,null,null,null,null,null,null,null,null,null,null,null,null,null,null,null,null,null,null,null,"加工剤",null,null,null,null,null,null,null,null,null,null,null,null,null,null,null,null,null,"深"]
[null,"原料由来水(kg)",null,{"$f":"IFERROR(BQ35*BQ36/100+BU27*BU29/100,IFERROR(BU27*BU29/100+BQ19*BQ18/100,\"-\"))","v":"-"},{"$f":"IFERROR(BS35*BS36/100+BV27*BV29/100,IFERROR(BV27*BV29/100+BR19*BR18/100,\"-\"))","v":"-"},{"$f":"IFERROR(BU35*BU36/100+BW27*BW29/100,IFERROR(BW27*BW29/100+BS19*BS18/100,\"-\"))","v":"-"},{"$f":"IFERROR(BW35*BW36/100+BX27*BX29/100,IFERROR(BX27*BX29/100+BT19*BT18/100,\"-\"))","v":"-"},{"$f":"IFERROR(BY35*BY36/100+BY27*BY29/100,IFERROR(BY27*BY29/100+BY19*BY18/100,\"-\"))","v":"-"},{"$f":"IF(OR(D9=\"-\",E9=\"-\",F9=\"-\",G9=\"-\"),\"-\",SUM(D9:H9))","v":"-"},null,null,null,null,null,null,null,null,null,null,null,null,null,null,null,null,null,null,null,null,null,null,null,null,null,null,null,null,null,null,null,null,null,null,null,null,null,null,null,null,null,null,null,null,null,null,null,null,null,null,null,null,null,null,null,null,null,null,null,null,null,null,null,null,null,null,null,null,null,null,null,null,null,"数量(L)"]
[null,null,null,null,null,null,null,null,null,null,null,60,null,null,null,null,null,null,null,null,null,null,null,null,null,null,null,null,null,null,null,null,null,null,null,null,null,null,null,null,null,null,null,null,null,null,null,null,null,null,null,null,null,null,null,null,null,null,null,null,null,null,null,null,null,null,null,null,null,null,null,null,null,null,null,null,null,null,null,null,null,null,"品温(℃)"]
[null,null,null,null,null,null,null,null,null,null,null,null,null,null,null,null,null,null,null,null,null,null,null,null,null,null,null,null,null,null,null,null,null,null,null,null,null,null,null,null,null,null,null,null,null,null,null,null,null,null,null,null,null,null,null,null,null,null,null,null,null,null,null,"原料米",null,null,null,null,"麹米",null,null,null,"掛米",null,null,null,"四段",null,null,"合計",null,null,"ｱﾙｺｰﾙ分(%)"]
[null,null,null,null,null,null,null,null,null,null,null,null,null,null,null,null,null,null,null,null,null,null,null,null,null,null,null,null,null,null,null,null,null,null,null,null,null,null,null,null,null,null,null,null,null,null,null,null,null,null,null,null,null,null,null,null,null,null,null,null,null,null,null,null,null,null,null,null,"酒母","添","仲","留","酒母","添","仲","留",null,null,null,null,null,null,"日本酒度"]
[null,null,null,20,null,null,null,null,null,null,null,50,null,null,null,null,null,null,null,null,null,null,null,null,null,null,null,null,null,null,null,null,null,null,null,null,null,null,null,null,null,null,null,null,null,null,null,null,null,null,null,null,null,null,null,null,null,null,null,null,null,null,null,null,"品種",null,null,null,null,null,null,null,null,null,null,null,null,null,null,"-",null,null,"純ｱﾙｺｰﾙ数量(L)",null,null,{"$f":"IF(OR(CH9=\"\",CH11=\"\"),\"-\",CH9*CH11/100)","v":"-"},{"$f":"IF(OR(CI9=\"\",CI11=\"\"),\"-\",CI9*CI11/100)","v":"-"},"-","-","-","-","-","-","-","-","-","-","-","-","-","-","-","-","-","-"]
[null,null,null,null,null,null,null,null,null,null,null,null,null,null,null,null,null,null,null,null,null,null,null,null,null,null,null,null,null,null,null,null,null,null,null,null,null,null,null,null,null,null,null,null,null,null,null,null,null,null,null,null,null,null,null,null,null,null,null,null,null,null,null,null,"産地",null,null,null,null,null,null,null,null,null,null,null,null,null,null,"-",null,null,"メモ"]
[null,null,null,18,null,null,null,null,null,null,null,40,null,null,null,null,null,null,null,null,null,null,null,null,null,null,null,null,null,null,null,null,null,null,null,null,null,null,null,null,null,null,null,null,null,null,null,null,null,null,null,null,null,null,null,null,null,null,null,null,null,null,null,null,"等級",null,null,null,null,null,null,null,null,null,null,null,null,null,null,"-"]
[null,null,null,null,null,null,null,null,null,null,null,null,null,null,null,null,null,null,null,null,null,null,null,null,null,null,null,null,null,null,null,null,null,null,null,null,null,null,null,null,null,null,null,null,null,null,null,null,null,null,null,null,null,null,null,null,null,null,null,null,null,null,null,null,"精米形状",null,null,null,null,null,null,null,null,null,null,null,null,null,null,"-"]
[null,null,null,16,null,null,null,null,null,null,null,null,null,null,null,null,null,null,null,null,null,null,null,null,null,null,null,null,null,null,null,null,null,null,null,null,null,null,null,null,null,null,null,null,null,null,null,null,null,null,null,null,null,null,null,null,null,null,null,null,null,null,null,null,"精米歩合(%)",null,null,null,null,null,null,null,null,null,null,null,null,null,null,"-"]
[null,null,null,null,null,null,null,null,null,null,null,30,null,null,null,null,null,null,null,null,null,null,null,null,null,null,null,null,null,null,null,null,null,null,null,null,null,null,null,null,null,null,null,null,null,null,null,null,null,null,null,null,null,null,null,null,null,null,null,null,null,null,null,null,"白米水分(%)",null,null,null,null,null,null,null,null,null,null,null,null,null,null,"-"]
[null,null,null,14,null,null,null,null,null,null,null,null,null,null,null,null,null,null,null,null,null,null,null,null,null,null,null,null,null,null,null,null,null,null,null,null,null,null,null,null,null,null,null,null,null,null,null,null,null,null,null,null,null,null,null,null,null,null,null,null,null,null,null,null,"白米重量(kg)",null,null,null,null,null,null,null,null,null,null,null,null,null,null,{"$f":"SUM(BQ19:CA19)","v":0}]
[null,null,null,null,null,null,null,null,null,null,null,20,null,null,null,null,null,null,null,null,null,null,null,null,null,null,null,null,null,null,null,null,null,null,null,null,null,null,null,null,null,null,null,null,null,null,null,null,null,null,null,null,null,null,null,null,null,null,null,null,null,null,null,null,"白米乾物重量(kg)",null,null,null,{"$f":"IF(OR(BQ19=\"\",BQ18=\"\"),\"-\",BQ19*(100-BQ18)/100)","v":"-"},{"$f":"IF(OR(BR19=\"\",BR18=\"\"),\"-\",BR19*(100-BR18)/100)","v":"-"},"-","-","-","-","-","-",{"$f":"IF(OR(BY19=\"\",BY18=\"\"),\"-\",BY19*(100-BY18)/100)","v":"-"},{"$f":"IF(OR(BZ19=\"\",BZ18=\"\"),\"-\",BZ19*(100-BZ18)/100)","v":"-"},"-",{"$f":"SUM(BQ20:CA20)","v":0},null,null,"合併製成もろみ",null,null,"仕込","自第",null,"号","もろみ",null,null,null,"純ｱﾙｺｰﾙ",null,null,null,"上槽数量合計(L)",null,null,null,null,null,{"$f":"IF(CN2=\"上槽\",CN9-CO9,0)+IF(CP2=\"上槽\",CP9-CQ9,0)+IF(CR2=\"上槽\",CR9-CS9,0)+IF(CT2=\"上槽\",CT9-CU9,0)+IF(CV2=\"上槽\",CV9-CW9,0)+IF(CX2=\"上槽\",CX9-CY9,0)+IF(CZ2=\"上槽\",CZ9-DA9,0)","v":0}]
[null,null,null,12,null,null,null,null,null,null,null,null,null,null,null,null,null,null,null,null,null,null,null,null,null,null,null,null,null,null,null,null,null,null,null,null,null,null,null,null,null,null,null,null,null,null,null,null,null,null,null,null,null,null,null,null,null,null,null,null,null,null,null,null,"白米由来水重量(kg)",null,null,null,{"$f":"IF(OR(BQ18=\"\",BQ19=\"\"),\"-\",BQ19-BQ20)","v":"-"},{"$f":"IF(OR(BR18=\"\",BR19=\"\"),\"-\",BR19-BR20)","v":"-"},"-","-","-","-","-","-","-","-","-",{"$f":"SUM(BQ21:CA21)","v":0},null,null,null,null,null,"順号","至第",null,"号","数量(L)",null,null,null,"数量(L)",null,null,null,"上槽純ｱﾙｺｰﾙ数量合計(L)",null,null,null,null,null,{"$f":"IF(CN2=\"上槽\",CN13-CO13,0)+IF(CP2=\"上槽\",CP13-CQ13,0)+IF(CR2=\"上槽\",CR13-CS13,0)+IF(CT2=\"上槽\",CT13-CU13,0)+IF(CV2=\"上槽\",CV13-CW13,0)+IF(CX2=\"上槽\",CX13-CY13,0)+IF(CZ2=\"上槽\",CZ13-DA13,0)","v":{"$error":"#VALUE!"}}]
[null,null,null,null,null,null,null,null,null,null,null,null,null,null,null,null,null,null,null,null,null,null,null,null,null,null,null,null,null,null,null,null,null,null,null,null,null,null,null,null,null,null,null,null,null,null,null,null,null,null,null,null,null,null,null,null,null,null,null,null,null,null,null,null,"浸漬水温(℃)",null,null,null,null,null,null,null,null,null,null,null,null,null,null,"-",null,"製成","月日",null,null,null,null,null,null,null,null,null,null,null,null,null,null,null,null,null,null,null,null,"計"]
[null,null,null,10,null,null,null,null,null,null,null,10,null,null,null,null,null,null,null,null,null,null,null,null,null,null,null,null,null,null,null,null,null,null,null,null,null,null,null,null,null,null,null,null,null,null,null,null,null,null,null,null,null,null,null,null,null,null,null,null,null,null,null,null,"浸漬時間(min)",null,null,null,null,null,null,null,null,null,null,null,null,null,null,"-",null,null,"容器番号"]
[null,null,null,null,null,null,null,null,null,null,null,null,null,null,null,null,null,null,null,null,null,null,null,null,null,null,null,null,null,null,null,null,null,null,null,null,null,null,null,null,null,null,null,null,null,null,null,null,null,null,null,null,null,null,null,null,null,null,null,null,null,null,null,null,"浸漬後重量(kg)",null,null,null,null,null,null,null,null,null,null,null,null,null,null,{"$f":"SUM(BQ24:CA24)","v":0},null,null,"深"]
[null,null,null,8,null,null,null,null,null,null,null,0,null,null,null,null,null,null,null,null,null,null,null,null,null,null,null,null,null,null,null,null,null,null,null,null,null,null,null,null,null,null,null,null,null,null,null,null,null,null,null,null,null,null,null,null,null,null,null,null,null,null,null,null,"浸漬米吸水率(%)",null,null,null,{"$f":"IF(OR(BQ24=\"\",BQ19=\"\"),\"-\",BQ24/BQ19*100)","v":"-"},{"$f":"IF(OR(BR24=\"\",BR19=\"\"),\"-\",BR24/BR19*100)","v":"-"},"-","-","-","-","-","-","-","-","-","-",null,null,"数量(L)",null,null,null,null,null,null,null,null,null,null,null,null,null,null,null,null,null,null,null,null,{"$f":"IF(SUM(CH25:CQ25)=0,\"-\",SUM(CH25:CQ25))","v":"-"}]
[null,null,null,null,null,null,null,null,null,null,null,null,null,null,null,null,null,null,null,null,null,null,null,null,null,null,null,null,null,null,null,null,null,null,null,null,null,null,null,null,null,null,null,null,null,null,null,null,null,null,null,null,null,null,null,null,null,null,null,null,null,null,null,null,"浸漬後水分(%)",null,null,null,{"$f":"IF(OR(BQ24=\"\",BQ19=\"\",BQ18=\"\"),\"-\",(BQ24-BQ19*(100-BQ18)/100)/BQ24*100)","v":"-"},{"$f":"IF(OR(BR24=\"\",BR19=\"\",BR18=\"\"),\"-\",(BR24-BR19*(100-BR18)/100)/BR24*100)","v":"-"},"-","-","-","-","-","-","-","-","-","-",null,null,"品温(℃)",null,null,null,null,null,null,null,null,null,null,null,null,null,null,null,null,null,null,null,null,"-"]
[null,null,null,6,null,null,null,null,null,null,null,null,null,null,null,null,null,null,null,null,null,null,null,null,null,null,null,null,null,null,null,null,null,null,null,null,null,null,null,null,null,null,null,null,null,null,null,null,null,null,null,null,null,null,null,null,null,null,null,null,null,null,null,null,"蒸米さらし後重量(kg)",null,null,null,null,null,null,null,null,null,null,null,null,null,null,{"$f":"SUM(BQ27:CA27)","v":0},null,null,"ｱﾙｺｰﾙ分(%)",null,null,null,null,null,null,null,null,null,null,null,null,null,null,null,null,null,null,null,null,"-"]
[null,null,null,null,null,null,null,null,null,null,null,-10,null,null,null,null,null,null,null,null,null,null,null,null,null,null,null,null,null,null,null,null,null,null,null,null,null,null,null,null,null,null,null,null,null,null,null,null,null,null,null,null,null,null,null,null,null,null,null,null,null,null,null,null,"蒸米さらし後吸水率(%)",null,null,null,{"$f":"IF(OR(BQ27=\"\",BQ19=\"\"),\"-\",BQ27/BQ19*100)","v":"-"},"-",{"$f":"IF(OR(BS27=\"\",BS19=\"\"),\"-\",BS27/BS19*100)","v":"-"},"-","-","-","-","-","-","-","-","-",null,null,"日本酒度",null,null,null,null,null,null,null,null,null,null,null,null,null,null,null,null,null,null,null,null,"-"]
[null,null,null,4,null,null,null,null,null,null,null,null,null,null,null,null,null,null,null,null,null,null,null,null,null,null,null,null,null,null,null,null,null,null,null,null,null,null,null,null,null,null,null,null,null,null,null,null,null,null,null,null,null,null,null,null,null,null,null,null,null,null,null,null,"蒸米さらし後水分(%)",null,null,null,{"$f":"IF(OR(BQ27=\"\",BQ19=\"\",BQ18=\"\"),\"-\",(BQ27-BQ19*(100-BQ18)/100)/BQ27*100)","v":"-"},"-",{"$f":"IF(OR(BS27=\"\",BS19=\"\",BS18=\"\"),\"-\",(BS27-BS19*(100-BS18)/100)/BS27*100)","v":"-"},"-","-","-","-","-","-","-","-","-",null,null,"純ｱﾙｺｰﾙ数量(L)",null,null,{"$f":"IF(OR(CH25=\"\",CH27=\"\"),\"-\",CH25*CH27/100)","v":"-"},null,{"$f":"IF(OR(CJ25=\"\",CJ27=\"\"),\"-\",CJ25*CJ27/100)","v":"-"},null,{"$f":"IF(OR(CL25=\"\",CL27=\"\"),\"-\",CL25*CL27/100)","v":"-"},null,{"$f":"IF(OR(CN25=\"\",CN27=\"\"),\"-\",CN25*CN27/100)","v":"-"},null,{"$f":"IF(OR(CP25=\"\",CP27=\"\"),\"-\",CP25*CP27/100)","v":"-"},null,{"$f":"IF(OR(CR25=\"\",CR27=\"\"),\"-\",CR25*CR27/100)","v":"-"},null,{"$f":"IF(OR(CT25=\"\",CT27=\"\"),\"-\",CT25*CT27/100)","v":"-"},null,{"$f":"IF(OR(CV25=\"\",CV27=\"\"),\"-\",CV25*CV27/100)","v":"-"},null,{"$f":"IF(OR(CX25=\"\",CX27=\"\"),\"-\",CX25*CX27/100)","v":"-"},null,{"$f":"IF(SUM(CH29:CQ29)=0,\"-\",SUM(CH29:CQ29))","v":"-"}]
[null,null,null,null,null,null,null,null,null,null,null,null,null,null,null,null,null,null,null,null,null,null,null,null,null,null,null,null,null,null,null,null,null,null,null,null,null,null,null,null,null,null,null,null,null,null,null,null,null,null,null,null,null,null,null,null,null,null,null,null,null,null,null,"麹",null,null,null,null,"酒母",null,"添",null,"仲",null,"留",null,"四段",null,"合計",null,null,null,"清酒かす(実量)(kg)",null,null,null,null,null,null,null,null,null,null,null,null,null,null,null,null,null,null,null,null,{"$f":"IF(SUM(CH30:CQ30)=0,\"-\",SUM(CH30:CQ30))","v":"-"}]
[null,null,null,null,null,null,null,null,null,null,null,null,null,null,null,null,null,null,null,null,null,null,null,null,null,null,null,null,null,null,null,null,null,null,null,null,null,null,null,null,null,null,null,null,null,null,null,null,null,null,null,null,null,null,null,null,null,null,null,null,null,null,null,null,"種麹品名・ﾒｰｶｰ",null,null,null,null,null,null,null,null,null,null,null,null,null,"-",null,null,null,"酸度",null,null,null,null,null,null,null,null,null,null,null,null,null,null,null,null,null,null,null,null,"-"]
[null,"日　順",null,null,"添",null,"踊",null,"仲",null,"留",null,2,3,4,5,6,7,8,9,10,11,12,13,14,15,16,17,18,19,20,21,22,23,24,25,26,27,28,29,30,31,32,33,34,35,36,37,38,39,40,41,42,43,44,45,46,47,48,49,50,null,null,null,"種麹使用量(g/白米100kg)",null,null,null,null,null,null,null,null,null,null,null,null,null,"-",null,null,null,"ｱﾐﾉ酸度",null,null,null,null,null,null,null,null,null,null,null,null,null,null,null,null,null,null,null,null,"-"]
[null,"月　日",null,null,null,null,null,null,null,null,null,null,{"$f":"IF(K33=\"\",\"\",K33+1)","v":""},{"$f":"IF(M33=\"\",\"\",M33+1)","v":""},"","","","","","","","","","","","","","","","","","","","","","","","","","","","","","","","","","","","","","","","","","","","","","","",null,null,null,"出麹重量(kg)",null,null,null,null,null,null,null,null,null,null,null,null,null,"-",null,null,null,"ｸﾞﾙｺｰｽ",null,null,null,null,null,null,null,null,null,null,null,null,null,null,null,null,null,null,null,null,"-"]
[null,"品温１",null,null,null,null,null,null,null,null,null,null,null,null,null,null,null,null,null,null,null,null,null,null,null,null,null,null,null,null,null,null,null,null,null,null,null,null,null,null,null,null,null,null,null,null,null,null,null,null,null,null,null,null,null,null,null,null,null,null,null,null,null,null,"出麹水分(%)",null,null,null,null,null,null,null,null,null,null,null,null,null,"-",null,null,null,"ｴｷｽ",null,null,{"$f":"IF(OR(CH27=\"\",CH28=\"\"),\"-\",(1443/(1443+CH28)-(INDEX(換算表!$D$3:$D$273,MATCH(ROUNDDOWN(CH27,1),換算表!$B$3:$B$273,0))*CH27+INDEX(換算表!$E$3:$E$273,MATCH(ROUNDDOWN(CH27,1),換算表!$B$3:$B$273,0))))*260+0.21)","v":"-"},null,{"$f":"IF(OR(CJ27=\"\",CJ28=\"\"),\"-\",(1443/(1443+CJ28)-(INDEX(換算表!$D$3:$D$273,MATCH(ROUNDDOWN(CJ27,1),換算表!$B$3:$B$273,0))*CJ27+INDEX(換算表!$E$3:$E$273,MATCH(ROUNDDOWN(CJ27,1),換算表!$B$3:$B$273,0))))*260+0.21)","v":"-"},null,{"$f":"IF(OR(CL27=\"\",CL28=\"\"),\"-\",(1443/(1443+CL28)-(INDEX(換算表!$D$3:$D$273,MATCH(ROUNDDOWN(CL27,1),換算表!$B$3:$B$273,0))*CL27+INDEX(換算表!$E$3:$E$273,MATCH(ROUNDDOWN(CL27,1),換算表!$B$3:$B$273,0))))*260+0.21)","v":"-"},null,{"$f":"IF(OR(CN27=\"\",CN28=\"\"),\"-\",(1443/(1443+CN28)-(INDEX(換算表!$D$3:$D$273,MATCH(ROUNDDOWN(CN27,1),換算表!$B$3:$B$273,0))*CN27+INDEX(換算表!$E$3:$E$273,MATCH(ROUNDDOWN(CN27,1),換算表!$B$3:$B$273,0))))*260+0.21)","v":"-"},null,{"$f":"IF(OR(CP27=\"\",CP28=\"\"),\"-\",(1443/(1443+CP28)-(INDEX(換算表!$D$3:$D$273,MATCH(ROUNDDOWN(CP27,1),換算表!$B$3:$B$273,0))*CP27+INDEX(換算表!$E$3:$E$273,MATCH(ROUNDDOWN(CP27,1),換算表!$B$3:$B$273,0))))*260+0.21)","v":"-"},null,{"$f":"IF(OR(CR27=\"\",CR28=\"\"),\"-\",(1443/(1443+CR28)-(INDEX(換算表!$D$3:$D$273,MATCH(ROUNDDOWN(CR27,1),換算表!$B$3:$B$273,0))*CR27+INDEX(換算表!$E$3:$E$273,MATCH(ROUNDDOWN(CR27,1),換算表!$B$3:$B$273,0))))*260+0.21)","v":"-"},null,{"$f":"IF(OR(CT27=\"\",CT28=\"\"),\"-\",(1443/(1443+CT28)-(INDEX(換算表!$D$3:$D$273,MATCH(ROUNDDOWN(CT27,1),換算表!$B$3:$B$273,0))*CT27+INDEX(換算表!$E$3:$E$273,MATCH(ROUNDDOWN(CT27,1),換算表!$B$3:$B$273,0))))*260+0.21)","v":"-"},null,{"$f":"IF(OR(CV27=\"\",CV28=\"\"),\"-\",(1443/(1443+CV28)-(INDEX(換算表!$D$3:$D$273,MATCH(ROUNDDOWN(CV27,1),換算表!$B$3:$B$273,0))*CV27+INDEX(換算表!$E$3:$E$273,MATCH(ROUNDDOWN(CV27,1),換算表!$B$3:$B$273,0))))*260+0.21)","v":"-"},null,{"$f":"IF(OR(CX27=\"\",CX28=\"\"),\"-\",(1443/(1443+CX28)-(INDEX(換算表!$D$3:$D$273,MATCH(ROUNDDOWN(CX27,1),換算表!$B$3:$B$273,0))*CX27+INDEX(換算表!$E$3:$E$273,MATCH(ROUNDDOWN(CX27,1),換算表!$B$3:$B$273,0))))*260+0.21)","v":"-"},null,"-"]
[null,"品温２",null,null,null,null,null,null,null,null,null,null,null,null,null,null,null,null,null,null,null,null,null,null,null,null,null,null,null,null,null,null,null,null,null,null,null,null,null,null,null,null,null,null,null,null,null,null,null,null,null,null,null,null,null,null,null,null,null,null,null,null,null,null,"枯らし後重量(kg)",null,null,null,null,null,null,null,null,null,null,null,null,null,"-",null,null,null,"原ｴｷｽ",null,null,{"$f":"IF(OR(CH34=\"-\",CH27=\"\"),\"-\",CH34+CH27*1.5848)","v":"-"},null,{"$f":"IF(OR(CJ34=\"-\",CJ27=\"\"),\"-\",CJ34+CJ27*1.5848)","v":"-"},null,{"$f":"IF(OR(CL34=\"-\",CL27=\"\"),\"-\",CL34+CL27*1.5848)","v":"-"},null,{"$f":"IF(OR(CN34=\"-\",CN27=\"\"),\"-\",CN34+CN27*1.5848)","v":"-"},null,{"$f":"IF(OR(CP34=\"-\",CP27=\"\"),\"-\",CP34+CP27*1.5848)","v":"-"},null,{"$f":"IF(OR(CR34=\"-\",CR27=\"\"),\"-\",CR34+CR27*1.5848)","v":"-"},null,{"$f":"IF(OR(CT34=\"-\",CT27=\"\"),\"-\",CT34+CT27*1.5848)","v":"-"},null,{"$f":"IF(OR(CV34=\"-\",CV27=\"\"),\"-\",CV34+CV27*1.5848)","v":"-"},null,{"$f":"IF(OR(CX34=\"-\",CX27=\"\"),\"-\",CX34+CX27*1.5848)","v":"-"},null,"-"]
[null,"室温・水温１",null,null,null,null,null,null,null,null,null,null,null,null,null,null,null,null,null,null,null,null,null,null,null,null,null,null,null,null,null,null,null,null,null,null,null,null,null,null,null,null,null,null,null,null,null,null,null,null,null,null,null,null,null,null,null,null,null,null,null,null,null,null,"枯らし後水分(%)",null,null,null,{"$f":"IF(OR(BQ34=\"\",BQ35=\"\",BQ33=\"\"),\"-\",IFERROR((BQ34*BQ33-100*(BQ33-BQ35))/BQ35,\"-\"))","v":"-"},null,{"$f":"IF(OR(BS34=\"\",BS35=\"\",BS33=\"\"),\"-\",IFERROR((BS34*BS33-100*(BS33-BS35))/BS35,\"-\"))","v":"-"},null,{"$f":"IF(OR(BU34=\"\",BU35=\"\",BU33=\"\"),\"-\",IFERROR((BU34*BU33-100*(BU33-BU35))/BU35,\"-\"))","v":"-"},null,{"$f":"IF(OR(BW34=\"\",BW35=\"\",BW33=\"\"),\"-\",IFERROR((BW34*BW33-100*(BW33-BW35))/BW35,\"-\"))","v":"-"},null,{"$f":"IF(OR(BY34=\"\",BY35=\"\",BY33=\"\"),\"-\",IFERROR((BY34*BY33-100*(BY33-BY35))/BY35,\"-\"))","v":"-"},null,"-",null,null,null,"新甘辛度",null,null,{"$f":"IF(OR(CH33=\"\",CH32=\"\"),\"-\",CH33-CH32)","v":"-"},null,{"$f":"IF(OR(CJ33=\"\",CJ32=\"\"),\"-\",CJ33-CJ32)","v":"-"},null,{"$f":"IF(OR(CL33=\"\",CL32=\"\"),\"-\",CL33-CL32)","v":"-"},null,{"$f":"IF(OR(CN33=\"\",CN32=\"\"),\"-\",CN33-CN32)","v":"-"},null,{"$f":"IF(OR(CP33=\"\",CP32=\"\"),\"-\",CP33-CP32)","v":"-"},null,{"$f":"IF(OR(CR33=\"\",CR32=\"\"),\"-\",CR33-CR32)","v":"-"},null,{"$f":"IF(OR(CT33=\"\",CT32=\"\"),\"-\",CT33-CT32)","v":"-"},null,{"$f":"IF(OR(CV33=\"\",CV32=\"\"),\"-\",CV33-CV32)","v":"-"},null,{"$f":"IF(OR(CX33=\"\",CX32=\"\"),\"-\",CX33-CX32)","v":"-"},null,"-"]
[null,"室温・水温２",null,null,null,null,null,null,null,null,null,null,null,null,null,null,null,null,null,null,null,null,null,null,null,null,null,null,null,null,null,null,null,null,null,null,null,null,null,null,null,null,null,null,null,null,null,null,null,null,null,null,null,null,null,null,null,null,null,null,null,null,null,null,"αｱﾐﾗｰｾﾞ(U/g生麹)",null,null,"乾物",null,{"$f":"IF(OR(BQ$34=\"\",BQ37=\"\"),\"-\",BQ37*100/(100-BQ$34))","v":"-"},null,{"$f":"IF(OR(BS$34=\"\",BS37=\"\"),\"-\",BS37*100/(100-BS$34))","v":"-"},null,{"$f":"IF(OR(BU$34=\"\",BU37=\"\"),\"-\",BU37*100/(100-BU$34))","v":"-"},null,{"$f":"IF(OR(BW$34=\"\",BW37=\"\"),\"-\",BW37*100/(100-BW$34))","v":"-"},null,{"$f":"IF(OR(BY$34=\"\",BY37=\"\"),\"-\",BY37*100/(100-BY$34))","v":"-"},"-",null,null,null,"濃淡指数",null,null,{"$f":"IF(OR(CH27=\"\",CH31=\"\",CH32=\"\",CH33=\"\"),\"-\",(CH31+CH32+CH33)*CH27/100*10)","v":"-"},null,{"$f":"IF(OR(CJ27=\"\",CJ31=\"\",CJ32=\"\",CJ33=\"\"),\"-\",(CJ31+CJ32+CJ33)*CJ27/100*10)","v":"-"},null,{"$f":"IF(OR(CL27=\"\",CL31=\"\",CL32=\"\",CL33=\"\"),\"-\",(CL31+CL32+CL33)*CL27/100*10)","v":"-"},null,{"$f":"IF(OR(CN27=\"\",CN31=\"\",CN32=\"\",CN33=\"\"),\"-\",(CN31+CN32+CN33)*CN27/100*10)","v":"-"},null,{"$f":"IF(OR(CP27=\"\",CP31=\"\",CP32=\"\",CP33=\"\"),\"-\",(CP31+CP32+CP33)*CP27/100*10)","v":"-"},null,{"$f":"IF(OR(CR27=\"\",CR31=\"\",CR32=\"\",CR33=\"\"),\"-\",(CR31+CR32+CR33)*CR27/100*10)","v":"-"},null,{"$f":"IF(OR(CT27=\"\",CT31=\"\",CT32=\"\",CT33=\"\"),\"-\",(CT31+CT32+CT33)*CT27/100*10)","v":"-"},null,{"$f":"IF(OR(CV27=\"\",CV31=\"\",CV32=\"\",CV33=\"\"),\"-\",(CV31+CV32+CV33)*CV27/100*10)","v":"-"},null,{"$f":"IF(OR(CX27=\"\",CX31=\"\",CX32=\"\",CX33=\"\"),\"-\",(CX31+CX32+CX33)*CX27/100*10)","v":"-"},null,"-"]
[null,"ﾎﾞｰﾒ(Be)",null,null,null,null,null,null,null,null,null,null,null,null,null,null,null,null,null,null,null,null,null,null,null,null,null,null,null,null,null,null,null,null,null,null,null,null,null,null,null,null,null,null,null,null,null,null,null,null,null,null,null,null,null,null,null,null,null,null,null,null,null,null,"Gｱﾐﾗｰｾﾞ(U/g生麹)",null,null,"乾物",null,{"$f":"IF(OR(BQ$34=\"\",BQ38=\"\"),\"-\",BQ38*100/(100-BQ$34))","v":"-"},null,"-",null,{"$f":"IF(OR(BU$34=\"\",BU38=\"\"),\"-\",BU38*100/(100-BU$34))","v":"-"},null,{"$f":"IF(OR(BW$34=\"\",BW38=\"\"),\"-\",BW38*100/(100-BW$34))","v":"-"},null,{"$f":"IF(OR(BY$34=\"\",BY38=\"\"),\"-\",BY38*100/(100-BY$34))","v":"-"},"-",null,null,null,"ｼﾌﾞ予測係数比",null,null,{"$f":"IF(OR(CH31=\"\",CH32=\"\",CH33=\"\"),\"-\",(CH32+CH33-CH31)/CH31)","v":"-"},null,{"$f":"IF(OR(CJ31=\"\",CJ32=\"\",CJ33=\"\"),\"-\",(CJ32+CJ33-CJ31)/CJ31)","v":"-"},null,{"$f":"IF(OR(CL31=\"\",CL32=\"\",CL33=\"\"),\"-\",(CL32+CL33-CL31)/CL31)","v":"-"},null,{"$f":"IF(OR(CN31=\"\",CN32=\"\",CN33=\"\"),\"-\",(CN32+CN33-CN31)/CN31)","v":"-"},null,{"$f":"IF(OR(CP31=\"\",CP32=\"\",CP33=\"\"),\"-\",(CP32+CP33-CP31)/CP31)","v":"-"},null,{"$f":"IF(OR(CR31=\"\",CR32=\"\",CR33=\"\"),\"-\",(CR32+CR33-CR31)/CR31)","v":"-"},null,{"$f":"IF(OR(CT31=\"\",CT32=\"\",CT33=\"\"),\"-\",(CT32+CT33-CT31)/CT31)","v":"-"},null,{"$f":"IF(OR(CV31=\"\",CV32=\"\",CV33=\"\"),\"-\",(CV32+CV33-CV31)/CV31)","v":"-"},null,{"$f":"IF(OR(CX31=\"\",CX32=\"\",CX33=\"\"),\"-\",(CX32+CX33-CX31)/CX31)","v":"-"},null,"-"]
[null,"日本酒度",null,null,null,null,null,null,null,null,null,null,null,null,null,null,null,null,null,null,null,null,null,null,null,null,null,null,null,null,null,null,null,null,null,null,null,null,null,null,null,null,null,null,null,null,null,null,null,null,null,null,null,null,null,null,null,null,null,null,null,null,null,null,"ACP(U/g生麹)",null,null,"乾物",null,"-",null,"-",null,"-",null,{"$f":"IF(OR(BW$34=\"\",BW39=\"\"),\"-\",BW39*100/(100-BW$34))","v":"-"},null,{"$f":"IF(OR(BY$34=\"\",BY39=\"\"),\"-\",BY39*100/(100-BY$34))","v":"-"},"-",null,null,null,"ｱﾐﾉ酸度比",null,null,{"$f":"IF(OR(CH31=\"\",CH32=\"\"),\"-\",CH32/CH31)","v":"-"},null,{"$f":"IF(OR(CJ31=\"\",CJ32=\"\"),\"-\",CJ32/CJ31)","v":"-"},null,{"$f":"IF(OR(CL31=\"\",CL32=\"\"),\"-\",CL32/CL31)","v":"-"},null,{"$f":"IF(OR(CN31=\"\",CN32=\"\"),\"-\",CN32/CN31)","v":"-"},null,{"$f":"IF(OR(CP31=\"\",CP32=\"\"),\"-\",CP32/CP31)","v":"-"},null,{"$f":"IF(OR(CR31=\"\",CR32=\"\"),\"-\",CR32/CR31)","v":"-"},null,{"$f":"IF(OR(CT31=\"\",CT32=\"\"),\"-\",CT32/CT31)","v":"-"},null,{"$f":"IF(OR(CV31=\"\",CV32=\"\"),\"-\",CV32/CV31)","v":"-"},null,{"$f":"IF(OR(CX31=\"\",CX32=\"\"),\"-\",CX32/CX31)","v":"-"},null,"-"]
[null,"ｱﾙｺｰﾙ",null,null,null,null,null,null,null,null,null,null,null,null,null,null,null,null,null,null,null,null,null,null,null,null,null,null,null,null,null,null,null,null,null,null,null,null,null,null,null,null,null,null,null,null,null,null,null,null,null,null,null,null,null,null,null,null,null,null,null,null,null,null,"G/α比",null,null,null,{"$f":"IF(OR(BQ38=\"\",BQ37=\"\"),\"-\",BQ38/BQ37*100)","v":"-"},null,{"$f":"IF(OR(BS38=\"\",BS37=\"\"),\"-\",BS38/BS37*100)","v":"-"},null,{"$f":"IF(OR(BU38=\"\",BU37=\"\"),\"-\",BU38/BU37*100)","v":"-"},null,{"$f":"IF(OR(BW38=\"\",BW37=\"\"),\"-\",BW38/BW37*100)","v":"-"},null,{"$f":"IF(OR(BY38=\"\",BY37=\"\"),\"-\",BY38/BY37*100)","v":"-"},null,"-",null,null,null,"ｸﾞﾙｺｰｽ比",null,null,{"$f":"IF(OR(CH31=\"\",CH33=\"\"),\"-\",CH33/CH31)","v":"-"},null,{"$f":"IF(OR(CJ31=\"\",CJ33=\"\"),\"-\",CJ33/CJ31)","v":"-"},null,{"$f":"IF(OR(CL31=\"\",CL33=\"\"),\"-\",CL33/CL31)","v":"-"},null,{"$f":"IF(OR(CN31=\"\",CN33=\"\"),\"-\",CN33/CN31)","v":"-"},null,{"$f":"IF(OR(CP31=\"\",CP33=\"\"),\"-\",CP33/CP31)","v":"-"},null,{"$f":"IF(OR(CR31=\"\",CR33=\"\"),\"-\",CR33/CR31)","v":"-"},null,{"$f":"IF(OR(CT31=\"\",CT33=\"\"),\"-\",CT33/CT31)","v":"-"},null,{"$f":"IF(OR(CV31=\"\",CV33=\"\"),\"-\",CV33/CV31)","v":"-"},null,{"$f":"IF(OR(CX31=\"\",CX33=\"\"),\"-\",CX33/CX31)","v":"-"},null,"-"]
[null,"酸　度",null,null,null,null,null,null,null,null,null,null,null,null,null,null,null,null,null,null,null,null,null,null,null,null,null,null,null,null,null,null,null,null,null,null,null,null,null,null,null,null,null,null,null,null,null,null,null,null,null,null,null,null,null,null,null,null,null,null,null,null,null,null,"G/ACP比",null,null,null,{"$f":"IF(OR(BQ39=\"\",BQ38=\"\"),\"-\",BQ38/BQ39*100)","v":"-"},null,{"$f":"IF(OR(BS39=\"\",BS38=\"\"),\"-\",BS38/BS39*100)","v":"-"},null,{"$f":"IF(OR(BU39=\"\",BU38=\"\"),\"-\",BU38/BU39*100)","v":"-"},null,{"$f":"IF(OR(BW39=\"\",BW38=\"\"),\"-\",BW38/BW39*100)","v":"-"},null,{"$f":"IF(OR(BY39=\"\",BY38=\"\"),\"-\",BY38/BY39*100)","v":"-"},null,"-",null,null,null,"官能評価",null,null,null,null,null,null,null,null,null,null,null,null,null,null,null,null,null,null,null,null,"-"]
[null,"ｱﾐﾉ酸度",null,null,null,null,null,null,null,null,null,null,null,null,null,null,null,null,null,null,null,null,null,null,null,null,null,null,null,null,null,null,null,null,null,null,null,null,null,null,null,null,null,null,null,null,null,null,null,null,null,null,null,null,null,null,null,null,null,null,null,null,null,null,"α量(kU/kg乾物白米)",null,null,null,{"$f":"IF(OR(BQ37=\"\",BQ$33=\"\",BQ$20=\"-\",BU$20=\"-\"),\"-\",BQ37*BQ$33/(BQ$20+BU$20))","v":"-"},null,{"$f":"IF(OR(BS37=\"\",BS$33=\"\",BR$20=\"-\",BV$20=\"-\"),\"-\",BS37*BS$33/(BR$20+BV$20))","v":"-"},null,{"$f":"IF(OR(BU37=\"\",BU$33=\"\",BS$20=\"-\",BW$20=\"-\"),\"-\",BU37*BU$33/(BS$20+BW$20))","v":"-"},null,{"$f":"IF(OR(BW37=\"\",BW$33=\"\",BT$20=\"-\",BX$20=\"-\"),\"-\",BW37*BW$33/(BT$20+BX$20))","v":"-"},null,{"$f":"IF(OR(BY37=\"\",BY$33=\"-\",BY$20=\"-\"),\"-\",BY37*BY$33/BY$20)","v":"-"},null,{"$f":"IF(SUM(BQ37,BS37,BU37,BW37,BY37)=0,\"-\",SUM(BQ37*BQ33,BS37*BS33,BU37*BU33,BW37*BW33,BY37*BY33)/CB20)","v":"-"}]
[null,"ｸﾞﾙｺｰｽ",null,null,null,null,null,null,null,null,null,null,null,null,null,null,null,null,null,null,null,null,null,null,null,null,null,null,null,null,null,null,null,null,null,null,null,null,null,null,null,null,null,null,null,null,null,null,null,null,null,null,null,null,null,null,null,null,null,null,null,null,null,null,"G量(kU/kg乾物白米)",null,null,null,{"$f":"IF(OR(BQ38=\"\",BQ$33=\"\",BQ$20=\"-\",BU$20=\"-\"),\"-\",BQ38*BQ$33/(BQ$20+BU$20))","v":"-"},null,{"$f":"IF(OR(BS38=\"\",BS$33=\"\",BR$20=\"-\",BV$20=\"-\"),\"-\",BS38*BS$33/(BR$20+BV$20))","v":"-"},null,{"$f":"IF(OR(BU38=\"\",BU$33=\"\",BS$20=\"-\",BW$20=\"-\"),\"-\",BU38*BU$33/(BS$20+BW$20))","v":"-"},null,{"$f":"IF(OR(BW38=\"\",BW$33=\"\",BT$20=\"-\",BX$20=\"-\"),\"-\",BW38*BW$33/(BT$20+BX$20))","v":"-"},null,{"$f":"IF(OR(BY38=\"\",BY$33=\"-\",BY$20=\"-\"),\"-\",BY38*BY$33/BY$20)","v":"-"},null,{"$f":"IF(SUM(BQ38,BS38,BU38,BW38,BY38)=0,\"-\",SUM(BQ38*BQ33,BS38*BS33,BU38*BU33,BW38*BW33,BY38*BY33)/CB20)","v":"-"}]
[null,"ﾋﾟﾙﾋﾞﾝ酸",null,null,null,null,null,null,null,null,null,null,null,null,null,null,null,null,null,null,null,null,null,null,null,null,null,null,null,null,null,null,null,null,null,null,null,null,null,null,null,null,null,null,null,null,null,null,null,null,null,null,null,null,null,null,null,null,null,null,null,null,null,null,"ACP量(kU/kg乾物白米)",null,null,null,{"$f":"IF(OR(BQ39=\"\",BQ$33=\"\",BQ$20=\"-\",BU$20=\"-\"),\"-\",BQ39*BQ$33/(BQ$20+BU$20))","v":"-"},null,{"$f":"IF(OR(BS39=\"\",BS$33=\"\",BR$20=\"-\",BV$20=\"-\"),\"-\",BS39*BS$33/(BR$20+BV$20))","v":"-"},null,{"$f":"IF(OR(BU39=\"\",BU$33=\"\",BS$20=\"-\",BW$20=\"-\"),\"-\",BU39*BU$33/(BS$20+BW$20))","v":"-"},null,{"$f":"IF(OR(BW39=\"\",BW$33=\"\",BT$20=\"-\",BX$20=\"-\"),\"-\",BW39*BW$33/(BT$20+BX$20))","v":"-"},null,{"$f":"IF(OR(BY39=\"\",BY$33=\"-\",BY$20=\"-\"),\"-\",BY39*BY$33/BY$20)","v":"-"},null,{"$f":"IF(SUM(BQ39,BS39,BU39,BW39,BY39)=0,\"-\",SUM(BQ39*BQ33,BS39*BS33,BU39*BU33,BW39*BW33,BY39*BY33)/CB20)","v":"-"}]
[null,"Brix",null,null,null,null,null,null,null,null,null,null,null,null,null,null,null,null,null,null,null,null,null,null,null,null,null,null,null,null,null,null,null,null,null,null,null,null,null,null,null,null,null,null,null,null,null,null,null,null,null,null,null,null,null,null,null,null,null,null,null,null,null,"酒母","種類",null,null,null,null,null,"使用酵母",null,"酵母名",null,null,"添加量",null,null,"割合"]
[null,"旋光度",null,null,null,null,null,null,null,null,null,null,null,null,null,null,null,null,null,null,null,null,null,null,null,null,null,null,null,null,null,null,null,null,null,null,null,null,null,null,null,null,null,null,null,null,null,null,null,null,null,null,null,null,null,null,null,null,null,null,null,null,null,null,null,null,null,null,null,null,null,null,null,null,null,null,null,null,null,null,null,null,"メモ",null,null,null,null,null,null,null,null,null,null,null,null,null,null,null,null,null,null,null,null,"-"]
[null,"追水(L)",null,null,null,null,null,null,null,null,null,null,null,null,null,null,null,null,null,null,null,null,null,null,null,null,null,null,null,null,null,null,null,null,null,null,null,null,null,null,null,null,null,null,null,null,null,null,null,null,null,null,null,null,null,null,null,null,null,null,null,null,null,null,"記号"]
[null,"親容器",null,"深",null,null,null,null,null,null,null,null,null,null,null,null,null,null,null,null,null,null,null,null,null,null,null,null,null,null,null,null,null,null,null,null,null,null,null,null,null,null,null,null,null,null,null,null,null,null,null,null,null,null,null,null,null,null,null,null,null,null,null,null,"順号"]
[null,null,null,"数量(L)",null,null,null,null,null,null,null,null,null,null,null,null,null,null,null,null,null,null,null,null,null,null,null,null,null,null,null,null,null,null,null,null,null,null,null,null,null,null,null,null,null,null,null,null,null,null,null,null,null,null,null,null,null,null,null,null,null,null,null,null,"数量(L)",null,null,null,null,null,"乳酸(mL)",null,null,null,null,"(汲水100L当り",null,null,{"$f":"IFERROR(BU49/BQ6*100,\"-\")","v":"-"},"mL)"]
[null,"枝容器",null,"深",null,null,null,null,null,null,null,null,null,null,null,null,null,null,null,null,null,null,null,null,null,null,null,null,null,null,null,null,null,null,null,null,null,null,null,null,null,null,null,null,null,null,null,null,null,null,null,null,null,null,null,null,null,null,null,null,null,null,null,"酵素剤／その他副原料","品名",null,null,null,"成分",null,null,null,"用途",null,null,"使用量",null,null,"使用月日"]
[null,null,null,"数量(L)"]
[null,"メモ",null,null,"水麹","仕込",null,null,"水麹","仕込","水麹","仕込"]
[]
[]
[null,"BMD",null,null,null,null,null,null,null,null,null,null,{"$f":"IF(M79=\"\",NA(),M32*M79)","v":{"$error":"#N/A"}},{"$error":"#N/A"},{"$error":"#N/A"},{"$error":"#N/A"},{"$error":"#N/A"},{"$error":"#N/A"},{"$error":"#N/A"},{"$error":"#N/A"},{"$error":"#N/A"},{"$error":"#N/A"},{"$error":"#N/A"},{"$error":"#N/A"},{"$error":"#N/A"},{"$error":"#N/A"},{"$error":"#N/A"},{"$error":"#N/A"},{"$error":"#N/A"},{"$error":"#N/A"},{"$error":"#N/A"},{"$error":"#N/A"},{"$error":"#N/A"},{"$error":"#N/A"},{"$error":"#N/A"},{"$error":"#N/A"},{"$error":"#N/A"},{"$error":"#N/A"},{"$error":"#N/A"},{"$error":"#N/A"},{"$error":"#N/A"},{"$error":"#N/A"},{"$error":"#N/A"},{"$error":"#N/A"},{"$error":"#N/A"},{"$error":"#N/A"},{"$error":"#N/A"},{"$error":"#N/A"},{"$error":"#N/A"},{"$error":"#N/A"},{"$error":"#N/A"},{"$error":"#N/A"},{"$error":"#N/A"},{"$error":"#N/A"},{"$error":"#N/A"},{"$error":"#N/A"},{"$error":"#N/A"},{"$error":"#N/A"},{"$error":"#N/A"},{"$error":"#N/A"},{"$error":"#N/A"}]
[null,"ｴｷｽ",null,null,{"$f":"IF(OR(E40=\"\",E38=\"\"),NA(),(1443/(1443-E38*10)-(INDEX(換算表!$D$3:$D$273,MATCH(ROUNDDOWN(E40,1),換算表!$B$3:$B$273,0))*E40+INDEX(換算表!$E$3:$E$273,MATCH(ROUNDDOWN(E40,1),換算表!$B$3:$B$273,0))))*260+0.21)","v":{"$error":"#N/A"}},{"$f":"IF(OR(F40=\"\",F38=\"\"),NA(),(1443/(1443-F38*10)-(INDEX(換算表!$D$3:$D$273,MATCH(ROUNDDOWN(F40,1),換算表!$B$3:$B$273,0))*F40+INDEX(換算表!$E$3:$E$273,MATCH(ROUNDDOWN(F40,1),換算表!$B$3:$B$273,0))))*260+0.21)","v":{"$error":"#N/A"}},{"$f":"IF(OR(G40=\"\",G38=\"\"),NA(),(1443/(1443-G38*10)-(INDEX(換算表!$D$3:$D$273,MATCH(ROUNDDOWN(G40,1),換算表!$B$3:$B$273,0))*G40+INDEX(換算表!$E$3:$E$273,MATCH(ROUNDDOWN(G40,1),換算表!$B$3:$B$273,0))))*260+0.21)","v":{"$error":"#N/A"}},{"$f":"IF(OR(H40=\"\",H38=\"\"),NA(),(1443/(1443-H38*10)-(INDEX(換算表!$D$3:$D$273,MATCH(ROUNDDOWN(H40,1),換算表!$B$3:$B$273,0))*H40+INDEX(換算表!$E$3:$E$273,MATCH(ROUNDDOWN(H40,1),換算表!$B$3:$B$273,0))))*260+0.21)","v":{"$error":"#N/A"}},{"$f":"IF(OR(I40=\"\",I38=\"\"),NA(),(1443/(1443-I38*10)-(INDEX(換算表!$D$3:$D$273,MATCH(ROUNDDOWN(I40,1),換算表!$B$3:$B$273,0))*I40+INDEX(換算表!$E$3:$E$273,MATCH(ROUNDDOWN(I40,1),換算表!$B$3:$B$273,0))))*260+0.21)","v":{"$error":"#N/A"}},{"$f":"IF(OR(J40=\"\",J38=\"\"),NA(),(1443/(1443-J38*10)-(INDEX(換算表!$D$3:$D$273,MATCH(ROUNDDOWN(J40,1),換算表!$B$3:$B$273,0))*J40+INDEX(換算表!$E$3:$E$273,MATCH(ROUNDDOWN(J40,1),換算表!$B$3:$B$273,0))))*260+0.21)","v":{"$error":"#N/A"}},{"$f":"IF(OR(K40=\"\",K38=\"\"),NA(),(1443/(1443-K38*10)-(INDEX(換算表!$D$3:$D$273,MATCH(ROUNDDOWN(K40,1),換算表!$B$3:$B$273,0))*K40+INDEX(換算表!$E$3:$E$273,MATCH(ROUNDDOWN(K40,1),換算表!$B$3:$B$273,0))))*260+0.21)","v":{"$error":"#N/A"}},{"$f":"IF(OR(L40=\"\",L38=\"\"),NA(),(1443/(1443-L38*10)-(INDEX(換算表!$D$3:$D$273,MATCH(ROUNDDOWN(L40,1),換算表!$B$3:$B$273,0))*L40+INDEX(換算表!$E$3:$E$273,MATCH(ROUNDDOWN(L40,1),換算表!$B$3:$B$273,0))))*260+0.21)","v":{"$error":"#N/A"}},{"$f":"IF(OR(M40=\"\",M79=\"\"),NA(),(1443/(1443-M79*10)-(INDEX(換算表!$D$3:$D$273,MATCH(ROUNDDOWN(M40,1),換算表!$B$3:$B$273,0))*M40+INDEX(換算表!$E$3:$E$273,MATCH(ROUNDDOWN(M40,1),換算表!$B$3:$B$273,0))))*260+0.21)","v":{"$error":"#N/A"}},{"$f":"IF(OR(N40=\"\",N79=\"\"),NA(),(1443/(1443-N79*10)-(INDEX(換算表!$D$3:$D$273,MATCH(ROUNDDOWN(N40,1),換算表!$B$3:$B$273,0))*N40+INDEX(換算表!$E$3:$E$273,MATCH(ROUNDDOWN(N40,1),換算表!$B$3:$B$273,0))))*260+0.21)","v":{"$error":"#N/A"}},{"$f":"IF(OR(O40=\"\",O79=\"\"),NA(),(1443/(1443-O79*10)-(INDEX(換算表!$D$3:$D$273,MATCH(ROUNDDOWN(O40,1),換算表!$B$3:$B$273,0))*O40+INDEX(換算表!$E$3:$E$273,MATCH(ROUNDDOWN(O40,1),換算表!$B$3:$B$273,0))))*260+0.21)","v":{"$error":"#N/A"}},{"$f":"IF(OR(P40=\"\",P79=\"\"),NA(),(1443/(1443-P79*10)-(INDEX(換算表!$D$3:$D$273,MATCH(ROUNDDOWN(P40,1),換算表!$B$3:$B$273,0))*P40+INDEX(換算表!$E$3:$E$273,MATCH(ROUNDDOWN(P40,1),換算表!$B$3:$B$273,0))))*260+0.21)","v":{"$error":"#N/A"}},{"$f":"IF(OR(Q40=\"\",Q79=\"\"),NA(),(1443/(1443-Q79*10)-(INDEX(換算表!$D$3:$D$273,MATCH(ROUNDDOWN(Q40,1),換算表!$B$3:$B$273,0))*Q40+INDEX(換算表!$E$3:$E$273,MATCH(ROUNDDOWN(Q40,1),換算表!$B$3:$B$273,0))))*260+0.21)","v":{"$error":"#N/A"}},{"$f":"IF(OR(R40=\"\",R79=\"\"),NA(),(1443/(1443-R79*10)-(INDEX(換算表!$D$3:$D$273,MATCH(ROUNDDOWN(R40,1),換算表!$B$3:$B$273,0))*R40+INDEX(換算表!$E$3:$E$273,MATCH(ROUNDDOWN(R40,1),換算表!$B$3:$B$273,0))))*260+0.21)","v":{"$error":"#N/A"}},{"$f":"IF(OR(S40=\"\",S79=\"\"),NA(),(1443/(1443-S79*10)-(INDEX(換算表!$D$3:$D$273,MATCH(ROUNDDOWN(S40,1),換算表!$B$3:$B$273,0))*S40+INDEX(換算表!$E$3:$E$273,MATCH(ROUNDDOWN(S40,1),換算表!$B$3:$B$273,0))))*260+0.21)","v":{"$error":"#N/A"}},{"$f":"IF(OR(T40=\"\",T79=\"\"),NA(),(1443/(1443-T79*10)-(INDEX(換算表!$D$3:$D$273,MATCH(ROUNDDOWN(T40,1),換算表!$B$3:$B$273,0))*T40+INDEX(換算表!$E$3:$E$273,MATCH(ROUNDDOWN(T40,1),換算表!$B$3:$B$273,0))))*260+0.21)","v":{"$error":"#N/A"}},{"$f":"IF(OR(U40=\"\",U79=\"\"),NA(),(1443/(1443-U79*10)-(INDEX(換算表!$D$3:$D$273,MATCH(ROUNDDOWN(U40,1),換算表!$B$3:$B$273,0))*U40+INDEX(換算表!$E$3:$E$273,MATCH(ROUNDDOWN(U40,1),換算表!$B$3:$B$273,0))))*260+0.21)","v":{"$error":"#N/A"}},{"$f":"IF(OR(V40=\"\",V79=\"\"),NA(),(1443/(1443-V79*10)-(INDEX(換算表!$D$3:$D$273,MATCH(ROUNDDOWN(V40,1),換算表!$B$3:$B$273,0))*V40+INDEX(換算表!$E$3:$E$273,MATCH(ROUNDDOWN(V40,1),換算表!$B$3:$B$273,0))))*260+0.21)","v":{"$error":"#N/A"}},{"$f":"IF(OR(W40=\"\",W79=\"\"),NA(),(1443/(1443-W79*10)-(INDEX(換算表!$D$3:$D$273,MATCH(ROUNDDOWN(W40,1),換算表!$B$3:$B$273,0))*W40+INDEX(換算表!$E$3:$E$273,MATCH(ROUNDDOWN(W40,1),換算表!$B$3:$B$273,0))))*260+0.21)","v":{"$error":"#N/A"}},{"$f":"IF(OR(X40=\"\",X79=\"\"),NA(),(1443/(1443-X79*10)-(INDEX(換算表!$D$3:$D$273,MATCH(ROUNDDOWN(X40,1),換算表!$B$3:$B$273,0))*X40+INDEX(換算表!$E$3:$E$273,MATCH(ROUNDDOWN(X40,1),換算表!$B$3:$B$273,0))))*260+0.21)","v":{"$error":"#N/A"}},{"$f":"IF(OR(Y40=\"\",Y79=\"\"),NA(),(1443/(1443-Y79*10)-(INDEX(換算表!$D$3:$D$273,MATCH(ROUNDDOWN(Y40,1),換算表!$B$3:$B$273,0))*Y40+INDEX(換算表!$E$3:$E$273,MATCH(ROUNDDOWN(Y40,1),換算表!$B$3:$B$273,0))))*260+0.21)","v":{"$error":"#N/A"}},{"$f":"IF(OR(Z40=\"\",Z79=\"\"),NA(),(1443/(1443-Z79*10)-(INDEX(換算表!$D$3:$D$273,MATCH(ROUNDDOWN(Z40,1),換算表!$B$3:$B$273,0))*Z40+INDEX(換算表!$E$3:$E$273,MATCH(ROUNDDOWN(Z40,1),換算表!$B$3:$B$273,0))))*260+0.21)","v":{"$error":"#N/A"}},{"$f":"IF(OR(AA40=\"\",AA79=\"\"),NA(),(1443/(1443-AA79*10)-(INDEX(換算表!$D$3:$D$273,MATCH(ROUNDDOWN(AA40,1),換算表!$B$3:$B$273,0))*AA40+INDEX(換算表!$E$3:$E$273,MATCH(ROUNDDOWN(AA40,1),換算表!$B$3:$B$273,0))))*260+0.21)","v":{"$error":"#N/A"}},{"$f":"IF(OR(AB40=\"\",AB79=\"\"),NA(),(1443/(1443-AB79*10)-(INDEX(換算表!$D$3:$D$273,MATCH(ROUNDDOWN(AB40,1),換算表!$B$3:$B$273,0))*AB40+INDEX(換算表!$E$3:$E$273,MATCH(ROUNDDOWN(AB40,1),換算表!$B$3:$B$273,0))))*260+0.21)","v":{"$error":"#N/A"}},{"$f":"IF(OR(AC40=\"\",AC79=\"\"),NA(),(1443/(1443-AC79*10)-(INDEX(換算表!$D$3:$D$273,MATCH(ROUNDDOWN(AC40,1),換算表!$B$3:$B$273,0))*AC40+INDEX(換算表!$E$3:$E$273,MATCH(ROUNDDOWN(AC40,1),換算表!$B$3:$B$273,0))))*260+0.21)","v":{"$error":"#N/A"}},{"$f":"IF(OR(AD40=\"\",AD79=\"\"),NA(),(1443/(1443-AD79*10)-(INDEX(換算表!$D$3:$D$273,MATCH(ROUNDDOWN(AD40,1),換算表!$B$3:$B$273,0))*AD40+INDEX(換算表!$E$3:$E$273,MATCH(ROUNDDOWN(AD40,1),換算表!$B$3:$B$273,0))))*260+0.21)","v":{"$error":"#N/A"}},{"$f":"IF(OR(AE40=\"\",AE79=\"\"),NA(),(1443/(1443-AE79*10)-(INDEX(換算表!$D$3:$D$273,MATCH(ROUNDDOWN(AE40,1),換算表!$B$3:$B$273,0))*AE40+INDEX(換算表!$E$3:$E$273,MATCH(ROUNDDOWN(AE40,1),換算表!$B$3:$B$273,0))))*260+0.21)","v":{"$error":"#N/A"}},{"$f":"IF(OR(AF40=\"\",AF79=\"\"),NA(),(1443/(1443-AF79*10)-(INDEX(換算表!$D$3:$D$273,MATCH(ROUNDDOWN(AF40,1),換算表!$B$3:$B$273,0))*AF40+INDEX(換算表!$E$3:$E$273,MATCH(ROUNDDOWN(AF40,1),換算表!$B$3:$B$273,0))))*260+0.21)","v":{"$error":"#N/A"}},{"$f":"IF(OR(AG40=\"\",AG79=\"\"),NA(),(1443/(1443-AG79*10)-(INDEX(換算表!$D$3:$D$273,MATCH(ROUNDDOWN(AG40,1),換算表!$B$3:$B$273,0))*AG40+INDEX(換算表!$E$3:$E$273,MATCH(ROUNDDOWN(AG40,1),換算表!$B$3:$B$273,0))))*260+0.21)","v":{"$error":"#N/A"}},{"$f":"IF(OR(AH40=\"\",AH79=\"\"),NA(),(1443/(1443-AH79*10)-(INDEX(換算表!$D$3:$D$273,MATCH(ROUNDDOWN(AH40,1),換算表!$B$3:$B$273,0))*AH40+INDEX(換算表!$E$3:$E$273,MATCH(ROUNDDOWN(AH40,1),換算表!$B$3:$B$273,0))))*260+0.21)","v":{"$error":"#N/A"}},{"$f":"IF(OR(AI40=\"\",AI79=\"\"),NA(),(1443/(1443-AI79*10)-(INDEX(換算表!$D$3:$D$273,MATCH(ROUNDDOWN(AI40,1),換算表!$B$3:$B$273,0))*AI40+INDEX(換算表!$E$3:$E$273,MATCH(ROUNDDOWN(AI40,1),換算表!$B$3:$B$273,0))))*260+0.21)","v":{"$error":"#N/A"}},{"$f":"IF(OR(AJ40=\"\",AJ79=\"\"),NA(),(1443/(1443-AJ79*10)-(INDEX(換算表!$D$3:$D$273,MATCH(ROUNDDOWN(AJ40,1),換算表!$B$3:$B$273,0))*AJ40+INDEX(換算表!$E$3:$E$273,MATCH(ROUNDDOWN(AJ40,1),換算表!$B$3:$B$273,0))))*260+0.21)","v":{"$error":"#N/A"}},{"$f":"IF(OR(AK40=\"\",AK79=\"\"),NA(),(1443/(1443-AK79*10)-(INDEX(換算表!$D$3:$D$273,MATCH(ROUNDDOWN(AK40,1),換算表!$B$3:$B$273,0))*AK40+INDEX(換算表!$E$3:$E$273,MATCH(ROUNDDOWN(AK40,1),換算表!$B$3:$B$273,0))))*260+0.21)","v":{"$error":"#N/A"}},{"$f":"IF(OR(AL40=\"\",AL79=\"\"),NA(),(1443/(1443-AL79*10)-(INDEX(換算表!$D$3:$D$273,MATCH(ROUNDDOWN(AL40,1),換算表!$B$3:$B$273,0))*AL40+INDEX(換算表!$E$3:$E$273,MATCH(ROUNDDOWN(AL40,1),換算表!$B$3:$B$273,0))))*260+0.21)","v":{"$error":"#N/A"}},{"$f":"IF(OR(AM40=\"\",AM79=\"\"),NA(),(1443/(1443-AM79*10)-(INDEX(換算表!$D$3:$D$273,MATCH(ROUNDDOWN(AM40,1),換算表!$B$3:$B$273,0))*AM40+INDEX(換算表!$E$3:$E$273,MATCH(ROUNDDOWN(AM40,1),換算表!$B$3:$B$273,0))))*260+0.21)","v":{"$error":"#N/A"}},{"$f":"IF(OR(AN40=\"\",AN79=\"\"),NA(),(1443/(1443-AN79*10)-(INDEX(換算表!$D$3:$D$273,MATCH(ROUNDDOWN(AN40,1),換算表!$B$3:$B$273,0))*AN40+INDEX(換算表!$E$3:$E$273,MATCH(ROUNDDOWN(AN40,1),換算表!$B$3:$B$273,0))))*260+0.21)","v":{"$error":"#N/A"}},{"$f":"IF(OR(AO40=\"\",AO79=\"\"),NA(),(1443/(1443-AO79*10)-(INDEX(換算表!$D$3:$D$273,MATCH(ROUNDDOWN(AO40,1),換算表!$B$3:$B$273,0))*AO40+INDEX(換算表!$E$3:$E$273,MATCH(ROUNDDOWN(AO40,1),換算表!$B$3:$B$273,0))))*260+0.21)","v":{"$error":"#N/A"}},{"$f":"IF(OR(AP40=\"\",AP79=\"\"),NA(),(1443/(1443-AP79*10)-(INDEX(換算表!$D$3:$D$273,MATCH(ROUNDDOWN(AP40,1),換算表!$B$3:$B$273,0))*AP40+INDEX(換算表!$E$3:$E$273,MATCH(ROUNDDOWN(AP40,1),換算表!$B$3:$B$273,0))))*260+0.21)","v":{"$error":"#N/A"}},{"$f":"IF(OR(AQ40=\"\",AQ79=\"\"),NA(),(1443/(1443-AQ79*10)-(INDEX(換算表!$D$3:$D$273,MATCH(ROUNDDOWN(AQ40,1),換算表!$B$3:$B$273,0))*AQ40+INDEX(換算表!$E$3:$E$273,MATCH(ROUNDDOWN(AQ40,1),換算表!$B$3:$B$273,0))))*260+0.21)","v":{"$error":"#N/A"}},{"$f":"IF(OR(AR40=\"\",AR79=\"\"),NA(),(1443/(1443-AR79*10)-(INDEX(換算表!$D$3:$D$273,MATCH(ROUNDDOWN(AR40,1),換算表!$B$3:$B$273,0))*AR40+INDEX(換算表!$E$3:$E$273,MATCH(ROUNDDOWN(AR40,1),換算表!$B$3:$B$273,0))))*260+0.21)","v":{"$error":"#N/A"}},{"$f":"IF(OR(AS40=\"\",AS79=\"\"),NA(),(1443/(1443-AS79*10)-(INDEX(換算表!$D$3:$D$273,MATCH(ROUNDDOWN(AS40,1),換算表!$B$3:$B$273,0))*AS40+INDEX(換算表!$E$3:$E$273,MATCH(ROUNDDOWN(AS40,1),換算表!$B$3:$B$273,0))))*260+0.21)","v":{"$error":"#N/A"}},{"$f":"IF(OR(AT40=\"\",AT79=\"\"),NA(),(1443/(1443-AT79*10)-(INDEX(換算表!$D$3:$D$273,MATCH(ROUNDDOWN(AT40,1),換算表!$B$3:$B$273,0))*AT40+INDEX(換算表!$E$3:$E$273,MATCH(ROUNDDOWN(AT40,1),換算表!$B$3:$B$273,0))))*260+0.21)","v":{"$error":"#N/A"}},{"$f":"IF(OR(AU40=\"\",AU79=\"\"),NA(),(1443/(1443-AU79*10)-(INDEX(換算表!$D$3:$D$273,MATCH(ROUNDDOWN(AU40,1),換算表!$B$3:$B$273,0))*AU40+INDEX(換算表!$E$3:$E$273,MATCH(ROUNDDOWN(AU40,1),換算表!$B$3:$B$273,0))))*260+0.21)","v":{"$error":"#N/A"}},{"$f":"IF(OR(AV40=\"\",AV79=\"\"),NA(),(1443/(1443-AV79*10)-(INDEX(換算表!$D$3:$D$273,MATCH(ROUNDDOWN(AV40,1),換算表!$B$3:$B$273,0))*AV40+INDEX(換算表!$E$3:$E$273,MATCH(ROUNDDOWN(AV40,1),換算表!$B$3:$B$273,0))))*260+0.21)","v":{"$error":"#N/A"}},{"$f":"IF(OR(AW40=\"\",AW79=\"\"),NA(),(1443/(1443-AW79*10)-(INDEX(換算表!$D$3:$D$273,MATCH(ROUNDDOWN(AW40,1),換算表!$B$3:$B$273,0))*AW40+INDEX(換算表!$E$3:$E$273,MATCH(ROUNDDOWN(AW40,1),換算表!$B$3:$B$273,0))))*260+0.21)","v":{"$error":"#N/A"}},{"$f":"IF(OR(AX40=\"\",AX79=\"\"),NA(),(1443/(1443-AX79*10)-(INDEX(換算表!$D$3:$D$273,MATCH(ROUNDDOWN(AX40,1),換算表!$B$3:$B$273,0))*AX40+INDEX(換算表!$E$3:$E$273,MATCH(ROUNDDOWN(AX40,1),換算表!$B$3:$B$273,0))))*260+0.21)","v":{"$error":"#N/A"}},{"$f":"IF(OR(AY40=\"\",AY79=\"\"),NA(),(1443/(1443-AY79*10)-(INDEX(換算表!$D$3:$D$273,MATCH(ROUNDDOWN(AY40,1),換算表!$B$3:$B$273,0))*AY40+INDEX(換算表!$E$3:$E$273,MATCH(ROUNDDOWN(AY40,1),換算表!$B$3:$B$273,0))))*260+0.21)","v":{"$error":"#N/A"}},{"$f":"IF(OR(AZ40=\"\",AZ79=\"\"),NA(),(1443/(1443-AZ79*10)-(INDEX(換算表!$D$3:$D$273,MATCH(ROUNDDOWN(AZ40,1),換算表!$B$3:$B$273,0))*AZ40+INDEX(換算表!$E$3:$E$273,MATCH(ROUNDDOWN(AZ40,1),換算表!$B$3:$B$273,0))))*260+0.21)","v":{"$error":"#N/A"}},{"$f":"IF(OR(BA40=\"\",BA79=\"\"),NA(),(1443/(1443-BA79*10)-(INDEX(換算表!$D$3:$D$273,MATCH(ROUNDDOWN(BA40,1),換算表!$B$3:$B$273,0))*BA40+INDEX(換算表!$E$3:$E$273,MATCH(ROUNDDOWN(BA40,1),換算表!$B$3:$B$273,0))))*260+0.21)","v":{"$error":"#N/A"}},{"$f":"IF(OR(BB40=\"\",BB79=\"\"),NA(),(1443/(1443-BB79*10)-(INDEX(換算表!$D$3:$D$273,MATCH(ROUNDDOWN(BB40,1),換算表!$B$3:$B$273,0))*BB40+INDEX(換算表!$E$3:$E$273,MATCH(ROUNDDOWN(BB40,1),換算表!$B$3:$B$273,0))))*260+0.21)","v":{"$error":"#N/A"}},{"$f":"IF(OR(BC40=\"\",BC79=\"\"),NA(),(1443/(1443-BC79*10)-(INDEX(換算表!$D$3:$D$273,MATCH(ROUNDDOWN(BC40,1),換算表!$B$3:$B$273,0))*BC40+INDEX(換算表!$E$3:$E$273,MATCH(ROUNDDOWN(BC40,1),換算表!$B$3:$B$273,0))))*260+0.21)","v":{"$error":"#N/A"}},{"$f":"IF(OR(BD40=\"\",BD79=\"\"),NA(),(1443/(1443-BD79*10)-(INDEX(換算表!$D$3:$D$273,MATCH(ROUNDDOWN(BD40,1),換算表!$B$3:$B$273,0))*BD40+INDEX(換算表!$E$3:$E$273,MATCH(ROUNDDOWN(BD40,1),換算表!$B$3:$B$273,0))))*260+0.21)","v":{"$error":"#N/A"}},{"$f":"IF(OR(BE40=\"\",BE79=\"\"),NA(),(1443/(1443-BE79*10)-(INDEX(換算表!$D$3:$D$273,MATCH(ROUNDDOWN(BE40,1),換算表!$B$3:$B$273,0))*BE40+INDEX(換算表!$E$3:$E$273,MATCH(ROUNDDOWN(BE40,1),換算表!$B$3:$B$273,0))))*260+0.21)","v":{"$error":"#N/A"}},{"$f":"IF(OR(BF40=\"\",BF79=\"\"),NA(),(1443/(1443-BF79*10)-(INDEX(換算表!$D$3:$D$273,MATCH(ROUNDDOWN(BF40,1),換算表!$B$3:$B$273,0))*BF40+INDEX(換算表!$E$3:$E$273,MATCH(ROUNDDOWN(BF40,1),換算表!$B$3:$B$273,0))))*260+0.21)","v":{"$error":"#N/A"}},{"$f":"IF(OR(BG40=\"\",BG79=\"\"),NA(),(1443/(1443-BG79*10)-(INDEX(換算表!$D$3:$D$273,MATCH(ROUNDDOWN(BG40,1),換算表!$B$3:$B$273,0))*BG40+INDEX(換算表!$E$3:$E$273,MATCH(ROUNDDOWN(BG40,1),換算表!$B$3:$B$273,0))))*260+0.21)","v":{"$error":"#N/A"}},{"$f":"IF(OR(BH40=\"\",BH79=\"\"),NA(),(1443/(1443-BH79*10)-(INDEX(換算表!$D$3:$D$273,MATCH(ROUNDDOWN(BH40,1),換算表!$B$3:$B$273,0))*BH40+INDEX(換算表!$E$3:$E$273,MATCH(ROUNDDOWN(BH40,1),換算表!$B$3:$B$273,0))))*260+0.21)","v":{"$error":"#N/A"}},{"$f":"IF(OR(BI40=\"\",BI79=\"\"),NA(),(1443/(1443-BI79*10)-(INDEX(換算表!$D$3:$D$273,MATCH(ROUNDDOWN(BI40,1),換算表!$B$3:$B$273,0))*BI40+INDEX(換算表!$E$3:$E$273,MATCH(ROUNDDOWN(BI40,1),換算表!$B$3:$B$273,0))))*260+0.21)","v":{"$error":"#N/A"}},null,null,null,null,null,null,null,null,null,null,null,null,null,null,null,null,null,null,null,null,"製成歩合","白米歩合(%)",null,null,null,null,{"$f":"IF(OR(CM9=\"\",SUM(BQ3:BT3)=0),\"-\",(CM9-SUM(BQ6:BT6))/SUM(BQ3:BT3)*100)","v":"-"},null,null,null,null,"粕歩合(%)",null,null,null,null,{"$f":"IFERROR(CZ30/BY3,\"-\")","v":"-"}]
[null,"原ｴｷｽ",null,null,{"$f":"IF(E40=\"\",NA(),E56+1.5848*E40)","v":{"$error":"#N/A"}},{"$error":"#N/A"},{"$error":"#N/A"},{"$error":"#N/A"},{"$error":"#N/A"},{"$error":"#N/A"},{"$error":"#N/A"},{"$error":"#N/A"},{"$f":"IF(M40=\"\",NA(),M56+1.5848*M40)","v":{"$error":"#N/A"}},{"$error":"#N/A"},{"$error":"#N/A"},{"$error":"#N/A"},{"$f":"IF(Q40=\"\",NA(),Q56+1.5848*Q40)","v":{"$error":"#N/A"}},{"$f":"IF(R40=\"\",NA(),R56+1.5848*R40)","v":{"$error":"#N/A"}},{"$error":"#N/A"},{"$error":"#N/A"},{"$error":"#N/A"},{"$error":"#N/A"},{"$error":"#N/A"},{"$error":"#N/A"},{"$error":"#N/A"},{"$error":"#N/A"},{"$error":"#N/A"},{"$error":"#N/A"},{"$error":"#N/A"},{"$error":"#N/A"},{"$error":"#N/A"},{"$error":"#N/A"},{"$error":"#N/A"},{"$error":"#N/A"},{"$error":"#N/A"},{"$error":"#N/A"},{"$error":"#N/A"},{"$error":"#N/A"},{"$error":"#N/A"},{"$error":"#N/A"},{"$error":"#N/A"},{"$error":"#N/A"},{"$error":"#N/A"},{"$error":"#N/A"},{"$error":"#N/A"},{"$error":"#N/A"},{"$error":"#N/A"},{"$error":"#N/A"},{"$error":"#N/A"},{"$error":"#N/A"},{"$error":"#N/A"},{"$error":"#N/A"},{"$error":"#N/A"},{"$error":"#N/A"},{"$error":"#N/A"},{"$error":"#N/A"},{"$error":"#N/A"},{"$error":"#N/A"},{"$error":"#N/A"},{"$error":"#N/A"},{"$error":"#N/A"},null,null,null,"調味液","記号",null,null,null,null,"深",null,null,null,null,"使用月日",null,null,null,null,null,null,"もろみ歩合(%)",null,null,null,null,{"$f":"IFERROR(CZ20/BY3,\"-\")","v":"-"},null,null,null,null,"純ｱﾙｺｰﾙ収得量(L/t)",null,null,null,null,{"$f":"IFERROR((CZ29-CT59)/BY3,\"-\")","v":"-"}]
[null,"累積汲水歩合",null,null,null,{"$f":"SUM($BQ$6:BR$6)/SUM($BQ$3:BR$3)*100","v":{"$error":"#DIV/0!"}},null,null,null,{"$f":"SUM($BQ$6:BS$6)/SUM($BQ$3:BS$3)*100","v":{"$error":"#DIV/0!"}},null,{"$f":"SUM($BQ$6:BT$6)/SUM($BQ$3:BT$3)*100","v":{"$error":"#DIV/0!"}},{"$f":"IF(M34=\"\",NA(),(SUM($BQ$6:$BT$6)+SUM($K$47:L$47))/SUM($BQ$3:$BT$3)*100)","v":{"$error":"#N/A"}},{"$f":"IF(N34=\"\",NA(),(SUM($BQ$6:$BT$6)+SUM($K$47:M$47))/SUM($BQ$3:$BT$3)*100)","v":{"$error":"#N/A"}},{"$f":"IF(O34=\"\",NA(),(SUM($BQ$6:$BT$6)+SUM($K$47:N$47))/SUM($BQ$3:$BT$3)*100)","v":{"$error":"#N/A"}},{"$f":"IF(P34=\"\",NA(),(SUM($BQ$6:$BT$6)+SUM($K$47:O$47))/SUM($BQ$3:$BT$3)*100)","v":{"$error":"#N/A"}},{"$f":"IF(Q34=\"\",NA(),(SUM($BQ$6:$BT$6)+SUM($K$47:P$47))/SUM($BQ$3:$BT$3)*100)","v":{"$error":"#N/A"}},{"$f":"IF(R34=\"\",NA(),(SUM($BQ$6:$BT$6)+SUM($K$47:Q$47))/SUM($BQ$3:$BT$3)*100)","v":{"$error":"#N/A"}},{"$f":"IF(S34=\"\",NA(),(SUM($BQ$6:$BT$6)+SUM($K$47:R$47))/SUM($BQ$3:$BT$3)*100)","v":{"$error":"#N/A"}},{"$f":"IF(T34=\"\",NA(),(SUM($BQ$6:$BT$6)+SUM($K$47:S$47))/SUM($BQ$3:$BT$3)*100)","v":{"$error":"#N/A"}},{"$f":"IF(U34=\"\",NA(),(SUM($BQ$6:$BT$6)+SUM($K$47:T$47))/SUM($BQ$3:$BT$3)*100)","v":{"$error":"#N/A"}},{"$f":"IF(V34=\"\",NA(),(SUM($BQ$6:$BT$6)+SUM($K$47:U$47))/SUM($BQ$3:$BT$3)*100)","v":{"$error":"#N/A"}},{"$f":"IF(W34=\"\",NA(),(SUM($BQ$6:$BT$6)+SUM($K$47:V$47))/SUM($BQ$3:$BT$3)*100)","v":{"$error":"#N/A"}},{"$f":"IF(X34=\"\",NA(),(SUM($BQ$6:$BT$6)+SUM($K$47:W$47))/SUM($BQ$3:$BT$3)*100)","v":{"$error":"#N/A"}},{"$f":"IF(Y34=\"\",NA(),(SUM($BQ$6:$BT$6)+SUM($K$47:X$47))/SUM($BQ$3:$BT$3)*100)","v":{"$error":"#N/A"}},{"$f":"IF(Z34=\"\",NA(),(SUM($BQ$6:$BT$6)+SUM($K$47:Y$47))/SUM($BQ$3:$BT$3)*100)","v":{"$error":"#N/A"}},{"$f":"IF(AA34=\"\",NA(),(SUM($BQ$6:$BT$6)+SUM($K$47:Z$47))/SUM($BQ$3:$BT$3)*100)","v":{"$error":"#N/A"}},{"$f":"IF(AB34=\"\",NA(),(SUM($BQ$6:$BT$6)+SUM($K$47:AA$47))/SUM($BQ$3:$BT$3)*100)","v":{"$error":"#N/A"}},{"$f":"IF(AC34=\"\",NA(),(SUM($BQ$6:$BT$6)+SUM($K$47:AB$47))/SUM($BQ$3:$BT$3)*100)","v":{"$error":"#N/A"}},{"$f":"IF(AD34=\"\",NA(),(SUM($BQ$6:$BT$6)+SUM($K$47:AC$47))/SUM($BQ$3:$BT$3)*100)","v":{"$error":"#N/A"}},{"$f":"IF(AE34=\"\",NA(),(SUM($BQ$6:$BT$6)+SUM($K$47:AD$47))/SUM($BQ$3:$BT$3)*100)","v":{"$error":"#N/A"}},{"$f":"IF(AF34=\"\",NA(),(SUM($BQ$6:$BT$6)+SUM($K$47:AE$47))/SUM($BQ$3:$BT$3)*100)","v":{"$error":"#N/A"}},{"$f":"IF(AG34=\"\",NA(),(SUM($BQ$6:$BT$6)+SUM($K$47:AF$47))/SUM($BQ$3:$BT$3)*100)","v":{"$error":"#N/A"}},{"$f":"IF(AH34=\"\",NA(),(SUM($BQ$6:$BT$6)+SUM($K$47:AG$47))/SUM($BQ$3:$BT$3)*100)","v":{"$error":"#N/A"}},{"$f":"IF(AI34=\"\",NA(),(SUM($BQ$6:$BT$6)+SUM($K$47:AH$47))/SUM($BQ$3:$BT$3)*100)","v":{"$error":"#N/A"}},{"$f":"IF(AJ34=\"\",NA(),(SUM($BQ$6:$BT$6)+SUM($K$47:AI$47))/SUM($BQ$3:$BT$3)*100)","v":{"$error":"#N/A"}},{"$f":"IF(AK34=\"\",NA(),(SUM($BQ$6:$BT$6)+SUM($K$47:AJ$47))/SUM($BQ$3:$BT$3)*100)","v":{"$error":"#N/A"}},{"$f":"IF(AL34=\"\",NA(),(SUM($BQ$6:$BT$6)+SUM($K$47:AK$47))/SUM($BQ$3:$BT$3)*100)","v":{"$error":"#N/A"}},{"$f":"IF(AM34=\"\",NA(),(SUM($BQ$6:$BT$6)+SUM($K$47:AL$47))/SUM($BQ$3:$BT$3)*100)","v":{"$error":"#N/A"}},{"$f":"IF(AN34=\"\",NA(),(SUM($BQ$6:$BT$6)+SUM($K$47:AM$47))/SUM($BQ$3:$BT$3)*100)","v":{"$error":"#N/A"}},{"$f":"IF(AO34=\"\",NA(),(SUM($BQ$6:$BT$6)+SUM($K$47:AN$47))/SUM($BQ$3:$BT$3)*100)","v":{"$error":"#N/A"}},{"$f":"IF(AP34=\"\",NA(),(SUM($BQ$6:$BT$6)+SUM($K$47:AO$47))/SUM($BQ$3:$BT$3)*100)","v":{"$error":"#N/A"}},{"$f":"IF(AQ34=\"\",NA(),(SUM($BQ$6:$BT$6)+SUM($K$47:AP$47))/SUM($BQ$3:$BT$3)*100)","v":{"$error":"#N/A"}},{"$f":"IF(AR34=\"\",NA(),(SUM($BQ$6:$BT$6)+SUM($K$47:AQ$47))/SUM($BQ$3:$BT$3)*100)","v":{"$error":"#N/A"}},{"$f":"IF(AS34=\"\",NA(),(SUM($BQ$6:$BT$6)+SUM($K$47:AR$47))/SUM($BQ$3:$BT$3)*100)","v":{"$error":"#N/A"}},{"$f":"IF(AT34=\"\",NA(),(SUM($BQ$6:$BT$6)+SUM($K$47:AS$47))/SUM($BQ$3:$BT$3)*100)","v":{"$error":"#N/A"}},{"$f":"IF(AU34=\"\",NA(),(SUM($BQ$6:$BT$6)+SUM($K$47:AT$47))/SUM($BQ$3:$BT$3)*100)","v":{"$error":"#N/A"}},{"$f":"IF(AV34=\"\",NA(),(SUM($BQ$6:$BT$6)+SUM($K$47:AU$47))/SUM($BQ$3:$BT$3)*100)","v":{"$error":"#N/A"}},{"$f":"IF(AW34=\"\",NA(),(SUM($BQ$6:$BT$6)+SUM($K$47:AV$47))/SUM($BQ$3:$BT$3)*100)","v":{"$error":"#N/A"}},{"$f":"IF(AX34=\"\",NA(),(SUM($BQ$6:$BT$6)+SUM($K$47:AW$47))/SUM($BQ$3:$BT$3)*100)","v":{"$error":"#N/A"}},{"$f":"IF(AY34=\"\",NA(),(SUM($BQ$6:$BT$6)+SUM($K$47:AX$47))/SUM($BQ$3:$BT$3)*100)","v":{"$error":"#N/A"}},{"$f":"IF(AZ34=\"\",NA(),(SUM($BQ$6:$BT$6)+SUM($K$47:AY$47))/SUM($BQ$3:$BT$3)*100)","v":{"$error":"#N/A"}},{"$f":"IF(BA34=\"\",NA(),(SUM($BQ$6:$BT$6)+SUM($K$47:AZ$47))/SUM($BQ$3:$BT$3)*100)","v":{"$error":"#N/A"}},{"$f":"IF(BB34=\"\",NA(),(SUM($BQ$6:$BT$6)+SUM($K$47:BA$47))/SUM($BQ$3:$BT$3)*100)","v":{"$error":"#N/A"}},{"$f":"IF(BC34=\"\",NA(),(SUM($BQ$6:$BT$6)+SUM($K$47:BB$47))/SUM($BQ$3:$BT$3)*100)","v":{"$error":"#N/A"}},{"$f":"IF(BD34=\"\",NA(),(SUM($BQ$6:$BT$6)+SUM($K$47:BC$47))/SUM($BQ$3:$BT$3)*100)","v":{"$error":"#N/A"}},{"$f":"IF(BE34=\"\",NA(),(SUM($BQ$6:$BT$6)+SUM($K$47:BD$47))/SUM($BQ$3:$BT$3)*100)","v":{"$error":"#N/A"}},{"$f":"IF(BF34=\"\",NA(),(SUM($BQ$6:$BT$6)+SUM($K$47:BE$47))/SUM($BQ$3:$BT$3)*100)","v":{"$error":"#N/A"}},{"$f":"IF(BG34=\"\",NA(),(SUM($BQ$6:$BT$6)+SUM($K$47:BF$47))/SUM($BQ$3:$BT$3)*100)","v":{"$error":"#N/A"}},{"$f":"IF(BH34=\"\",NA(),(SUM($BQ$6:$BT$6)+SUM($K$47:BG$47))/SUM($BQ$3:$BT$3)*100)","v":{"$error":"#N/A"}},{"$f":"IF(BI34=\"\",NA(),(SUM($BQ$6:$BT$6)+SUM($K$47:BH$47))/SUM($BQ$3:$BT$3)*100)","v":{"$error":"#N/A"}},null,null,null,null,"順号",null,null,null,null,"数量(L)",null,null,null,null,"使用先もろみ記号",null,null,null,null,null,null,"もろみ熟成歩合(%)",null,null,null,null,{"$f":"IFERROR((CZ20-BY6-CT58)/BY3,\"-\")","v":"-"},null,null,null,null,"ｱﾙｺｰﾙ添加数量(L)",null,null,null,null,{"$f":"IF(CN2=\"アル添\",CN4,0)+IF(CP2=\"アル添\",CP4,0)+IF(CR2=\"アル添\",CR4,0)+IF(CT2=\"アル添\",CT4,0)+IF(CV2=\"アル添\",CV4,0)+IF(CX2=\"アル添\",CX4,0)+IF(CZ2=\"アル添\",CZ4,0)","v":0}]
[null,"溶解度",null,null,null,null,null,null,null,null,null,null,{"$f":"M57*M58/100","v":{"$error":"#N/A"}},{"$f":"N57*N58/100","v":{"$error":"#N/A"}},{"$f":"O57*O58/100","v":{"$error":"#N/A"}},{"$error":"#N/A"},{"$error":"#N/A"},{"$f":"R57*R58/100","v":{"$error":"#N/A"}},{"$error":"#N/A"},{"$error":"#N/A"},{"$error":"#N/A"},{"$error":"#N/A"},{"$error":"#N/A"},{"$error":"#N/A"},{"$error":"#N/A"},{"$error":"#N/A"},{"$error":"#N/A"},{"$error":"#N/A"},{"$error":"#N/A"},{"$error":"#N/A"},{"$error":"#N/A"},{"$error":"#N/A"},{"$error":"#N/A"},{"$error":"#N/A"},{"$error":"#N/A"},{"$error":"#N/A"},{"$error":"#N/A"},{"$error":"#N/A"},{"$error":"#N/A"},{"$error":"#N/A"},{"$error":"#N/A"},{"$error":"#N/A"},{"$error":"#N/A"},{"$error":"#N/A"},{"$error":"#N/A"},{"$error":"#N/A"},{"$error":"#N/A"},{"$error":"#N/A"},{"$error":"#N/A"},{"$f":"AX57*AX58/100","v":{"$error":"#N/A"}},{"$error":"#N/A"},{"$error":"#N/A"},{"$error":"#N/A"},{"$error":"#N/A"},{"$error":"#N/A"},{"$error":"#N/A"},{"$error":"#N/A"},{"$error":"#N/A"},{"$error":"#N/A"},{"$error":"#N/A"},{"$error":"#N/A"},null,null,null,null,"容器番号",null,null,null,null,"ｱﾙｺｰﾙ分(%)",null,null,null,null,"使用先もろみ順号",null,null,null,null,null,null,"もろみたれ歩合(%)",null,null,null,null,{"$f":"IFERROR(CZ25/CZ20,\"-\")","v":"-"},null,null,null,null,"100%換算ｱﾙｺｰﾙ使用数量(L)",null,null,null,null,{"$f":"IFERROR((IF(CN2=\"アル添\",CN4*CN3,0)+IF(CP2=\"アル添\",CP4*CP3,0)+IF(CR2=\"アル添\",CR4*CR3,0)+IF(CT2=\"アル添\",CT4*CT3,0)+IF(CV2=\"アル添\",CV4*CV3,0)+IF(CX2=\"アル添\",CX4*CX3,0)+IF(CZ2=\"アル添\",CZ4*CZ3,0))/100,\"-\")","v":0}]
[null,"発酵度",null,null,null,null,null,null,null,null,null,null,{"$f":"IF(M40=\"\",NA(),M40*M58/100)","v":{"$error":"#N/A"}},{"$f":"IF(N40=\"\",NA(),N40*N58/100)","v":{"$error":"#N/A"}},{"$f":"IF(O40=\"\",NA(),O40*O58/100)","v":{"$error":"#N/A"}},{"$error":"#N/A"},{"$error":"#N/A"},{"$error":"#N/A"},{"$error":"#N/A"},{"$error":"#N/A"},{"$error":"#N/A"},{"$error":"#N/A"},{"$error":"#N/A"},{"$error":"#N/A"},{"$error":"#N/A"},{"$error":"#N/A"},{"$error":"#N/A"},{"$error":"#N/A"},{"$error":"#N/A"},{"$error":"#N/A"},{"$error":"#N/A"},{"$error":"#N/A"},{"$error":"#N/A"},{"$error":"#N/A"},{"$error":"#N/A"},{"$error":"#N/A"},{"$error":"#N/A"},{"$error":"#N/A"},{"$error":"#N/A"},{"$error":"#N/A"},{"$error":"#N/A"},{"$error":"#N/A"},{"$error":"#N/A"},{"$error":"#N/A"},{"$error":"#N/A"},{"$error":"#N/A"},{"$error":"#N/A"},{"$error":"#N/A"},{"$error":"#N/A"},{"$error":"#N/A"},{"$error":"#N/A"},{"$error":"#N/A"},{"$error":"#N/A"},{"$error":"#N/A"},{"$error":"#N/A"},{"$error":"#N/A"},{"$error":"#N/A"},{"$error":"#N/A"},{"$error":"#N/A"},{"$error":"#N/A"},{"$error":"#N/A"},null,null,null,null,"製造年月日",null,null,null,null,"日本酒度",null,null,null,null,"使用数量(L)",null,null,null,null,null,null,"純ｱﾙｺｰﾙたれ歩合(%)",null,null,null,null,{"$f":"IFERROR(CZ29/CZ20,\"-\")","v":"-"},null,null,null,null,"同上白米1000kg当り使用数(L)",null,null,null,null,{"$f":"IFERROR(CT59/BY3*1000,\"-\")","v":"-"}]
[null,"発酵/溶解比",null,null,null,null,null,null,null,null,null,null,{"$f":"IFERROR((M40*M58/100*1.5848)/M59*100,NA())","v":{"$error":"#N/A"}},{"$f":"IFERROR((N40*N58/100*1.5848)/N59*100,NA())","v":{"$error":"#N/A"}},{"$error":"#N/A"},{"$error":"#N/A"},{"$error":"#N/A"},{"$error":"#N/A"},{"$error":"#N/A"},{"$error":"#N/A"},{"$error":"#N/A"},{"$error":"#N/A"},{"$error":"#N/A"},{"$error":"#N/A"},{"$error":"#N/A"},{"$error":"#N/A"},{"$error":"#N/A"},{"$error":"#N/A"},{"$error":"#N/A"},{"$error":"#N/A"},{"$error":"#N/A"},{"$error":"#N/A"},{"$error":"#N/A"},{"$error":"#N/A"},{"$error":"#N/A"},{"$error":"#N/A"},{"$error":"#N/A"},{"$error":"#N/A"},{"$error":"#N/A"},{"$error":"#N/A"},{"$error":"#N/A"},{"$error":"#N/A"},{"$error":"#N/A"},{"$error":"#N/A"},{"$error":"#N/A"},{"$error":"#N/A"},{"$error":"#N/A"},{"$error":"#N/A"},{"$error":"#N/A"},{"$error":"#N/A"},{"$error":"#N/A"},{"$error":"#N/A"},{"$error":"#N/A"},{"$error":"#N/A"},{"$error":"#N/A"},{"$error":"#N/A"},{"$error":"#N/A"},{"$error":"#N/A"},{"$error":"#N/A"},{"$error":"#N/A"},{"$error":"#N/A"},null,null,null,null,"原料",null,null,null,null,null,null,null,null,null,null,null,null,null,null,null,null,"清酒歩合(%)",null,null,null,null,{"$f":"IFERROR(CZ25/BY3,\"-\")","v":"-"},null,null,null,null,"白米利用率(%)",null,null,null,null,{"$f":"IFERROR(SUMPRODUCT(CH25:CY25,CH35:CY35)/(81*180/162*BY3+1.5848*CT59),\"-\")","v":"-"}]
[null,"原料利用率",null,null,null,null,null,null,null,null,null,null,{"$f":"M57*(M58*$BY$3/100+$I$9)/(100-0.612*M57)/$BY$3*100","v":{"$error":"#N/A"}},{"$f":"N57*(N58*$BY$3/100+$I$9)/(100-0.612*N57)/$BY$3*100","v":{"$error":"#N/A"}},{"$error":"#N/A"},{"$error":"#N/A"},{"$error":"#N/A"},{"$error":"#N/A"},{"$error":"#N/A"},{"$error":"#N/A"},{"$error":"#N/A"},{"$error":"#N/A"},{"$error":"#N/A"},{"$error":"#N/A"},{"$error":"#N/A"},{"$error":"#N/A"},{"$error":"#N/A"},{"$error":"#N/A"},{"$error":"#N/A"},{"$error":"#N/A"},{"$error":"#N/A"},{"$error":"#N/A"},{"$error":"#N/A"},{"$error":"#N/A"},{"$error":"#N/A"},{"$error":"#N/A"},{"$error":"#N/A"},{"$error":"#N/A"},{"$error":"#N/A"},{"$error":"#N/A"},{"$error":"#N/A"},{"$error":"#N/A"},{"$error":"#N/A"},{"$error":"#N/A"},{"$error":"#N/A"},{"$error":"#N/A"},{"$error":"#N/A"},{"$error":"#N/A"},{"$error":"#N/A"},{"$error":"#N/A"},{"$error":"#N/A"},{"$error":"#N/A"},{"$error":"#N/A"},{"$error":"#N/A"},{"$error":"#N/A"},{"$error":"#N/A"},{"$error":"#N/A"},{"$error":"#N/A"},{"$error":"#N/A"},{"$error":"#N/A"},{"$error":"#N/A"},null,null,null,null,null,null,null,null,null,null,null,null,null,null,null,null,null,null,null,null,null,"肉たれ歩合(%)",null,null,null,null,{"$f":"IFERROR((CZ25-BY6-CT58)/BY3,\"-\")","v":"-"},null,null,null,null,"対玄米利用率(%)",null,null,null,null,{"$f":"IFERROR(CT61*(SUMPRODUCT(BQ17:BY17,BQ19:BY19)/(BY3*100)),\"-\")","v":"-"}]
[null,"溶解固形分(kg)",null,null,null,null,null,null,null,null,null,null,{"$f":"M62*$BY$3/100","v":{"$error":"#N/A"}},{"$f":"N62*$BY$3/100","v":{"$error":"#N/A"}},{"$f":"O62*$BY$3/100","v":{"$error":"#N/A"}},{"$error":"#N/A"},{"$error":"#N/A"},{"$error":"#N/A"},{"$error":"#N/A"},{"$error":"#N/A"},{"$error":"#N/A"},{"$error":"#N/A"},{"$error":"#N/A"},{"$error":"#N/A"},{"$error":"#N/A"},{"$error":"#N/A"},{"$error":"#N/A"},{"$error":"#N/A"},{"$error":"#N/A"},{"$error":"#N/A"},{"$error":"#N/A"},{"$error":"#N/A"},{"$error":"#N/A"},{"$error":"#N/A"},{"$error":"#N/A"},{"$error":"#N/A"},{"$error":"#N/A"},{"$error":"#N/A"},{"$error":"#N/A"},{"$error":"#N/A"},{"$error":"#N/A"},{"$error":"#N/A"},{"$error":"#N/A"},{"$error":"#N/A"},{"$error":"#N/A"},{"$error":"#N/A"},{"$error":"#N/A"},{"$error":"#N/A"},{"$error":"#N/A"},{"$error":"#N/A"},{"$error":"#N/A"},{"$error":"#N/A"},{"$error":"#N/A"},{"$error":"#N/A"},{"$error":"#N/A"},{"$error":"#N/A"},{"$error":"#N/A"},{"$error":"#N/A"},{"$error":"#N/A"},{"$error":"#N/A"},{"$error":"#N/A"},null,null,null,null,null,null,null,null,null,null,null,null,null,null,null,null,null,null,null,null,null,"汲水歩合(%)",null,null,null,null,{"$f":"I8","v":"-"}]
[null,"残存固形分(kg)",null,null,null,null,null,null,null,null,null,null,{"$f":"$CB$20-$BY$3*M62/100","v":{"$error":"#N/A"}},{"$f":"$CB$20-$BY$3*N62/100","v":{"$error":"#N/A"}},{"$error":"#N/A"},{"$error":"#N/A"},{"$error":"#N/A"},{"$error":"#N/A"},{"$error":"#N/A"},{"$error":"#N/A"},{"$error":"#N/A"},{"$error":"#N/A"},{"$error":"#N/A"},{"$error":"#N/A"},{"$error":"#N/A"},{"$error":"#N/A"},{"$error":"#N/A"},{"$error":"#N/A"},{"$error":"#N/A"},{"$error":"#N/A"},{"$error":"#N/A"},{"$error":"#N/A"},{"$error":"#N/A"},{"$error":"#N/A"},{"$error":"#N/A"},{"$error":"#N/A"},{"$error":"#N/A"},{"$error":"#N/A"},{"$error":"#N/A"},{"$error":"#N/A"},{"$error":"#N/A"},{"$error":"#N/A"},{"$error":"#N/A"},{"$error":"#N/A"},{"$error":"#N/A"},{"$error":"#N/A"},{"$error":"#N/A"},{"$error":"#N/A"},{"$error":"#N/A"},{"$error":"#N/A"},{"$error":"#N/A"},{"$error":"#N/A"},{"$error":"#N/A"},{"$error":"#N/A"},{"$error":"#N/A"},{"$error":"#N/A"},{"$error":"#N/A"},{"$error":"#N/A"},{"$error":"#N/A"},{"$error":"#N/A"},{"$error":"#N/A"},null,null,null,null,null,null,null,null,null,null,null,null,null,null,null,null,null,null,null,null,null,"総水歩合(%)",null,null,null,null,{"$f":"IFERROR((BY6+CT58)/BY3,\"-\")","v":"-"}]
[null,"推定粕歩合",null,null,null,null,null,null,null,null,null,null,{"$f":"IFERROR(M64/(100-50)*100/$BY$3*100,NA())","v":{"$error":"#N/A"}},{"$f":"IFERROR(N64/(100-50)*100/$BY$3*100,NA())","v":{"$error":"#N/A"}},{"$f":"IFERROR(O64/(100-50)*100/$BY$3*100,NA())","v":{"$error":"#N/A"}},{"$error":"#N/A"},{"$error":"#N/A"},{"$error":"#N/A"},{"$error":"#N/A"},{"$error":"#N/A"},{"$error":"#N/A"},{"$error":"#N/A"},{"$error":"#N/A"},{"$error":"#N/A"},{"$error":"#N/A"},{"$error":"#N/A"},{"$error":"#N/A"},{"$error":"#N/A"},{"$error":"#N/A"},{"$error":"#N/A"},{"$error":"#N/A"},{"$error":"#N/A"},{"$error":"#N/A"},{"$error":"#N/A"},{"$error":"#N/A"},{"$error":"#N/A"},{"$error":"#N/A"},{"$error":"#N/A"},{"$error":"#N/A"},{"$error":"#N/A"},{"$error":"#N/A"},{"$error":"#N/A"},{"$error":"#N/A"},{"$error":"#N/A"},{"$error":"#N/A"},{"$error":"#N/A"},{"$error":"#N/A"},{"$error":"#N/A"},{"$error":"#N/A"},{"$error":"#N/A"},{"$error":"#N/A"},{"$error":"#N/A"},{"$error":"#N/A"},{"$error":"#N/A"},{"$error":"#N/A"},{"$error":"#N/A"},{"$error":"#N/A"},{"$error":"#N/A"},{"$error":"#N/A"},{"$error":"#N/A"},{"$error":"#N/A"}]
[null,"目標","ﾎﾞｰﾒ"]
[null,null,"日本酒度"]
[null,null,"ｱﾙｺｰﾙ"]
[null,null,"BMD",null,null,null,null,null,null,null,null,null,{"$f":"IF(M80=\"\",NA(),M32*M80)","v":{"$error":"#N/A"}},{"$f":"IF(N80=\"\",NA(),N32*N80)","v":{"$error":"#N/A"}},{"$f":"IF(O80=\"\",NA(),O32*O80)","v":{"$error":"#N/A"}},{"$error":"#N/A"},{"$error":"#N/A"},{"$error":"#N/A"},{"$error":"#N/A"},{"$error":"#N/A"},{"$error":"#N/A"},{"$error":"#N/A"},{"$error":"#N/A"},{"$error":"#N/A"},{"$error":"#N/A"},{"$error":"#N/A"},{"$error":"#N/A"},{"$error":"#N/A"},{"$error":"#N/A"},{"$error":"#N/A"},{"$error":"#N/A"},{"$error":"#N/A"},{"$error":"#N/A"},{"$error":"#N/A"},{"$error":"#N/A"},{"$error":"#N/A"},{"$error":"#N/A"},{"$error":"#N/A"},{"$error":"#N/A"},{"$error":"#N/A"},{"$error":"#N/A"},{"$error":"#N/A"},{"$error":"#N/A"},{"$error":"#N/A"},{"$error":"#N/A"},{"$error":"#N/A"},{"$error":"#N/A"},{"$error":"#N/A"},{"$error":"#N/A"},{"$error":"#N/A"},{"$error":"#N/A"},{"$error":"#N/A"},{"$error":"#N/A"},{"$error":"#N/A"},{"$error":"#N/A"},{"$error":"#N/A"},{"$error":"#N/A"},{"$error":"#N/A"},{"$error":"#N/A"},{"$error":"#N/A"},{"$error":"#N/A"}]
[null,null,"ｴｷｽ",null,null,null,null,null,null,null,null,null,{"$f":"IF(OR(M68=\"\",M80=\"\"),NA(),(1443/(1443-M80*10)-(INDEX(換算表!$D$3:$D$273,MATCH(ROUNDDOWN(M68,1),換算表!$B$3:$B$273,0))*M68+INDEX(換算表!$E$3:$E$273,MATCH(ROUNDDOWN(M68,1),換算表!$B$3:$B$273,0))))*260+0.21)","v":{"$error":"#N/A"}},{"$f":"IF(OR(N68=\"\",N80=\"\"),NA(),(1443/(1443-N80*10)-(INDEX(換算表!$D$3:$D$273,MATCH(ROUNDDOWN(N68,1),換算表!$B$3:$B$273,0))*N68+INDEX(換算表!$E$3:$E$273,MATCH(ROUNDDOWN(N68,1),換算表!$B$3:$B$273,0))))*260+0.21)","v":{"$error":"#N/A"}},{"$f":"IF(OR(O68=\"\",O80=\"\"),NA(),(1443/(1443-O80*10)-(INDEX(換算表!$D$3:$D$273,MATCH(ROUNDDOWN(O68,1),換算表!$B$3:$B$273,0))*O68+INDEX(換算表!$E$3:$E$273,MATCH(ROUNDDOWN(O68,1),換算表!$B$3:$B$273,0))))*260+0.21)","v":{"$error":"#N/A"}},{"$f":"IF(OR(P68=\"\",P80=\"\"),NA(),(1443/(1443-P80*10)-(INDEX(換算表!$D$3:$D$273,MATCH(ROUNDDOWN(P68,1),換算表!$B$3:$B$273,0))*P68+INDEX(換算表!$E$3:$E$273,MATCH(ROUNDDOWN(P68,1),換算表!$B$3:$B$273,0))))*260+0.21)","v":{"$error":"#N/A"}},{"$f":"IF(OR(Q68=\"\",Q80=\"\"),NA(),(1443/(1443-Q80*10)-(INDEX(換算表!$D$3:$D$273,MATCH(ROUNDDOWN(Q68,1),換算表!$B$3:$B$273,0))*Q68+INDEX(換算表!$E$3:$E$273,MATCH(ROUNDDOWN(Q68,1),換算表!$B$3:$B$273,0))))*260+0.21)","v":{"$error":"#N/A"}},{"$f":"IF(OR(R68=\"\",R80=\"\"),NA(),(1443/(1443-R80*10)-(INDEX(換算表!$D$3:$D$273,MATCH(ROUNDDOWN(R68,1),換算表!$B$3:$B$273,0))*R68+INDEX(換算表!$E$3:$E$273,MATCH(ROUNDDOWN(R68,1),換算表!$B$3:$B$273,0))))*260+0.21)","v":{"$error":"#N/A"}},{"$f":"IF(OR(S68=\"\",S80=\"\"),NA(),(1443/(1443-S80*10)-(INDEX(換算表!$D$3:$D$273,MATCH(ROUNDDOWN(S68,1),換算表!$B$3:$B$273,0))*S68+INDEX(換算表!$E$3:$E$273,MATCH(ROUNDDOWN(S68,1),換算表!$B$3:$B$273,0))))*260+0.21)","v":{"$error":"#N/A"}},{"$f":"IF(OR(T68=\"\",T80=\"\"),NA(),(1443/(1443-T80*10)-(INDEX(換算表!$D$3:$D$273,MATCH(ROUNDDOWN(T68,1),換算表!$B$3:$B$273,0))*T68+INDEX(換算表!$E$3:$E$273,MATCH(ROUNDDOWN(T68,1),換算表!$B$3:$B$273,0))))*260+0.21)","v":{"$error":"#N/A"}},{"$f":"IF(OR(U68=\"\",U80=\"\"),NA(),(1443/(1443-U80*10)-(INDEX(換算表!$D$3:$D$273,MATCH(ROUNDDOWN(U68,1),換算表!$B$3:$B$273,0))*U68+INDEX(換算表!$E$3:$E$273,MATCH(ROUNDDOWN(U68,1),換算表!$B$3:$B$273,0))))*260+0.21)","v":{"$error":"#N/A"}},{"$f":"IF(OR(V68=\"\",V80=\"\"),NA(),(1443/(1443-V80*10)-(INDEX(換算表!$D$3:$D$273,MATCH(ROUNDDOWN(V68,1),換算表!$B$3:$B$273,0))*V68+INDEX(換算表!$E$3:$E$273,MATCH(ROUNDDOWN(V68,1),換算表!$B$3:$B$273,0))))*260+0.21)","v":{"$error":"#N/A"}},{"$f":"IF(OR(W68=\"\",W80=\"\"),NA(),(1443/(1443-W80*10)-(INDEX(換算表!$D$3:$D$273,MATCH(ROUNDDOWN(W68,1),換算表!$B$3:$B$273,0))*W68+INDEX(換算表!$E$3:$E$273,MATCH(ROUNDDOWN(W68,1),換算表!$B$3:$B$273,0))))*260+0.21)","v":{"$error":"#N/A"}},{"$f":"IF(OR(X68=\"\",X80=\"\"),NA(),(1443/(1443-X80*10)-(INDEX(換算表!$D$3:$D$273,MATCH(ROUNDDOWN(X68,1),換算表!$B$3:$B$273,0))*X68+INDEX(換算表!$E$3:$E$273,MATCH(ROUNDDOWN(X68,1),換算表!$B$3:$B$273,0))))*260+0.21)","v":{"$error":"#N/A"}},{"$f":"IF(OR(Y68=\"\",Y80=\"\"),NA(),(1443/(1443-Y80*10)-(INDEX(換算表!$D$3:$D$273,MATCH(ROUNDDOWN(Y68,1),換算表!$B$3:$B$273,0))*Y68+INDEX(換算表!$E$3:$E$273,MATCH(ROUNDDOWN(Y68,1),換算表!$B$3:$B$273,0))))*260+0.21)","v":{"$error":"#N/A"}},{"$f":"IF(OR(Z68=\"\",Z80=\"\"),NA(),(1443/(1443-Z80*10)-(INDEX(換算表!$D$3:$D$273,MATCH(ROUNDDOWN(Z68,1),換算表!$B$3:$B$273,0))*Z68+INDEX(換算表!$E$3:$E$273,MATCH(ROUNDDOWN(Z68,1),換算表!$B$3:$B$273,0))))*260+0.21)","v":{"$error":"#N/A"}},{"$f":"IF(OR(AA68=\"\",AA80=\"\"),NA(),(1443/(1443-AA80*10)-(INDEX(換算表!$D$3:$D$273,MATCH(ROUNDDOWN(AA68,1),換算表!$B$3:$B$273,0))*AA68+INDEX(換算表!$E$3:$E$273,MATCH(ROUNDDOWN(AA68,1),換算表!$B$3:$B$273,0))))*260+0.21)","v":{"$error":"#N/A"}},{"$f":"IF(OR(AB68=\"\",AB80=\"\"),NA(),(1443/(1443-AB80*10)-(INDEX(換算表!$D$3:$D$273,MATCH(ROUNDDOWN(AB68,1),換算表!$B$3:$B$273,0))*AB68+INDEX(換算表!$E$3:$E$273,MATCH(ROUNDDOWN(AB68,1),換算表!$B$3:$B$273,0))))*260+0.21)","v":{"$error":"#N/A"}},{"$f":"IF(OR(AC68=\"\",AC80=\"\"),NA(),(1443/(1443-AC80*10)-(INDEX(換算表!$D$3:$D$273,MATCH(ROUNDDOWN(AC68,1),換算表!$B$3:$B$273,0))*AC68+INDEX(換算表!$E$3:$E$273,MATCH(ROUNDDOWN(AC68,1),換算表!$B$3:$B$273,0))))*260+0.21)","v":{"$error":"#N/A"}},{"$f":"IF(OR(AD68=\"\",AD80=\"\"),NA(),(1443/(1443-AD80*10)-(INDEX(換算表!$D$3:$D$273,MATCH(ROUNDDOWN(AD68,1),換算表!$B$3:$B$273,0))*AD68+INDEX(換算表!$E$3:$E$273,MATCH(ROUNDDOWN(AD68,1),換算表!$B$3:$B$273,0))))*260+0.21)","v":{"$error":"#N/A"}},{"$f":"IF(OR(AE68=\"\",AE80=\"\"),NA(),(1443/(1443-AE80*10)-(INDEX(換算表!$D$3:$D$273,MATCH(ROUNDDOWN(AE68,1),換算表!$B$3:$B$273,0))*AE68+INDEX(換算表!$E$3:$E$273,MATCH(ROUNDDOWN(AE68,1),換算表!$B$3:$B$273,0))))*260+0.21)","v":{"$error":"#N/A"}},{"$f":"IF(OR(AF68=\"\",AF80=\"\"),NA(),(1443/(1443-AF80*10)-(INDEX(換算表!$D$3:$D$273,MATCH(ROUNDDOWN(AF68,1),換算表!$B$3:$B$273,0))*AF68+INDEX(換算表!$E$3:$E$273,MATCH(ROUNDDOWN(AF68,1),換算表!$B$3:$B$273,0))))*260+0.21)","v":{"$error":"#N/A"}},{"$f":"IF(OR(AG68=\"\",AG80=\"\"),NA(),(1443/(1443-AG80*10)-(INDEX(換算表!$D$3:$D$273,MATCH(ROUNDDOWN(AG68,1),換算表!$B$3:$B$273,0))*AG68+INDEX(換算表!$E$3:$E$273,MATCH(ROUNDDOWN(AG68,1),換算表!$B$3:$B$273,0))))*260+0.21)","v":{"$error":"#N/A"}},{"$f":"IF(OR(AH68=\"\",AH80=\"\"),NA(),(1443/(1443-AH80*10)-(INDEX(換算表!$D$3:$D$273,MATCH(ROUNDDOWN(AH68,1),換算表!$B$3:$B$273,0))*AH68+INDEX(換算表!$E$3:$E$273,MATCH(ROUNDDOWN(AH68,1),換算表!$B$3:$B$273,0))))*260+0.21)","v":{"$error":"#N/A"}},{"$f":"IF(OR(AI68=\"\",AI80=\"\"),NA(),(1443/(1443-AI80*10)-(INDEX(換算表!$D$3:$D$273,MATCH(ROUNDDOWN(AI68,1),換算表!$B$3:$B$273,0))*AI68+INDEX(換算表!$E$3:$E$273,MATCH(ROUNDDOWN(AI68,1),換算表!$B$3:$B$273,0))))*260+0.21)","v":{"$error":"#N/A"}},{"$f":"IF(OR(AJ68=\"\",AJ80=\"\"),NA(),(1443/(1443-AJ80*10)-(INDEX(換算表!$D$3:$D$273,MATCH(ROUNDDOWN(AJ68,1),換算表!$B$3:$B$273,0))*AJ68+INDEX(換算表!$E$3:$E$273,MATCH(ROUNDDOWN(AJ68,1),換算表!$B$3:$B$273,0))))*260+0.21)","v":{"$error":"#N/A"}},{"$f":"IF(OR(AK68=\"\",AK80=\"\"),NA(),(1443/(1443-AK80*10)-(INDEX(換算表!$D$3:$D$273,MATCH(ROUNDDOWN(AK68,1),換算表!$B$3:$B$273,0))*AK68+INDEX(換算表!$E$3:$E$273,MATCH(ROUNDDOWN(AK68,1),換算表!$B$3:$B$273,0))))*260+0.21)","v":{"$error":"#N/A"}},{"$f":"IF(OR(AL68=\"\",AL80=\"\"),NA(),(1443/(1443-AL80*10)-(INDEX(換算表!$D$3:$D$273,MATCH(ROUNDDOWN(AL68,1),換算表!$B$3:$B$273,0))*AL68+INDEX(換算表!$E$3:$E$273,MATCH(ROUNDDOWN(AL68,1),換算表!$B$3:$B$273,0))))*260+0.21)","v":{"$error":"#N/A"}},{"$f":"IF(OR(AM68=\"\",AM80=\"\"),NA(),(1443/(1443-AM80*10)-(INDEX(換算表!$D$3:$D$273,MATCH(ROUNDDOWN(AM68,1),換算表!$B$3:$B$273,0))*AM68+INDEX(換算表!$E$3:$E$273,MATCH(ROUNDDOWN(AM68,1),換算表!$B$3:$B$273,0))))*260+0.21)","v":{"$error":"#N/A"}},{"$f":"IF(OR(AN68=\"\",AN80=\"\"),NA(),(1443/(1443-AN80*10)-(INDEX(換算表!$D$3:$D$273,MATCH(ROUNDDOWN(AN68,1),換算表!$B$3:$B$273,0))*AN68+INDEX(換算表!$E$3:$E$273,MATCH(ROUNDDOWN(AN68,1),換算表!$B$3:$B$273,0))))*260+0.21)","v":{"$error":"#N/A"}},{"$f":"IF(OR(AO68=\"\",AO80=\"\"),NA(),(1443/(1443-AO80*10)-(INDEX(換算表!$D$3:$D$273,MATCH(ROUNDDOWN(AO68,1),換算表!$B$3:$B$273,0))*AO68+INDEX(換算表!$E$3:$E$273,MATCH(ROUNDDOWN(AO68,1),換算表!$B$3:$B$273,0))))*260+0.21)","v":{"$error":"#N/A"}},{"$f":"IF(OR(AP68=\"\",AP80=\"\"),NA(),(1443/(1443-AP80*10)-(INDEX(換算表!$D$3:$D$273,MATCH(ROUNDDOWN(AP68,1),換算表!$B$3:$B$273,0))*AP68+INDEX(換算表!$E$3:$E$273,MATCH(ROUNDDOWN(AP68,1),換算表!$B$3:$B$273,0))))*260+0.21)","v":{"$error":"#N/A"}},{"$f":"IF(OR(AQ68=\"\",AQ80=\"\"),NA(),(1443/(1443-AQ80*10)-(INDEX(換算表!$D$3:$D$273,MATCH(ROUNDDOWN(AQ68,1),換算表!$B$3:$B$273,0))*AQ68+INDEX(換算表!$E$3:$E$273,MATCH(ROUNDDOWN(AQ68,1),換算表!$B$3:$B$273,0))))*260+0.21)","v":{"$error":"#N/A"}},{"$f":"IF(OR(AR68=\"\",AR80=\"\"),NA(),(1443/(1443-AR80*10)-(INDEX(換算表!$D$3:$D$273,MATCH(ROUNDDOWN(AR68,1),換算表!$B$3:$B$273,0))*AR68+INDEX(換算表!$E$3:$E$273,MATCH(ROUNDDOWN(AR68,1),換算表!$B$3:$B$273,0))))*260+0.21)","v":{"$error":"#N/A"}},{"$f":"IF(OR(AS68=\"\",AS80=\"\"),NA(),(1443/(1443-AS80*10)-(INDEX(換算表!$D$3:$D$273,MATCH(ROUNDDOWN(AS68,1),換算表!$B$3:$B$273,0))*AS68+INDEX(換算表!$E$3:$E$273,MATCH(ROUNDDOWN(AS68,1),換算表!$B$3:$B$273,0))))*260+0.21)","v":{"$error":"#N/A"}},{"$f":"IF(OR(AT68=\"\",AT80=\"\"),NA(),(1443/(1443-AT80*10)-(INDEX(換算表!$D$3:$D$273,MATCH(ROUNDDOWN(AT68,1),換算表!$B$3:$B$273,0))*AT68+INDEX(換算表!$E$3:$E$273,MATCH(ROUNDDOWN(AT68,1),換算表!$B$3:$B$273,0))))*260+0.21)","v":{"$error":"#N/A"}},{"$f":"IF(OR(AU68=\"\",AU80=\"\"),NA(),(1443/(1443-AU80*10)-(INDEX(換算表!$D$3:$D$273,MATCH(ROUNDDOWN(AU68,1),換算表!$B$3:$B$273,0))*AU68+INDEX(換算表!$E$3:$E$273,MATCH(ROUNDDOWN(AU68,1),換算表!$B$3:$B$273,0))))*260+0.21)","v":{"$error":"#N/A"}},{"$f":"IF(OR(AV68=\"\",AV80=\"\"),NA(),(1443/(1443-AV80*10)-(INDEX(換算表!$D$3:$D$273,MATCH(ROUNDDOWN(AV68,1),換算表!$B$3:$B$273,0))*AV68+INDEX(換算表!$E$3:$E$273,MATCH(ROUNDDOWN(AV68,1),換算表!$B$3:$B$273,0))))*260+0.21)","v":{"$error":"#N/A"}},{"$f":"IF(OR(AW68=\"\",AW80=\"\"),NA(),(1443/(1443-AW80*10)-(INDEX(換算表!$D$3:$D$273,MATCH(ROUNDDOWN(AW68,1),換算表!$B$3:$B$273,0))*AW68+INDEX(換算表!$E$3:$E$273,MATCH(ROUNDDOWN(AW68,1),換算表!$B$3:$B$273,0))))*260+0.21)","v":{"$error":"#N/A"}},{"$f":"IF(OR(AX68=\"\",AX80=\"\"),NA(),(1443/(1443-AX80*10)-(INDEX(換算表!$D$3:$D$273,MATCH(ROUNDDOWN(AX68,1),換算表!$B$3:$B$273,0))*AX68+INDEX(換算表!$E$3:$E$273,MATCH(ROUNDDOWN(AX68,1),換算表!$B$3:$B$273,0))))*260+0.21)","v":{"$error":"#N/A"}},{"$f":"IF(OR(AY68=\"\",AY80=\"\"),NA(),(1443/(1443-AY80*10)-(INDEX(換算表!$D$3:$D$273,MATCH(ROUNDDOWN(AY68,1),換算表!$B$3:$B$273,0))*AY68+INDEX(換算表!$E$3:$E$273,MATCH(ROUNDDOWN(AY68,1),換算表!$B$3:$B$273,0))))*260+0.21)","v":{"$error":"#N/A"}},{"$f":"IF(OR(AZ68=\"\",AZ80=\"\"),NA(),(1443/(1443-AZ80*10)-(INDEX(換算表!$D$3:$D$273,MATCH(ROUNDDOWN(AZ68,1),換算表!$B$3:$B$273,0))*AZ68+INDEX(換算表!$E$3:$E$273,MATCH(ROUNDDOWN(AZ68,1),換算表!$B$3:$B$273,0))))*260+0.21)","v":{"$error":"#N/A"}},{"$f":"IF(OR(BA68=\"\",BA80=\"\"),NA(),(1443/(1443-BA80*10)-(INDEX(換算表!$D$3:$D$273,MATCH(ROUNDDOWN(BA68,1),換算表!$B$3:$B$273,0))*BA68+INDEX(換算表!$E$3:$E$273,MATCH(ROUNDDOWN(BA68,1),換算表!$B$3:$B$273,0))))*260+0.21)","v":{"$error":"#N/A"}},{"$f":"IF(OR(BB68=\"\",BB80=\"\"),NA(),(1443/(1443-BB80*10)-(INDEX(換算表!$D$3:$D$273,MATCH(ROUNDDOWN(BB68,1),換算表!$B$3:$B$273,0))*BB68+INDEX(換算表!$E$3:$E$273,MATCH(ROUNDDOWN(BB68,1),換算表!$B$3:$B$273,0))))*260+0.21)","v":{"$error":"#N/A"}},{"$f":"IF(OR(BC68=\"\",BC80=\"\"),NA(),(1443/(1443-BC80*10)-(INDEX(換算表!$D$3:$D$273,MATCH(ROUNDDOWN(BC68,1),換算表!$B$3:$B$273,0))*BC68+INDEX(換算表!$E$3:$E$273,MATCH(ROUNDDOWN(BC68,1),換算表!$B$3:$B$273,0))))*260+0.21)","v":{"$error":"#N/A"}},{"$f":"IF(OR(BD68=\"\",BD80=\"\"),NA(),(1443/(1443-BD80*10)-(INDEX(換算表!$D$3:$D$273,MATCH(ROUNDDOWN(BD68,1),換算表!$B$3:$B$273,0))*BD68+INDEX(換算表!$E$3:$E$273,MATCH(ROUNDDOWN(BD68,1),換算表!$B$3:$B$273,0))))*260+0.21)","v":{"$error":"#N/A"}},{"$f":"IF(OR(BE68=\"\",BE80=\"\"),NA(),(1443/(1443-BE80*10)-(INDEX(換算表!$D$3:$D$273,MATCH(ROUNDDOWN(BE68,1),換算表!$B$3:$B$273,0))*BE68+INDEX(換算表!$E$3:$E$273,MATCH(ROUNDDOWN(BE68,1),換算表!$B$3:$B$273,0))))*260+0.21)","v":{"$error":"#N/A"}},{"$f":"IF(OR(BF68=\"\",BF80=\"\"),NA(),(1443/(1443-BF80*10)-(INDEX(換算表!$D$3:$D$273,MATCH(ROUNDDOWN(BF68,1),換算表!$B$3:$B$273,0))*BF68+INDEX(換算表!$E$3:$E$273,MATCH(ROUNDDOWN(BF68,1),換算表!$B$3:$B$273,0))))*260+0.21)","v":{"$error":"#N/A"}},{"$f":"IF(OR(BG68=\"\",BG80=\"\"),NA(),(1443/(1443-BG80*10)-(INDEX(換算表!$D$3:$D$273,MATCH(ROUNDDOWN(BG68,1),換算表!$B$3:$B$273,0))*BG68+INDEX(換算表!$E$3:$E$273,MATCH(ROUNDDOWN(BG68,1),換算表!$B$3:$B$273,0))))*260+0.21)","v":{"$error":"#N/A"}},{"$f":"IF(OR(BH68=\"\",BH80=\"\"),NA(),(1443/(1443-BH80*10)-(INDEX(換算表!$D$3:$D$273,MATCH(ROUNDDOWN(BH68,1),換算表!$B$3:$B$273,0))*BH68+INDEX(換算表!$E$3:$E$273,MATCH(ROUNDDOWN(BH68,1),換算表!$B$3:$B$273,0))))*260+0.21)","v":{"$error":"#N/A"}},{"$f":"IF(OR(BI68=\"\",BI80=\"\"),NA(),(1443/(1443-BI80*10)-(INDEX(換算表!$D$3:$D$273,MATCH(ROUNDDOWN(BI68,1),換算表!$B$3:$B$273,0))*BI68+INDEX(換算表!$E$3:$E$273,MATCH(ROUNDDOWN(BI68,1),換算表!$B$3:$B$273,0))))*260+0.21)","v":{"$error":"#N/A"}}]
[null,null,"原ｴｷｽ",null,null,null,null,null,null,null,null,null,{"$f":"IF(M68=\"\",NA(),M70+1.5848*M68)","v":{"$error":"#N/A"}},{"$f":"IF(N68=\"\",NA(),N70+1.5848*N68)","v":{"$error":"#N/A"}},{"$f":"IF(O68=\"\",NA(),O70+1.5848*O68)","v":{"$error":"#N/A"}},{"$error":"#N/A"},{"$error":"#N/A"},{"$error":"#N/A"},{"$error":"#N/A"},{"$error":"#N/A"},{"$error":"#N/A"},{"$error":"#N/A"},{"$error":"#N/A"},{"$error":"#N/A"},{"$error":"#N/A"},{"$error":"#N/A"},{"$error":"#N/A"},{"$error":"#N/A"},{"$error":"#N/A"},{"$error":"#N/A"},{"$error":"#N/A"},{"$error":"#N/A"},{"$error":"#N/A"},{"$error":"#N/A"},{"$error":"#N/A"},{"$error":"#N/A"},{"$error":"#N/A"},{"$error":"#N/A"},{"$error":"#N/A"},{"$error":"#N/A"},{"$error":"#N/A"},{"$error":"#N/A"},{"$error":"#N/A"},{"$error":"#N/A"},{"$error":"#N/A"},{"$error":"#N/A"},{"$error":"#N/A"},{"$error":"#N/A"},{"$error":"#N/A"},{"$error":"#N/A"},{"$error":"#N/A"},{"$error":"#N/A"},{"$error":"#N/A"},{"$error":"#N/A"},{"$error":"#N/A"},{"$error":"#N/A"},{"$error":"#N/A"},{"$error":"#N/A"},{"$error":"#N/A"},{"$error":"#N/A"},{"$error":"#N/A"}]
[null,"AB直線理論式",null,null,"Alc=α-(β×Be)",null,null,null,null,"α=",null,"β="]
[]
[null,"AB理論式描画用",null,null,0,20]
[null,"AB理論式描画用",null,null,{"$f":"($K$72-E74)/$M$72","v":{"$error":"#DIV/0!"}},{"$f":"($K$72-F74)/$M$72","v":{"$error":"#DIV/0!"}}]
[null,"品温描画用",null,null,-6.3,-5.7,-5.3,-4.7,-4.3,-3.7,-3.3,-2.7,-2.2999999999999998,-1.7,-1.3,-0.7,-0.3,0.3,0.7,1.3,1.7,2.2999999999999998,2.7,3.3,3.7,4.3,4.7,5.3,5.7,6.3,6.7,7.3,7.7,8.3000000000000007,8.6999999999999993,9.2999999999999989,9.6999999999999993,10.299999999999999,10.7,11.299999999999999,11.7,12.299999999999999,12.7,13.299999999999999,13.7,14.299999999999999,14.7,15.299999999999999,15.7,16.3,16.7,17.3,17.7,18.3,18.7,19.3,19.7,20.3,20.7,21.3,21.7,22.3,22.7,23.3,23.7,24.3,24.7,25.3,25.7,26.3,26.7,27.3,27.7,28.3,28.7,29.3,29.7,30.3,30.7,31.3,31.7,32.299999999999997,32.700000000000003,33.300000000000004,33.700000000000003,34.300000000000004,34.700000000000003,35.300000000000004,35.700000000000003,36.300000000000004,36.700000000000003,37.300000000000004,37.700000000000003,38.300000000000004,38.700000000000003,39.300000000000004,39.700000000000003,40.300000000000004,40.700000000000003,41.300000000000004,41.7,42.300000000000004,42.7,43.300000000000004,43.7,44.300000000000004,44.7,45.300000000000004,45.7,46.300000000000004,46.7,47.300000000000004,47.7,48.300000000000004,48.7,49.300000000000004,49.7,50.300000000000004]
[null,"品温描画用",null,null,{"$f":"E34","v":0},{"$f":"E35","v":0},{"$f":"F34","v":0},{"$f":"F35","v":0},{"$f":"G34","v":0},{"$f":"G35","v":0},{"$f":"H34","v":0},{"$f":"H35","v":0},{"$f":"I34","v":0},{"$f":"I35","v":0},{"$f":"J34","v":0},{"$f":"J35","v":0},{"$f":"K34","v":0},{"$f":"K35","v":0},{"$f":"L34","v":0},{"$f":"L35","v":0},{"$f":"M34","v":0},{"$f":"M35","v":0},{"$f":"N34","v":0},{"$f":"N35","v":0},{"$f":"O34","v":0},{"$f":"O35","v":0},{"$f":"P34","v":0},{"$f":"P35","v":0},{"$f":"Q34","v":0},{"$f":"Q35","v":0},{"$f":"R34","v":0},{"$f":"R35","v":0},{"$f":"S34","v":0},{"$f":"S35","v":0},{"$f":"T34","v":0},{"$f":"T35","v":0},{"$f":"U34","v":0},{"$f":"U35","v":0},{"$f":"V34","v":0},{"$f":"V35","v":0},{"$f":"W34","v":0},{"$f":"W35","v":0},{"$f":"X34","v":0},{"$f":"X35","v":0},{"$f":"Y34","v":0},{"$f":"Y35","v":0},{"$f":"Z34","v":0},{"$f":"Z35","v":0},{"$f":"AA34","v":0},{"$f":"AA35","v":0},{"$f":"AB34","v":0},{"$f":"AB35","v":0},{"$f":"AC34","v":0},{"$f":"AC35","v":0},{"$f":"AD34","v":0},{"$f":"AD35","v":0},{"$f":"AE34","v":0},{"$f":"AE35","v":0},{"$f":"AF34","v":0},{"$f":"AF35","v":0},{"$f":"AG34","v":0},{"$f":"AG35","v":0},{"$f":"AH34","v":0},{"$f":"AH35","v":0},{"$f":"AI34","v":0},{"$f":"AI35","v":0},{"$f":"AJ34","v":0},{"$f":"AJ35","v":0},{"$f":"AK34","v":0},{"$f":"AK35","v":0},{"$f":"AL34","v":0},{"$f":"AL35","v":0},{"$f":"AM34","v":0},{"$f":"AM35","v":0},{"$f":"AN34","v":0},{"$f":"AN35","v":0},{"$f":"AO34","v":0},{"$f":"AO35","v":0},{"$f":"AP34","v":0},{"$f":"AP35","v":0},{"$f":"AQ34","v":0},{"$f":"AQ35","v":0},{"$f":"AR34","v":0},{"$f":"AR35","v":0},{"$f":"AS34","v":0},{"$f":"AS35","v":0},{"$f":"AT34","v":0},{"$f":"AT35","v":0},{"$f":"AU34","v":0},{"$f":"AU35","v":0},{"$f":"AV34","v":0},{"$f":"AV35","v":0},{"$f":"AW34","v":0},{"$f":"AW35","v":0},{"$f":"AX34","v":0},{"$f":"AX35","v":0},{"$f":"AY34","v":0},{"$f":"AY35","v":0},{"$f":"AZ34","v":0},{"$f":"AZ35","v":0},{"$f":"BA34","v":0},{"$f":"BA35","v":0},{"$f":"BB34","v":0},{"$f":"BB35","v":0},{"$f":"BC34","v":0},{"$f":"BC35","v":0},{"$f":"BD34","v":0},{"$f":"BD35","v":0},{"$f":"BE34","v":0},{"$f":"BE35","v":0},{"$f":"BF34","v":0},{"$f":"BF35","v":0},{"$f":"BG34","v":0},{"$f":"BG35","v":0},{"$f":"BH34","v":0},{"$f":"BH35","v":0},{"$f":"BI34","v":0},{"$f":"BI35","v":0}]
[null,"アルコール描画用",null,null,-6,-5,-4,-3,-2,-1,0,1,2,3,4,5,6,7,8,9,10,11,12,13,14,15,16,17,18,19,20,21,22,23,24,25,26,27,28,29,30,31,32,33,34,35,36,37,38,39,40,41,42,43,44,45,46,47,48,49,50]
[null,"ボーメ描画用",null,null,null,null,null,null,null,null,null,null,{"$f":"IF(M38=\"\",IF(M39=\"\",NA(),M39/-10),M38)","v":{"$error":"#N/A"}},{"$error":"#N/A"},{"$error":"#N/A"},{"$error":"#N/A"},{"$error":"#N/A"},{"$error":"#N/A"},{"$error":"#N/A"},{"$error":"#N/A"},{"$error":"#N/A"},{"$error":"#N/A"},{"$error":"#N/A"},{"$error":"#N/A"},{"$error":"#N/A"},{"$error":"#N/A"},{"$error":"#N/A"},{"$error":"#N/A"},{"$error":"#N/A"},{"$error":"#N/A"},{"$error":"#N/A"},{"$error":"#N/A"},{"$error":"#N/A"},{"$error":"#N/A"},{"$error":"#N/A"},{"$error":"#N/A"},{"$error":"#N/A"},{"$error":"#N/A"},{"$error":"#N/A"},{"$error":"#N/A"},{"$error":"#N/A"},{"$error":"#N/A"},{"$error":"#N/A"},{"$error":"#N/A"},{"$error":"#N/A"},{"$error":"#N/A"},{"$error":"#N/A"},{"$error":"#N/A"},{"$error":"#N/A"},{"$error":"#N/A"},{"$error":"#N/A"},{"$error":"#N/A"},{"$error":"#N/A"},{"$error":"#N/A"},{"$error":"#N/A"},{"$error":"#N/A"},{"$error":"#N/A"},{"$error":"#N/A"},{"$error":"#N/A"},{"$error":"#N/A"},{"$error":"#N/A"}]
[null,"目標ボーメ描画用",null,null,null,null,null,null,null,null,null,null,{"$f":"IF(M66=\"\",IF(M67=\"\",NA(),M67/-10),M66)","v":{"$error":"#N/A"}},{"$f":"IF(N66=\"\",IF(N67=\"\",NA(),N67/-10),N66)","v":{"$error":"#N/A"}},{"$f":"IF(O66=\"\",IF(O67=\"\",NA(),O67/-10),O66)","v":{"$error":"#N/A"}},{"$error":"#N/A"},{"$error":"#N/A"},{"$error":"#N/A"},{"$error":"#N/A"},{"$error":"#N/A"},{"$error":"#N/A"},{"$error":"#N/A"},{"$error":"#N/A"},{"$error":"#N/A"},{"$error":"#N/A"},{"$error":"#N/A"},{"$error":"#N/A"},{"$error":"#N/A"},{"$error":"#N/A"},{"$error":"#N/A"},{"$error":"#N/A"},{"$error":"#N/A"},{"$error":"#N/A"},{"$error":"#N/A"},{"$error":"#N/A"},{"$error":"#N/A"},{"$error":"#N/A"},{"$error":"#N/A"},{"$error":"#N/A"},{"$error":"#N/A"},{"$error":"#N/A"},{"$error":"#N/A"},{"$error":"#N/A"},{"$error":"#N/A"},{"$error":"#N/A"},{"$error":"#N/A"},{"$error":"#N/A"},{"$error":"#N/A"},{"$error":"#N/A"},{"$error":"#N/A"},{"$error":"#N/A"},{"$error":"#N/A"},{"$error":"#N/A"},{"$error":"#N/A"},{"$error":"#N/A"},{"$error":"#N/A"},{"$error":"#N/A"},{"$error":"#N/A"},{"$error":"#N/A"},{"$error":"#N/A"},{"$error":"#N/A"}]

{"sheet":"(記入例)1","index":4,"n_rows":80,"n_cols":118,"rows_kept":80,"cut":false,"hidden":false,"merged":[[71,1,71,3],[73,1,73,3],[74,1,74,3],[64,1,64,3],[63,82,63,86],[63,87,63,89],[65,2,65,3],[67,2,67,3],[68,2,68,3],[69,2,69,3],[70,2,70,3],[63,1,63,3],[62,82,62,86],[62,87,62,89],[59,87,59,89],[59,92,59,96],[59,97,59,99],[61,1,61,3],[60,65,62,67],[60,68,62,79],[60,82,60,86],[60,87,60,89],[60,92,60,96],[60,97,60,99],[60,1,60,3],[59,65,59,67],[59,68,59,69],[59,72,59,74],[59,75,59,77],[59,78,59,79],[59,82,59,86],[62,1,62,3],[61,82,61,86],[61,87,61,89],[61,92,61,96],[61,97,61,99],[57,97,57,99],[59,1,59,3],[58,65,58,67],[58,68,58,69],[58,70,58,71],[58,72,58,74],[58,75,58,77],[58,78,58,79],[58,82,58,86],[58,87,58,89],[58,92,58,96],[58,97,58,99],[56,97,56,99],[58,1,58,3],[57,65,57,67],[57,68,57,69],[57,70,57,71],[57,72,57,74],[57,75,57,77],[57,78,57,79],[57,82,57,86],[57,87,57,89],[56,72,56,74],[56,75,56,77],[56,78,56,79],[56,82,56,86],[56,87,56,89],[56,92,56,96],[55,81,63,81],[55,82,55,86],[55,87,55,89],[55,92,55,96],[55,97,55,99],[57,1,57,3],[56,64,62,64],[57,92,57,96],[54,78,54,79],[54,1,54,3],[53,64,53,67],[53,68,53,71],[53,72,53,74],[53,75,53,77],[53,78,53,79],[56,65,56,67],[56,68,56,69],[56,70,56,71],[56,1,56,3],[55,64,55,67],[55,68,55,71],[55,72,55,74],[55,75,55,77],[55,78,55,79],[51,41,53,41],[51,42,53,42],[51,43,53,43],[51,44,53,44],[51,33,53,33],[51,34,53,34],[51,35,53,35],[51,36,53,36],[50,64,50,67],[50,68,50,71],[51,64,51,67],[51,68,51,71],[55,1,55,3],[54,64,54,67],[54,68,54,71],[54,72,54,74],[54,75,54,77],[51,75,51,77],[51,51,53,51],[51,52,53,52],[51,53,53,53],[51,54,53,54],[51,55,53,55],[51,56,53,56],[51,45,53,45],[51,46,53,46],[51,47,53,47],[51,48,53,48],[51,49,53,49],[51,50,53,50],[51,39,53,39],[51,40,53,40],[51,78,51,79],[52,64,52,67],[52,68,52,71],[52,72,52,74],[52,75,52,77],[52,78,52,79],[51,57,53,57],[51,58,53,58],[51,59,53,59],[51,60,53,60],[51,37,53,37],[51,38,53,38],[51,30,53,30],[51,31,53,31],[51,32,53,32],[51,21,53,21],[51,22,53,22],[51,23,53,23],[51,24,53,24],[51,25,53,25],[51,26,53,26],[51,1,53,3],[51,4,53,4],[51,5,53,5],[51,6,53,6],[51,7,53,7],[51,8,53,8],[49,63,62,63],[49,64,49,67],[49,68,49,71],[51,15,53,15],[51,16,53,16],[51,17,53,17],[51,18,53,18],[51,19,53,19],[51,20,53,20],[51,9,53,9],[51,10,53,10],[51,11,53,11],[51,12,53,12],[51,13,53,13],[51,14,53,14],[51,27,53,27],[51,28,53,28],[51,29,53,29],[45,95,54,96],[45,97,54,98],[45,99,54,100],[45,101,54,102],[45,103,54,104],[46,64,46,67],[46,68,46,69],[46,72,46,74],[46,75,46,77],[46,78,46,79],[45,82,54,84],[45,85,54,86],[45,87,54,88],[45,89,54,90],[45,91,54,92],[45,93,54,94],[49,72,49,74],[49,75,49,77],[49,78,49,79],[50,72,50,74],[50,75,50,77],[50,78,50,79],[51,72,51,74],[47,75,47,77],[45,72,45,74],[45,75,45,77],[45,78,45,79],[45,1,45,3],[44,63,48,63],[44,64,45,67],[44,68,45,69],[44,70,47,71],[44,72,44,74],[47,64,47,67],[47,68,47,69],[47,72,47,74],[48,64,48,67],[48,68,48,69],[48,70,48,71],[48,72,48,74],[47,78,47,79],[43,64,43,67],[43,68,43,69],[43,70,43,71],[43,72,43,73],[43,74,43,75],[43,1,43,3],[42,64,42,67],[42,68,42,69],[42,70,42,71],[42,72,42,73],[42,74,42,75],[40,89,44,90],[40,91,44,92],[40,93,44,94],[40,95,44,96],[40,97,44,98],[43,76,43,77],[43,78,43,79],[40,99,44,100],[40,74,40,75],[40,76,40,77],[40,78,40,79],[40,82,44,84],[40,85,44,86],[40,87,44,88],[42,76,42,77],[42,78,42,79],[44,75,44,77],[44,78,44,79],[39,99,39,100],[39,101,39,102],[39,103,39,104],[41,1,41,3],[40,64,40,67],[40,68,40,69],[40,70,40,71],[40,72,40,73],[39,82,39,84],[39,85,39,86],[39,87,39,88],[39,89,39,90],[39,91,39,92],[39,93,39,94],[40,101,44,102],[40,103,44,104],[42,1,42,3],[41,64,41,67],[41,68,41,69],[41,70,41,71],[41,72,41,73],[41,74,41,75],[41,76,41,77],[41,78,41,79],[38,101,38,102],[38,103,38,104],[40,1,40,3],[39,64,39,67],[39,68,39,69],[39,70,39,71],[39,72,39,73],[39,74,39,75],[39,76,39,77],[39,78,39,79],[38,89,38,90],[38,91,38,92],[38,93,38,94],[38,95,38,96],[38,97,38,98],[38,99,38,100],[39,1,39,3],[38,64,38,66],[38,78,38,79],[38,82,38,84],[38,85,38,86],[38,87,38,88],[39,95,39,96],[39,97,39,98],[37,93,37,94],[37,95,37,96],[37,97,37,98],[37,99,37,100],[37,101,37,102],[37,103,37,104],[36,101,36,102],[36,103,36,104],[37,1,37,3],[37,64,37,66],[37,78,37,79],[37,82,37,84],[37,85,37,86],[37,87,37,88],[37,89,37,90],[37,91,37,92],[36,89,36,90],[36,91,36,92],[36,93,36,94],[36,95,36,96],[36,97,36,98],[36,99,36,100],[35,97,35,98],[35,99,35,100],[35,101,35,102],[35,103,35,104],[36,1,36,3],[36,64,36,66],[36,78,36,79],[36,82,36,84],[36,85,36,86],[36,87,36,88],[35,85,35,86],[35,87,35,88],[35,89,35,90],[35,91,35,92],[35,93,35,94],[35,95,35,96],[34,103,34,104],[35,1,35,3],[35,64,35,67],[35,68,35,69],[35,70,35,71],[35,72,35,73],[35,74,35,75],[35,76,35,77],[35,78,35,79],[35,82,35,84],[34,91,34,92],[34,93,34,94],[34,95,34,96],[34,97,34,98],[34,99,34,100],[34,101,34,102],[34,76,34,77],[34,78,34,79],[34,82,34,84],[34,85,34,86],[34,87,34,88],[34,89,34,90],[34,1,34,3],[34,64,34,67],[34,68,34,69],[34,70,34,71],[34,72,34,73],[34,74,34,75],[33,93,33,94],[33,95,33,96],[33,97,33,98],[33,99,33,100],[33,101,33,102],[33,103,33,104],[33,78,33,79],[33,82,33,84],[33,85,33,86],[33,87,33,88],[33,89,33,90],[33,91,33,92],[32,99,32,100],[32,101,32,102],[32,103,32,104],[32,91,32,92],[32,93,32,94],[32,95,32,96],[32,97,32,98],[33,64,33,67],[33,68,33,69],[33,70,33,71],[33,72,33,73],[33,74,33,75],[33,76,33,77],[32,87,32,88],[32,89,32,90],[32,72,32,73],[32,74,32,75],[32,76,32,77],[32,78,32,79],[32,82,32,84],[32,85,32,86],[32,64,32,67],[32,68,32,69],[32,70,32,71],[31,99,31,100],[31,101,31,102],[31,103,31,104],[31,78,31,79],[31,82,31,84],[31,85,31,86],[31,87,31,88],[31,89,31,90],[31,91,31,92],[31,64,31,67],[31,68,31,69],[31,70,31,71],[31,72,31,73],[31,74,31,75],[31,76,31,77],[31,93,31,94],[31,95,31,96],[31,97,31,98],[29,91,29,92],[29,93,29,94],[29,95,29,96],[29,97,29,98],[30,101,30,102],[30,103,30,104],[30,91,30,92],[30,93,30,94],[30,95,30,96],[30,97,30,98],[30,99,30,100],[30,64,30,67],[30,68,30,69],[30,70,30,71],[30,72,30,73],[30,74,30,75],[30,76,30,77],[30,78,30,79],[29,87,29,88],[29,89,29,90],[30,82,30,84],[30,85,30,86],[30,87,30,88],[30,89,30,90],[28,64,28,67],[28,82,28,84],[28,85,28,86],[28,87,28,88],[28,89,28,90],[28,103,28,104],[29,63,43,63],[29,68,29,69],[29,70,29,71],[29,72,29,73],[29,74,29,75],[29,76,29,77],[29,78,29,79],[29,82,29,84],[29,85,29,86],[28,91,28,92],[28,93,28,94],[28,95,28,96],[28,97,28,98],[28,99,28,100],[28,101,28,102],[29,99,29,100],[29,101,29,102],[29,103,29,104],[26,85,26,86],[26,87,26,88],[26,101,26,102],[26,103,26,104],[27,64,27,67],[27,82,27,84],[27,85,27,86],[27,87,27,88],[27,89,27,90],[27,91,27,92],[27,93,27,94],[27,95,27,96],[26,89,26,90],[26,91,26,92],[26,93,26,94],[26,95,26,96],[26,97,26,98],[26,99,26,100],[27,97,27,98],[27,99,27,100],[27,101,27,102],[27,103,27,104],[26,64,26,67],[26,82,26,84],[24,103,24,104],[25,64,25,67],[25,82,25,84],[25,85,25,86],[25,87,25,88],[25,89,25,90],[25,91,25,92],[25,93,25,94],[24,87,24,88],[24,89,24,90],[24,91,24,92],[24,93,24,94],[24,95,24,96],[24,97,24,98],[25,95,25,96],[25,97,25,98],[25,99,25,100],[25,101,25,102],[25,103,25,104],[24,85,24,86],[23,85,23,86],[23,87,23,88],[23,89,23,90],[23,91,23,92],[24,99,24,100],[24,101,24,102],[22,97,22,98],[22,99,22,100],[22,101,22,102],[21,97,21,98],[21,99,21,100],[21,101,21,102],[23,93,23,94],[23,95,23,96],[23,97,23,98],[23,99,23,100],[23,101,23,102],[22,89,22,90],[21,85,21,86],[21,87,21,88],[21,89,21,90],[21,91,21,92],[21,93,21,94],[21,95,21,96],[22,91,22,92],[22,93,22,94],[22,95,22,96],[19,103,19,104],[20,3,21,3],[20,64,20,67],[20,89,20,90],[20,93,20,94],[20,97,20,102],[20,103,20,104],[21,64,21,67],[21,81,54,81],[21,82,21,84],[19,82,20,84],[19,89,19,90],[19,91,20,92],[19,93,19,94],[19,95,20,96],[19,97,19,102],[19,11,20,11],[19,64,19,67],[21,103,23,104],[22,3,23,3],[22,64,22,67],[22,82,22,84],[22,85,22,86],[22,87,22,88],[13,99,18,100],[13,101,18,102],[13,103,18,104],[14,3,15,3],[14,11,15,11],[14,64,14,67],[15,64,15,67],[16,3,17,3],[16,64,16,67],[17,64,17,67],[13,87,18,88],[13,89,18,90],[13,91,18,92],[13,93,18,94],[13,95,18,96],[13,97,18,98],[12,3,13,3],[12,64,12,67],[12,82,12,84],[13,64,13,67],[13,82,18,84],[13,85,18,86],[10,68,10,71],[10,72,10,75],[10,76,11,76],[10,79,11,79],[10,82,10,84],[11,82,11,84],[24,3,25,3],[24,11,25,11],[24,64,24,67],[24,82,24,84],[18,3,19,3],[18,64,18,67],[23,64,23,67],[23,82,23,84],[5,99,5,100],[5,101,5,102],[5,103,5,104],[6,1,6,2],[6,63,9,63],[6,68,6,71],[6,72,6,75],[6,76,6,79],[7,1,7,2],[7,64,9,67],[7,68,7,71],[7,72,7,75],[7,76,7,79],[7,82,7,84],[8,1,8,2],[8,68,8,71],[8,72,8,75],[8,76,8,79],[9,11,10,11],[9,68,9,71],[9,72,9,75],[9,76,9,79],[9,82,9,84],[10,63,28,63],[4,64,4,67],[4,76,4,79],[4,82,4,84],[4,85,4,86],[4,87,4,88],[4,89,4,90],[4,103,4,104],[5,1,5,2],[5,64,5,67],[5,76,5,79],[5,82,5,84],[5,85,5,86],[5,87,5,88],[5,89,5,90],[5,91,5,92],[5,93,5,94],[4,91,4,92],[4,93,4,94],[4,95,4,96],[4,97,4,98],[4,99,4,100],[4,101,4,102],[5,95,5,96],[5,97,5,98],[2,103,2,104],[3,1,3,2],[3,64,3,67],[3,76,3,79],[3,82,3,84],[3,91,3,92],[3,93,3,94],[3,95,3,96],[3,97,3,98],[3,99,3,100],[3,101,3,102],[3,103,3,104],[1,103,1,104],[2,64,2,67],[2,76,2,79],[2,82,2,84],[2,91,2,92],[2,93,2,94],[2,95,2,96],[2,97,2,98],[2,99,2,100],[2,101,2,102],[1,91,1,92],[1,93,1,94],[1,95,1,96],[1,97,1,98],[1,99,1,100],[1,101,1,102],[1,76,1,79],[1,81,20,81],[1,82,1,84],[1,85,3,86],[1,87,3,88],[1,89,3,90],[6,82,6,84],[8,82,8,84],[38,1,38,3],[66,2,66,3],[65,1,70,1],[0,2,0,3],[0,8,0,11],[0,16,0,17],[0,23,0,25],[0,30,0,32],[1,63,5,63],[4,1,4,2],[4,11,5,11],[26,3,27,3],[28,3,29,3],[31,1,31,3],[31,4,31,5],[31,6,31,7],[31,8,31,9],[31,10,31,11],[33,1,33,3],[32,1,32,3],[32,8,32,9],[32,10,32,11],[44,1,44,3],[46,1,46,3]]}
[null,"仕込","(記入例)1",null,"号",null,"原料米",null,"山田錦",null,null,null,null,"精米歩合",null,null,65,null,"％",null,"特定名称等",null,null,"純米",null,null,null,null,"酵母",null,"協会"]
[null,null,null,null,null,null,null,null,null,null,null,null,null,null,null,null,null,null,null,null,null,null,null,null,null,null,null,null,null,null,null,null,null,null,null,null,null,null,null,null,null,null,null,null,null,null,null,null,null,null,null,null,null,null,null,null,null,null,null,null,null,null,null,"仕込配合",null,null,null,null,"酒母","添","仲","留","追水","四段",null,null,"合計",null,null,null,null,"仕込／添加／上槽前後","区分",null,null,"添",null,"仲",null,"留",null,"上槽",null,"※選択",null,"※選択",null,"※選択",null,"※選択",null,"※選択",null,"※選択"]
[null,null,null,null,null,null,null,null,null,null,null,90,null,null,null,null,null,null,null,null,null,null,null,null,null,null,null,null,null,null,null,null,null,null,null,null,null,null,null,null,null,null,null,null,null,null,null,null,null,null,null,null,null,null,null,null,null,null,null,null,null,null,null,null,"総米(kg)",null,null,null,{"$f":"IF(BQ5=\"\",\"-\",BQ4+BQ5)","v":50},{"$f":"IF(BR5=\"\",\"-\",BR4+BR5)","v":130},390,430,null,{"$f":"IF(BV5=\"\",\"-\",BV4+BV5)","v":"-"},null,null,{"$f":"SUM(BQ3:BX3)","v":1000},null,null,null,null,null,"添加ｱﾙｺｰﾙ分(%)"]
[null,null,null,"酒母","添","仲","留","四段","合計",null,null,null,null,null,null,null,null,null,null,null,null,null,null,null,null,null,null,null,null,null,null,null,null,null,null,null,null,null,null,null,null,null,null,null,null,null,null,null,null,null,null,null,null,null,null,null,null,null,null,null,null,null,null,null,"掛米(kg)",null,null,null,30,90,350,350,null,null,null,null,{"$f":"SUM(BQ4:BX4)","v":820},null,null,null,null,null,"添加数量(kg、L)"]
[null,"麹歩合",null,{"$f":"IFERROR(BQ$5/BQ$3*100,\"-\")","v":40},{"$f":"IFERROR(BR$5/BR$3*100,\"-\")","v":30.76923076923077},{"$f":"IFERROR(BS$5/BS$3*100,\"-\")","v":10.256410256410255},{"$f":"IFERROR(BT$5/BT$3*100,\"-\")","v":18.604651162790699},"-",{"$f":"IFERROR(BY$5/BY$3*100,\"-\")","v":18},null,null,80,null,null,null,null,null,null,null,null,null,null,null,null,null,null,null,null,null,null,null,null,null,null,null,null,null,null,null,null,null,null,null,null,null,null,null,null,null,null,null,null,null,null,null,null,null,null,null,null,null,null,null,null,"麹米(kg)",null,null,null,20,40,40,80,null,null,null,null,180,null,null,null,null,null,"月日",null,null,{"$f":"E33","v":"2025-01-01"},null,{"$f":"I33","v":"2025-01-03"},null,{"$f":"K33","v":"2025-01-04"},null,"2025-01-31"]
[null,"配合比",null,{"$f":"IFERROR(BQ$3/$BY$3*100,\"-\")","v":5},{"$f":"IFERROR(BR$3/$BY$3*100,\"-\")","v":13},{"$f":"IFERROR(BS$3/$BY$3*100,\"-\")","v":39},{"$f":"IFERROR(BT$3/$BY$3*100,\"-\")","v":43},{"$f":"IFERROR(BV3/BY3*100,\"-\")","v":"-"},null,null,null,null,null,null,null,null,null,null,null,null,null,null,null,null,null,null,null,null,null,null,null,null,null,null,null,null,null,null,null,null,null,null,null,null,null,null,null,null,null,null,null,null,null,null,null,null,null,null,null,null,null,null,null,null,"汲水(L)",null,null,null,90,130,520,760,{"$f":"SUM(M47:BI47)","v":220},null,null,null,{"$f":"SUM(BQ6:BX6)","v":1720},null,null,null,null,null,"容器番号",null,null,"T-1",null,"T-1",null,"T-1",null,"T-1"]
[null,"添：仲：留",null,null,1,{"$f":"IFERROR(F6/$E6,\"-\")","v":3},{"$f":"IFERROR(G6/$E6,\"-\")","v":3.3076923076923075},null,null,null,null,null,null,null,null,null,null,null,null,null,null,null,null,null,null,null,null,null,null,null,null,null,null,null,null,null,null,null,null,null,null,null,null,null,null,null,null,null,null,null,null,null,null,null,null,null,null,null,null,null,null,null,null,"水",null,null,null,null,"物品名",null,null,null,"使用量(g)",null,null,null,"1000L当り使用量(g)",null,null,null,null,null,"添加前後",null,null,"前","後","前","後","前","後","前","後","前","後","前","後","前","後","前","後","前","後","前","後"]
[null,"汲水歩合",null,{"$f":"IFERROR(BQ$6/BQ$3*100,\"-\")","v":180},{"$f":"IFERROR(BR$6/BR$3*100,\"-\")","v":100},{"$f":"IFERROR(BS$6/BS$3*100,\"-\")","v":133.33333333333331},{"$f":"IFERROR(BT$6/BT$3*100,\"-\")","v":176.74418604651163},{"$f":"IFERROR(BU$6/BU$3*100,\"-\")","v":"-"},{"$f":"IFERROR($BY$6/$BY$3*100,\"-\")","v":172},null,null,70,null,null,null,null,null,null,null,null,null,null,null,null,null,null,null,null,null,null,null,null,null,null,null,null,null,null,null,null,null,null,null,null,null,null,null,null,null,null,null,null,null,null,null,null,null,null,null,null,null,null,null,null,"加工剤",null,null,null,null,null,null,null,null,null,null,null,null,null,null,null,null,null,"深",null,null,null,-1530,-1380,-1082,-630,-423,-400]
[null,"原料由来水(kg)",null,{"$f":"IFERROR(BQ35*BQ36/100+BU27*BU29/100,IFERROR(BU27*BU29/100+BQ19*BQ18/100,\"-\"))","v":17.41},{"$f":"IFERROR(BS35*BS36/100+BV27*BV29/100,IFERROR(BV27*BV29/100+BR19*BR18/100,\"-\"))","v":45.84},{"$f":"IFERROR(BU35*BU36/100+BW27*BW29/100,IFERROR(BW27*BW29/100+BS19*BS18/100,\"-\"))","v":159.52799999999999},{"$f":"IFERROR(BW35*BW36/100+BX27*BX29/100,IFERROR(BX27*BX29/100+BT19*BT18/100,\"-\"))","v":165.45600000000005},{"$f":"IFERROR(BY35*BY36/100+BY27*BY29/100,IFERROR(BY27*BY29/100+BY19*BY18/100,\"-\"))","v":"-"},{"$f":"IF(OR(D9=\"-\",E9=\"-\",F9=\"-\",G9=\"-\"),\"-\",SUM(D9:H9))","v":388.23400000000004},null,null,null,null,null,null,null,null,null,null,null,null,null,null,null,null,null,null,null,null,null,null,null,null,null,null,null,null,null,null,null,null,null,null,null,null,null,null,null,null,null,null,null,null,null,null,null,null,null,null,null,null,null,null,null,null,null,null,null,null,null,null,null,null,null,null,null,null,null,null,null,null,null,"数量(L)",null,null,0,583,583,1310,1310,2500,2665,0]
[null,null,null,null,null,null,null,null,null,null,null,60,null,null,null,null,null,null,null,null,null,null,null,null,null,null,null,null,null,null,null,null,null,null,null,null,null,null,null,null,null,null,null,null,null,null,null,null,null,null,null,null,null,null,null,null,null,null,null,null,null,null,null,null,null,null,null,null,null,null,null,null,null,null,null,null,null,null,null,null,null,null,"品温(℃)",null,null,null,13,8.5,8,5.5,6,6]
[null,null,null,null,null,null,null,null,null,null,null,null,null,null,null,null,null,null,null,null,null,null,null,null,null,null,null,null,null,null,null,null,null,null,null,null,null,null,null,null,null,null,null,null,null,null,null,null,null,null,null,null,null,null,null,null,null,null,null,null,null,null,null,"原料米",null,null,null,null,"麹米",null,null,null,"掛米",null,null,null,"四段",null,null,"合計",null,null,"ｱﾙｺｰﾙ分(%)",null,null,null,null,null,null,null,null,15.7,0]
[null,null,null,null,null,null,null,null,null,null,null,null,null,null,null,null,null,null,null,null,null,null,null,null,null,null,null,null,null,null,null,null,null,null,null,null,null,null,null,null,null,null,null,null,null,null,null,null,null,null,null,null,null,null,null,null,null,null,null,null,null,null,null,null,null,null,null,null,"酒母","添","仲","留","酒母","添","仲","留",null,null,null,null,null,null,"日本酒度",null,null,null,null,null,null,null,null,0.3,0]
[null,null,null,20,null,null,null,null,null,null,null,50,null,null,null,null,null,null,null,null,null,null,null,null,null,null,null,null,null,null,null,null,null,null,null,null,null,null,null,null,null,null,null,null,null,null,null,null,null,null,null,null,null,null,null,null,null,null,null,null,null,null,null,null,"品種",null,null,null,"山田錦","山田錦","山田錦","山田錦","山田錦","山田錦","山田錦","山田錦",null,null,null,"-",null,null,"純ｱﾙｺｰﾙ数量(L)",null,null,{"$f":"IF(OR(CH9=\"\",CH11=\"\"),\"-\",CH9*CH11/100)","v":"-"},{"$f":"IF(OR(CI9=\"\",CI11=\"\"),\"-\",CI9*CI11/100)","v":"-"},"-","-","-","-",418.40499999999997,0,"-","-","-","-","-","-","-","-","-","-","-","-"]
[null,null,null,null,null,null,null,null,null,null,null,null,null,null,null,null,null,null,null,null,null,null,null,null,null,null,null,null,null,null,null,null,null,null,null,null,null,null,null,null,null,null,null,null,null,null,null,null,null,null,null,null,null,null,null,null,null,null,null,null,null,null,null,null,"産地",null,null,null,"兵庫","兵庫","兵庫","兵庫","兵庫","兵庫","兵庫","兵庫",null,null,null,"-",null,null,"メモ"]
[null,null,null,18,null,null,null,null,null,null,null,40,null,null,null,null,null,null,null,null,null,null,null,null,null,null,null,null,null,null,null,null,null,null,null,null,null,null,null,null,null,null,null,null,null,null,null,null,null,null,null,null,null,null,null,null,null,null,null,null,null,null,null,null,"等級",null,null,null,"特等","特等","特等","特等","特等","特等","特等","特等",null,null,null,"-"]
[null,null,null,null,null,null,null,null,null,null,null,null,null,null,null,null,null,null,null,null,null,null,null,null,null,null,null,null,null,null,null,null,null,null,null,null,null,null,null,null,null,null,null,null,null,null,null,null,null,null,null,null,null,null,null,null,null,null,null,null,null,null,null,null,"精米形状",null,null,null,"球形","球形","球形","球形","球形","球形","球形","球形",null,null,null,"-"]
[null,null,null,16,null,null,null,null,null,null,null,null,null,null,null,null,null,null,null,null,null,null,null,null,null,null,null,null,null,null,null,null,null,null,null,null,null,null,null,null,null,null,null,null,null,null,null,null,null,null,null,null,null,null,null,null,null,null,null,null,null,null,null,null,"精米歩合(%)",null,null,null,65,65,65,65,65,65,65,65,null,null,null,"-"]
[null,null,null,null,null,null,null,null,null,null,null,30,null,null,null,null,null,null,null,null,null,null,null,null,null,null,null,null,null,null,null,null,null,null,null,null,null,null,null,null,null,null,null,null,null,null,null,null,null,null,null,null,null,null,null,null,null,null,null,null,null,null,null,null,"白米水分(%)",null,null,null,10.7,10.5,10.5,10.4,10.7,10.8,10.8,10.8,null,null,null,"-"]
[null,null,null,14,null,null,null,null,null,null,null,null,null,null,null,null,null,null,null,null,null,null,null,null,null,null,null,null,null,null,null,null,null,null,null,null,null,null,null,null,null,null,null,null,null,null,null,null,null,null,null,null,null,null,null,null,null,null,null,null,null,null,null,null,"白米重量(kg)",null,null,null,20,40,40,80,30,90,350,350,null,null,null,{"$f":"SUM(BQ19:CA19)","v":1000}]
[null,null,null,null,null,null,null,null,null,null,null,20,null,null,null,null,null,null,null,null,null,null,null,null,null,null,null,null,null,null,null,null,null,null,null,null,null,null,null,null,null,null,null,null,null,null,null,null,null,null,null,null,null,null,null,null,null,null,null,null,null,null,null,null,"白米乾物重量(kg)",null,null,null,{"$f":"IF(OR(BQ19=\"\",BQ18=\"\"),\"-\",BQ19*(100-BQ18)/100)","v":17.86},{"$f":"IF(OR(BR19=\"\",BR18=\"\"),\"-\",BR19*(100-BR18)/100)","v":35.799999999999997},35.799999999999997,71.680000000000007,26.79,80.28,312.2,312.2,{"$f":"IF(OR(BY19=\"\",BY18=\"\"),\"-\",BY19*(100-BY18)/100)","v":"-"},{"$f":"IF(OR(BZ19=\"\",BZ18=\"\"),\"-\",BZ19*(100-BZ18)/100)","v":"-"},"-",{"$f":"SUM(BQ20:CA20)","v":892.6099999999999},null,null,"合併製成もろみ",null,null,"仕込","自第",null,"号","もろみ",null,null,null,"純ｱﾙｺｰﾙ",null,null,null,"上槽数量合計(L)",null,null,null,null,null,{"$f":"IF(CN2=\"上槽\",CN9-CO9,0)+IF(CP2=\"上槽\",CP9-CQ9,0)+IF(CR2=\"上槽\",CR9-CS9,0)+IF(CT2=\"上槽\",CT9-CU9,0)+IF(CV2=\"上槽\",CV9-CW9,0)+IF(CX2=\"上槽\",CX9-CY9,0)+IF(CZ2=\"上槽\",CZ9-DA9,0)","v":2665}]
[null,null,null,12,null,null,null,null,null,null,null,null,null,null,null,null,null,null,null,null,null,null,null,null,null,null,null,null,null,null,null,null,null,null,null,null,null,null,null,null,null,null,null,null,null,null,null,null,null,null,null,null,null,null,null,null,null,null,null,null,null,null,null,null,"白米由来水重量(kg)",null,null,null,{"$f":"IF(OR(BQ18=\"\",BQ19=\"\"),\"-\",BQ19-BQ20)","v":2.1400000000000006},{"$f":"IF(OR(BR18=\"\",BR19=\"\"),\"-\",BR19-BR20)","v":4.2000000000000028},4.2000000000000028,8.3199999999999932,3.2100000000000009,9.7199999999999989,37.800000000000011,37.800000000000011,"-","-","-",{"$f":"SUM(BQ21:CA21)","v":107.39000000000001},null,null,null,null,null,"順号","至第",null,"号","数量(L)",null,null,null,"数量(L)",null,null,null,"上槽純ｱﾙｺｰﾙ数量合計(L)",null,null,null,null,null,{"$f":"IF(CN2=\"上槽\",CN13-CO13,0)+IF(CP2=\"上槽\",CP13-CQ13,0)+IF(CR2=\"上槽\",CR13-CS13,0)+IF(CT2=\"上槽\",CT13-CU13,0)+IF(CV2=\"上槽\",CV13-CW13,0)+IF(CX2=\"上槽\",CX13-CY13,0)+IF(CZ2=\"上槽\",CZ13-DA13,0)","v":418.40499999999997}]
[null,null,null,null,null,null,null,null,null,null,null,null,null,null,null,null,null,null,null,null,null,null,null,null,null,null,null,null,null,null,null,null,null,null,null,null,null,null,null,null,null,null,null,null,null,null,null,null,null,null,null,null,null,null,null,null,null,null,null,null,null,null,null,null,"浸漬水温(℃)",null,null,null,12,9,9,8,9,8,9,10,null,null,null,"-",null,"製成","月日",null,null,"2025-02-01",null,null,null,null,null,null,null,null,null,null,null,null,null,null,null,null,null,"計"]
[null,null,null,10,null,null,null,null,null,null,null,10,null,null,null,null,null,null,null,null,null,null,null,null,null,null,null,null,null,null,null,null,null,null,null,null,null,null,null,null,null,null,null,null,null,null,null,null,null,null,null,null,null,null,null,null,null,null,null,null,null,null,null,null,"浸漬時間(min)",null,null,null,9,11.5,11.5,12.5,12,13,12.7,12.4,null,null,null,"-",null,null,"容器番号",null,null,201]
[null,null,null,null,null,null,null,null,null,null,null,null,null,null,null,null,null,null,null,null,null,null,null,null,null,null,null,null,null,null,null,null,null,null,null,null,null,null,null,null,null,null,null,null,null,null,null,null,null,null,null,null,null,null,null,null,null,null,null,null,null,null,null,null,"浸漬後重量(kg)",null,null,null,26.3,52.7,52.7,105.6,39.9,119.8,465.7,466,null,null,null,{"$f":"SUM(BQ24:CA24)","v":1328.7},null,null,"深",null,null,-500]
[null,null,null,8,null,null,null,null,null,null,null,0,null,null,null,null,null,null,null,null,null,null,null,null,null,null,null,null,null,null,null,null,null,null,null,null,null,null,null,null,null,null,null,null,null,null,null,null,null,null,null,null,null,null,null,null,null,null,null,null,null,null,null,null,"浸漬米吸水率(%)",null,null,null,{"$f":"IF(OR(BQ24=\"\",BQ19=\"\"),\"-\",BQ24/BQ19*100)","v":131.5},{"$f":"IF(OR(BR24=\"\",BR19=\"\"),\"-\",BR24/BR19*100)","v":131.75},131.75,131.99999999999997,132.99999999999997,133.11111111111111,133.05714285714285,133.14285714285714,"-","-","-","-",null,null,"数量(L)",null,null,2358,null,null,null,null,null,null,null,null,null,null,null,null,null,null,null,null,null,{"$f":"IF(SUM(CH25:CQ25)=0,\"-\",SUM(CH25:CQ25))","v":2358}]
[null,null,null,null,null,null,null,null,null,null,null,null,null,null,null,null,null,null,null,null,null,null,null,null,null,null,null,null,null,null,null,null,null,null,null,null,null,null,null,null,null,null,null,null,null,null,null,null,null,null,null,null,null,null,null,null,null,null,null,null,null,null,null,null,"浸漬後水分(%)",null,null,null,{"$f":"IF(OR(BQ24=\"\",BQ19=\"\",BQ18=\"\"),\"-\",(BQ24-BQ19*(100-BQ18)/100)/BQ24*100)","v":32.091254752851718},{"$f":"IF(OR(BR24=\"\",BR19=\"\",BR18=\"\"),\"-\",(BR24-BR19*(100-BR18)/100)/BR24*100)","v":32.068311195445929},32.068311195445929,32.12121212121211,32.857142857142854,32.988313856427375,32.96113377710973,33.004291845493569,"-","-","-","-",null,null,"品温(℃)",null,null,8,null,null,null,null,null,null,null,null,null,null,null,null,null,null,null,null,null,"-"]
[null,null,null,6,null,null,null,null,null,null,null,null,null,null,null,null,null,null,null,null,null,null,null,null,null,null,null,null,null,null,null,null,null,null,null,null,null,null,null,null,null,null,null,null,null,null,null,null,null,null,null,null,null,null,null,null,null,null,null,null,null,null,null,null,"蒸米さらし後重量(kg)",null,null,null,26.75,53.8,53.6,107,42,121,467,468,null,null,null,{"$f":"SUM(BQ27:CA27)","v":1339.15},null,null,"ｱﾙｺｰﾙ分(%)",null,null,15.7,null,null,null,null,null,null,null,null,null,null,null,null,null,null,null,null,null,"-"]
[null,null,null,null,null,null,null,null,null,null,null,-10,null,null,null,null,null,null,null,null,null,null,null,null,null,null,null,null,null,null,null,null,null,null,null,null,null,null,null,null,null,null,null,null,null,null,null,null,null,null,null,null,null,null,null,null,null,null,null,null,null,null,null,null,"蒸米さらし後吸水率(%)",null,null,null,{"$f":"IF(OR(BQ27=\"\",BQ19=\"\"),\"-\",BQ27/BQ19*100)","v":133.75},134.5,{"$f":"IF(OR(BS27=\"\",BS19=\"\"),\"-\",BS27/BS19*100)","v":134},133.75,140,134.44444444444446,133.42857142857142,133.71428571428572,"-","-","-","-",null,null,"日本酒度",null,null,0.3,null,null,null,null,null,null,null,null,null,null,null,null,null,null,null,null,null,"-"]
[null,null,null,4,null,null,null,null,null,null,null,null,null,null,null,null,null,null,null,null,null,null,null,null,null,null,null,null,null,null,null,null,null,null,null,null,null,null,null,null,null,null,null,null,null,null,null,null,null,null,null,null,null,null,null,null,null,null,null,null,null,null,null,null,"蒸米さらし後水分(%)",null,null,null,{"$f":"IF(OR(BQ27=\"\",BQ19=\"\",BQ18=\"\"),\"-\",(BQ27-BQ19*(100-BQ18)/100)/BQ27*100)","v":33.23364485981309},33.457249070631974,{"$f":"IF(OR(BS27=\"\",BS19=\"\",BS18=\"\"),\"-\",(BS27-BS19*(100-BS18)/100)/BS27*100)","v":33.208955223880601},33.009345794392516,36.214285714285715,33.652892561983471,33.147751605995715,33.290598290598297,"-","-","-","-",null,null,"純ｱﾙｺｰﾙ数量(L)",null,null,{"$f":"IF(OR(CH25=\"\",CH27=\"\"),\"-\",CH25*CH27/100)","v":370.20599999999996},null,{"$f":"IF(OR(CJ25=\"\",CJ27=\"\"),\"-\",CJ25*CJ27/100)","v":"-"},null,{"$f":"IF(OR(CL25=\"\",CL27=\"\"),\"-\",CL25*CL27/100)","v":"-"},null,{"$f":"IF(OR(CN25=\"\",CN27=\"\"),\"-\",CN25*CN27/100)","v":"-"},null,{"$f":"IF(OR(CP25=\"\",CP27=\"\"),\"-\",CP25*CP27/100)","v":"-"},null,{"$f":"IF(OR(CR25=\"\",CR27=\"\"),\"-\",CR25*CR27/100)","v":"-"},null,{"$f":"IF(OR(CT25=\"\",CT27=\"\"),\"-\",CT25*CT27/100)","v":"-"},null,{"$f":"IF(OR(CV25=\"\",CV27=\"\"),\"-\",CV25*CV27/100)","v":"-"},null,{"$f":"IF(OR(CX25=\"\",CX27=\"\"),\"-\",CX25*CX27/100)","v":"-"},null,{"$f":"IF(SUM(CH29:CQ29)=0,\"-\",SUM(CH29:CQ29))","v":370.20599999999996}]
[null,null,null,null,null,null,null,null,null,null,null,null,null,null,null,null,null,null,null,null,null,null,null,null,null,null,null,null,null,null,null,null,null,null,null,null,null,null,null,null,null,null,null,null,null,null,null,null,null,null,null,null,null,null,null,null,null,null,null,null,null,null,null,"麹",null,null,null,null,"酒母",null,"添",null,"仲",null,"留",null,"四段",null,"合計",null,null,null,"清酒かす(実量)(kg)",null,null,336,null,null,null,null,null,null,null,null,null,null,null,null,null,null,null,null,null,{"$f":"IF(SUM(CH30:CQ30)=0,\"-\",SUM(CH30:CQ30))","v":336}]
[null,null,null,null,null,null,null,null,null,null,null,null,null,null,null,null,null,null,null,null,null,null,null,null,null,null,null,null,null,null,null,null,null,null,null,null,null,null,null,null,null,null,null,null,null,null,null,null,null,null,null,null,null,null,null,null,null,null,null,null,null,null,null,null,"種麹品名・ﾒｰｶｰ",null,null,null,"鑑定もやし",null,"鑑定もやし",null,"鑑定もやし",null,"鑑定もやし",null,null,null,"-",null,null,null,"酸度",null,null,1.67,null,null,null,null,null,null,null,null,null,null,null,null,null,null,null,null,null,"-"]
[null,"日　順",null,null,"添",null,"踊",null,"仲",null,"留",null,2,3,4,5,6,7,8,9,10,11,12,13,14,15,16,17,18,19,20,21,22,23,24,25,26,27,28,29,30,31,32,33,34,35,36,37,38,39,40,41,42,43,44,45,46,47,48,49,50,null,null,null,"種麹使用量(g/白米100kg)",null,null,null,60,null,40,null,30,null,25,null,null,null,"-",null,null,null,"ｱﾐﾉ酸度",null,null,0.65,null,null,null,null,null,null,null,null,null,null,null,null,null,null,null,null,null,"-"]
[null,"月　日",null,null,"2025-01-01","2025-01-01","2025-01-02","2025-01-02","2025-01-03",null,"2025-01-04",null,{"$f":"IF(K33=\"\",\"\",K33+1)","v":"2025-01-05"},{"$f":"IF(M33=\"\",\"\",M33+1)","v":"2025-01-06"},"2025-01-07","2025-01-08","2025-01-09","2025-01-10","2025-01-11","2025-01-12","2025-01-13","2025-01-14","2025-01-15","2025-01-16","2025-01-17","2025-01-18","2025-01-19","2025-01-20","2025-01-21","2025-01-22","2025-01-23","2025-01-24","2025-01-25","2025-01-26","2025-01-27","2025-01-28","2025-01-29","2025-01-30","2025-01-31","2025-02-01","2025-02-02","2025-02-03","2025-02-04","2025-02-05","2025-02-06","2025-02-07","2025-02-08","2025-02-09","2025-02-10","2025-02-11","2025-02-12","2025-02-13","2025-02-14","2025-02-15","2025-02-16","2025-02-17","2025-02-18","2025-02-19","2025-02-20","2025-02-21","2025-02-22",null,null,null,"出麹重量(kg)",null,null,null,24,null,48.4,null,48.8,null,97.6,null,null,null,"-",null,null,null,"ｸﾞﾙｺｰｽ",null,null,1.7,null,null,null,null,null,null,null,null,null,null,null,null,null,null,null,null,null,"-"]
[null,"品温１",null,null,12.5,13,14,null,8.5,8,5.5,6,6.5,7.5,8.1999999999999993,8.9,9.4,10,10.5,11,11,10.6,10,10,9.4,8.9,8.3000000000000007,7.8,7.3,6.9,7,7,7,6.8,6.8,6.4,6.2,6,6,null,null,null,null,null,null,null,null,null,null,null,null,null,null,null,null,null,null,null,null,null,null,null,null,null,"出麹水分(%)",null,null,null,30,null,30,null,31,null,31,null,null,null,"-",null,null,null,"ｴｷｽ",null,null,{"$f":"IF(OR(CH27=\"\",CH28=\"\"),\"-\",(1443/(1443+CH28)-(INDEX(換算表!$D$3:$D$273,MATCH(ROUNDDOWN(CH27,1),換算表!$B$3:$B$273,0))*CH27+INDEX(換算表!$E$3:$E$273,MATCH(ROUNDDOWN(CH27,1),換算表!$B$3:$B$273,0))))*260+0.21)","v":5.2545571814593348},null,{"$f":"IF(OR(CJ27=\"\",CJ28=\"\"),\"-\",(1443/(1443+CJ28)-(INDEX(換算表!$D$3:$D$273,MATCH(ROUNDDOWN(CJ27,1),換算表!$B$3:$B$273,0))*CJ27+INDEX(換算表!$E$3:$E$273,MATCH(ROUNDDOWN(CJ27,1),換算表!$B$3:$B$273,0))))*260+0.21)","v":"-"},null,{"$f":"IF(OR(CL27=\"\",CL28=\"\"),\"-\",(1443/(1443+CL28)-(INDEX(換算表!$D$3:$D$273,MATCH(ROUNDDOWN(CL27,1),換算表!$B$3:$B$273,0))*CL27+INDEX(換算表!$E$3:$E$273,MATCH(ROUNDDOWN(CL27,1),換算表!$B$3:$B$273,0))))*260+0.21)","v":"-"},null,{"$f":"IF(OR(CN27=\"\",CN28=\"\"),\"-\",(1443/(1443+CN28)-(INDEX(換算表!$D$3:$D$273,MATCH(ROUNDDOWN(CN27,1),換算表!$B$3:$B$273,0))*CN27+INDEX(換算表!$E$3:$E$273,MATCH(ROUNDDOWN(CN27,1),換算表!$B$3:$B$273,0))))*260+0.21)","v":"-"},null,{"$f":"IF(OR(CP27=\"\",CP28=\"\"),\"-\",(1443/(1443+CP28)-(INDEX(換算表!$D$3:$D$273,MATCH(ROUNDDOWN(CP27,1),換算表!$B$3:$B$273,0))*CP27+INDEX(換算表!$E$3:$E$273,MATCH(ROUNDDOWN(CP27,1),換算表!$B$3:$B$273,0))))*260+0.21)","v":"-"},null,{"$f":"IF(OR(CR27=\"\",CR28=\"\"),\"-\",(1443/(1443+CR28)-(INDEX(換算表!$D$3:$D$273,MATCH(ROUNDDOWN(CR27,1),換算表!$B$3:$B$273,0))*CR27+INDEX(換算表!$E$3:$E$273,MATCH(ROUNDDOWN(CR27,1),換算表!$B$3:$B$273,0))))*260+0.21)","v":"-"},null,{"$f":"IF(OR(CT27=\"\",CT28=\"\"),\"-\",(1443/(1443+CT28)-(INDEX(換算表!$D$3:$D$273,MATCH(ROUNDDOWN(CT27,1),換算表!$B$3:$B$273,0))*CT27+INDEX(換算表!$E$3:$E$273,MATCH(ROUNDDOWN(CT27,1),換算表!$B$3:$B$273,0))))*260+0.21)","v":"-"},null,{"$f":"IF(OR(CV27=\"\",CV28=\"\"),\"-\",(1443/(1443+CV28)-(INDEX(換算表!$D$3:$D$273,MATCH(ROUNDDOWN(CV27,1),換算表!$B$3:$B$273,0))*CV27+INDEX(換算表!$E$3:$E$273,MATCH(ROUNDDOWN(CV27,1),換算表!$B$3:$B$273,0))))*260+0.21)","v":"-"},null,{"$f":"IF(OR(CX27=\"\",CX28=\"\"),\"-\",(1443/(1443+CX28)-(INDEX(換算表!$D$3:$D$273,MATCH(ROUNDDOWN(CX27,1),換算表!$B$3:$B$273,0))*CX27+INDEX(換算表!$E$3:$E$273,MATCH(ROUNDDOWN(CX27,1),換算表!$B$3:$B$273,0))))*260+0.21)","v":"-"},null,"-"]
[null,"品温２",null,null,null,null,null,null,null,null,null,null,null,null,null,null,null,null,null,null,null,null,null,null,null,null,null,null,null,null,null,null,null,null,null,null,null,null,null,null,null,null,null,null,null,null,null,null,null,null,null,null,null,null,null,null,null,null,null,null,null,null,null,null,"枯らし後重量(kg)",null,null,null,19,null,39,null,38.4,null,77,null,null,null,"-",null,null,null,"原ｴｷｽ",null,null,{"$f":"IF(OR(CH34=\"-\",CH27=\"\"),\"-\",CH34+CH27*1.5848)","v":30.135917181459334},null,{"$f":"IF(OR(CJ34=\"-\",CJ27=\"\"),\"-\",CJ34+CJ27*1.5848)","v":"-"},null,{"$f":"IF(OR(CL34=\"-\",CL27=\"\"),\"-\",CL34+CL27*1.5848)","v":"-"},null,{"$f":"IF(OR(CN34=\"-\",CN27=\"\"),\"-\",CN34+CN27*1.5848)","v":"-"},null,{"$f":"IF(OR(CP34=\"-\",CP27=\"\"),\"-\",CP34+CP27*1.5848)","v":"-"},null,{"$f":"IF(OR(CR34=\"-\",CR27=\"\"),\"-\",CR34+CR27*1.5848)","v":"-"},null,{"$f":"IF(OR(CT34=\"-\",CT27=\"\"),\"-\",CT34+CT27*1.5848)","v":"-"},null,{"$f":"IF(OR(CV34=\"-\",CV27=\"\"),\"-\",CV34+CV27*1.5848)","v":"-"},null,{"$f":"IF(OR(CX34=\"-\",CX27=\"\"),\"-\",CX34+CX27*1.5848)","v":"-"},null,"-"]
[null,"室温・水温１",null,null,null,null,null,null,null,null,null,null,null,null,null,null,null,null,null,null,null,null,null,null,null,null,null,null,null,null,null,null,null,null,null,null,null,null,null,null,null,null,null,null,null,null,null,null,null,null,null,null,null,null,null,null,null,null,null,null,null,null,null,null,"枯らし後水分(%)",null,null,null,{"$f":"IF(OR(BQ34=\"\",BQ35=\"\",BQ33=\"\"),\"-\",IFERROR((BQ34*BQ33-100*(BQ33-BQ35))/BQ35,\"-\"))","v":11.578947368421053},null,{"$f":"IF(OR(BS34=\"\",BS35=\"\",BS33=\"\"),\"-\",IFERROR((BS34*BS33-100*(BS33-BS35))/BS35,\"-\"))","v":13.128205128205131},null,{"$f":"IF(OR(BU34=\"\",BU35=\"\",BU33=\"\"),\"-\",IFERROR((BU34*BU33-100*(BU33-BU35))/BU35,\"-\"))","v":12.312500000000005},null,{"$f":"IF(OR(BW34=\"\",BW35=\"\",BW33=\"\"),\"-\",IFERROR((BW34*BW33-100*(BW33-BW35))/BW35,\"-\"))","v":12.540259740259746},null,{"$f":"IF(OR(BY34=\"\",BY35=\"\",BY33=\"\"),\"-\",IFERROR((BY34*BY33-100*(BY33-BY35))/BY35,\"-\"))","v":"-"},null,"-",null,null,null,"新甘辛度",null,null,{"$f":"IF(OR(CH33=\"\",CH32=\"\"),\"-\",CH33-CH32)","v":1.0499999999999998},null,{"$f":"IF(OR(CJ33=\"\",CJ32=\"\"),\"-\",CJ33-CJ32)","v":"-"},null,{"$f":"IF(OR(CL33=\"\",CL32=\"\"),\"-\",CL33-CL32)","v":"-"},null,{"$f":"IF(OR(CN33=\"\",CN32=\"\"),\"-\",CN33-CN32)","v":"-"},null,{"$f":"IF(OR(CP33=\"\",CP32=\"\"),\"-\",CP33-CP32)","v":"-"},null,{"$f":"IF(OR(CR33=\"\",CR32=\"\"),\"-\",CR33-CR32)","v":"-"},null,{"$f":"IF(OR(CT33=\"\",CT32=\"\"),\"-\",CT33-CT32)","v":"-"},null,{"$f":"IF(OR(CV33=\"\",CV32=\"\"),\"-\",CV33-CV32)","v":"-"},null,{"$f":"IF(OR(CX33=\"\",CX32=\"\"),\"-\",CX33-CX32)","v":"-"},null,"-"]
[null,"室温・水温２",null,null,null,null,null,null,null,null,null,null,null,null,null,null,null,null,null,null,null,null,null,null,null,null,null,null,null,null,null,null,null,null,null,null,null,null,null,null,null,null,null,null,null,null,null,null,null,null,null,null,null,null,null,null,null,null,null,null,null,null,null,null,"αｱﾐﾗｰｾﾞ(U/g生麹)",null,null,"乾物",1363,{"$f":"IF(OR(BQ$34=\"\",BQ37=\"\"),\"-\",BQ37*100/(100-BQ$34))","v":1947.1428571428571},1363,{"$f":"IF(OR(BS$34=\"\",BS37=\"\"),\"-\",BS37*100/(100-BS$34))","v":1947.1428571428571},1363,{"$f":"IF(OR(BU$34=\"\",BU37=\"\"),\"-\",BU37*100/(100-BU$34))","v":1975.3623188405797},1363,{"$f":"IF(OR(BW$34=\"\",BW37=\"\"),\"-\",BW37*100/(100-BW$34))","v":1975.3623188405797},null,{"$f":"IF(OR(BY$34=\"\",BY37=\"\"),\"-\",BY37*100/(100-BY$34))","v":"-"},"-",null,null,null,"濃淡指数",null,null,{"$f":"IF(OR(CH27=\"\",CH31=\"\",CH32=\"\",CH33=\"\"),\"-\",(CH31+CH32+CH33)*CH27/100*10)","v":6.311399999999999},null,{"$f":"IF(OR(CJ27=\"\",CJ31=\"\",CJ32=\"\",CJ33=\"\"),\"-\",(CJ31+CJ32+CJ33)*CJ27/100*10)","v":"-"},null,{"$f":"IF(OR(CL27=\"\",CL31=\"\",CL32=\"\",CL33=\"\"),\"-\",(CL31+CL32+CL33)*CL27/100*10)","v":"-"},null,{"$f":"IF(OR(CN27=\"\",CN31=\"\",CN32=\"\",CN33=\"\"),\"-\",(CN31+CN32+CN33)*CN27/100*10)","v":"-"},null,{"$f":"IF(OR(CP27=\"\",CP31=\"\",CP32=\"\",CP33=\"\"),\"-\",(CP31+CP32+CP33)*CP27/100*10)","v":"-"},null,{"$f":"IF(OR(CR27=\"\",CR31=\"\",CR32=\"\",CR33=\"\"),\"-\",(CR31+CR32+CR33)*CR27/100*10)","v":"-"},null,{"$f":"IF(OR(CT27=\"\",CT31=\"\",CT32=\"\",CT33=\"\"),\"-\",(CT31+CT32+CT33)*CT27/100*10)","v":"-"},null,{"$f":"IF(OR(CV27=\"\",CV31=\"\",CV32=\"\",CV33=\"\"),\"-\",(CV31+CV32+CV33)*CV27/100*10)","v":"-"},null,{"$f":"IF(OR(CX27=\"\",CX31=\"\",CX32=\"\",CX33=\"\"),\"-\",(CX31+CX32+CX33)*CX27/100*10)","v":"-"},null,"-"]
[null,"ﾎﾞｰﾒ(Be)",null,null,null,null,9.4,null,null,null,null,null,null,6,6.2,6.3,6.4,6.2,5.4,4.5,4.01,3.44,null,null,null,null,null,null,null,null,null,null,null,null,null,null,null,null,null,null,null,null,null,null,null,null,null,null,null,null,null,null,null,null,null,null,null,null,null,null,null,null,null,null,"Gｱﾐﾗｰｾﾞ(U/g生麹)",null,null,"乾物",244,{"$f":"IF(OR(BQ$34=\"\",BQ38=\"\"),\"-\",BQ38*100/(100-BQ$34))","v":348.57142857142856},244,348.57142857142856,244,{"$f":"IF(OR(BU$34=\"\",BU38=\"\"),\"-\",BU38*100/(100-BU$34))","v":353.62318840579712},244,{"$f":"IF(OR(BW$34=\"\",BW38=\"\"),\"-\",BW38*100/(100-BW$34))","v":353.62318840579712},null,{"$f":"IF(OR(BY$34=\"\",BY38=\"\"),\"-\",BY38*100/(100-BY$34))","v":"-"},"-",null,null,null,"ｼﾌﾞ予測係数比",null,null,{"$f":"IF(OR(CH31=\"\",CH32=\"\",CH33=\"\"),\"-\",(CH32+CH33-CH31)/CH31)","v":0.40718562874251507},null,{"$f":"IF(OR(CJ31=\"\",CJ32=\"\",CJ33=\"\"),\"-\",(CJ32+CJ33-CJ31)/CJ31)","v":"-"},null,{"$f":"IF(OR(CL31=\"\",CL32=\"\",CL33=\"\"),\"-\",(CL32+CL33-CL31)/CL31)","v":"-"},null,{"$f":"IF(OR(CN31=\"\",CN32=\"\",CN33=\"\"),\"-\",(CN32+CN33-CN31)/CN31)","v":"-"},null,{"$f":"IF(OR(CP31=\"\",CP32=\"\",CP33=\"\"),\"-\",(CP32+CP33-CP31)/CP31)","v":"-"},null,{"$f":"IF(OR(CR31=\"\",CR32=\"\",CR33=\"\"),\"-\",(CR32+CR33-CR31)/CR31)","v":"-"},null,{"$f":"IF(OR(CT31=\"\",CT32=\"\",CT33=\"\"),\"-\",(CT32+CT33-CT31)/CT31)","v":"-"},null,{"$f":"IF(OR(CV31=\"\",CV32=\"\",CV33=\"\"),\"-\",(CV32+CV33-CV31)/CV31)","v":"-"},null,{"$f":"IF(OR(CX31=\"\",CX32=\"\",CX33=\"\"),\"-\",(CX32+CX33-CX31)/CX31)","v":"-"},null,"-"]
[null,"日本酒度",null,null,null,null,null,null,null,null,null,null,null,null,null,null,null,null,null,null,null,null,-30,-25.6,-22.3,-19.3,-16.599999999999998,-14.299999999999999,-11.899999999999999,-10.600000000000001,-9,-7.5,-6.2,-5.0999999999999996,-4.0999999999999996,-3,-1.6,-0.70000000000000007,0.4,null,null,null,null,null,null,null,null,null,null,null,null,null,null,null,null,null,null,null,null,null,null,null,null,null,"ACP(U/g生麹)",null,null,"乾物",6107,8724.2857142857138,6107,8724.2857142857138,6107,8850.7246376811599,6107,{"$f":"IF(OR(BW$34=\"\",BW39=\"\"),\"-\",BW39*100/(100-BW$34))","v":8850.7246376811599},null,{"$f":"IF(OR(BY$34=\"\",BY39=\"\"),\"-\",BY39*100/(100-BY$34))","v":"-"},"-",null,null,null,"ｱﾐﾉ酸度比",null,null,{"$f":"IF(OR(CH31=\"\",CH32=\"\"),\"-\",CH32/CH31)","v":0.38922155688622756},null,{"$f":"IF(OR(CJ31=\"\",CJ32=\"\"),\"-\",CJ32/CJ31)","v":"-"},null,{"$f":"IF(OR(CL31=\"\",CL32=\"\"),\"-\",CL32/CL31)","v":"-"},null,{"$f":"IF(OR(CN31=\"\",CN32=\"\"),\"-\",CN32/CN31)","v":"-"},null,{"$f":"IF(OR(CP31=\"\",CP32=\"\"),\"-\",CP32/CP31)","v":"-"},null,{"$f":"IF(OR(CR31=\"\",CR32=\"\"),\"-\",CR32/CR31)","v":"-"},null,{"$f":"IF(OR(CT31=\"\",CT32=\"\"),\"-\",CT32/CT31)","v":"-"},null,{"$f":"IF(OR(CV31=\"\",CV32=\"\"),\"-\",CV32/CV31)","v":"-"},null,{"$f":"IF(OR(CX31=\"\",CX32=\"\"),\"-\",CX32/CX31)","v":"-"},null,"-"]
[null,"ｱﾙｺｰﾙ",null,null,null,null,6.5,null,null,null,null,null,null,2.1,2.9,3.4,4.5,6.5,7.6,8.6,9.6999999999999993,10.5,11.1,11.7,12.3,12.7,13.2,13.6,14,14.2,14.2,14.7,14.9,15.2,15.4,15.5,15.6,15.6,15.6,null,null,null,null,null,null,null,null,null,null,null,null,null,null,null,null,null,null,null,null,null,null,null,null,null,"G/α比",null,null,null,{"$f":"IF(OR(BQ38=\"\",BQ37=\"\"),\"-\",BQ38/BQ37*100)","v":17.901687454145268},null,{"$f":"IF(OR(BS38=\"\",BS37=\"\"),\"-\",BS38/BS37*100)","v":17.901687454145268},null,{"$f":"IF(OR(BU38=\"\",BU37=\"\"),\"-\",BU38/BU37*100)","v":17.901687454145268},null,{"$f":"IF(OR(BW38=\"\",BW37=\"\"),\"-\",BW38/BW37*100)","v":17.901687454145268},null,{"$f":"IF(OR(BY38=\"\",BY37=\"\"),\"-\",BY38/BY37*100)","v":"-"},null,"-",null,null,null,"ｸﾞﾙｺｰｽ比",null,null,{"$f":"IF(OR(CH31=\"\",CH33=\"\"),\"-\",CH33/CH31)","v":1.0179640718562875},null,{"$f":"IF(OR(CJ31=\"\",CJ33=\"\"),\"-\",CJ33/CJ31)","v":"-"},null,{"$f":"IF(OR(CL31=\"\",CL33=\"\"),\"-\",CL33/CL31)","v":"-"},null,{"$f":"IF(OR(CN31=\"\",CN33=\"\"),\"-\",CN33/CN31)","v":"-"},null,{"$f":"IF(OR(CP31=\"\",CP33=\"\"),\"-\",CP33/CP31)","v":"-"},null,{"$f":"IF(OR(CR31=\"\",CR33=\"\"),\"-\",CR33/CR31)","v":"-"},null,{"$f":"IF(OR(CT31=\"\",CT33=\"\"),\"-\",CT33/CT31)","v":"-"},null,{"$f":"IF(OR(CV31=\"\",CV33=\"\"),\"-\",CV33/CV31)","v":"-"},null,{"$f":"IF(OR(CX31=\"\",CX33=\"\"),\"-\",CX33/CX31)","v":"-"},null,"-"]
[null,"酸　度",null,null,null,null,3.06,null,null,null,null,null,null,0.88,0.93,1.04,1.1499999999999999,1.23,1.35,1.42,1.53,1.49,1.62,1.66,1.71,1.69,1.7,1.71,1.71,1.75,1.72,1.74,1.75,1.76,1.78,1.78,1.75,1.7,1.72,null,null,null,null,null,null,null,null,null,null,null,null,null,null,null,null,null,null,null,null,null,null,null,null,null,"G/ACP比",null,null,null,{"$f":"IF(OR(BQ39=\"\",BQ38=\"\"),\"-\",BQ38/BQ39*100)","v":3.9954150974291793},null,{"$f":"IF(OR(BS39=\"\",BS38=\"\"),\"-\",BS38/BS39*100)","v":3.9954150974291793},null,{"$f":"IF(OR(BU39=\"\",BU38=\"\"),\"-\",BU38/BU39*100)","v":3.9954150974291793},null,{"$f":"IF(OR(BW39=\"\",BW38=\"\"),\"-\",BW38/BW39*100)","v":3.9954150974291793},null,{"$f":"IF(OR(BY39=\"\",BY38=\"\"),\"-\",BY38/BY39*100)","v":"-"},null,"-",null,null,null,"官能評価",null,null,"ぶどう様\nジューシー\nキレ",null,null,null,null,null,null,null,null,null,null,null,null,null,null,null,null,null,"-"]
[null,"ｱﾐﾉ酸度",null,null,null,null,0.34,null,null,null,null,null,null,0.18,0.2,0.17,0.16,0.16,0.17,0.2,0.24,0.28999999999999998,0.33,0.36,0.39,0.42,0.45,0.48,0.5,0.53,0.55000000000000004,0.55000000000000004,0.55000000000000004,0.56999999999999995,0.59,0.6,0.62,0.66,0.64,null,null,null,null,null,null,null,null,null,null,null,null,null,null,null,null,null,null,null,null,null,null,null,null,null,"α量(kU/kg乾物白米)",null,null,null,{"$f":"IF(OR(BQ37=\"\",BQ$33=\"\",BQ$20=\"-\",BU$20=\"-\"),\"-\",BQ37*BQ$33/(BQ$20+BU$20))","v":732.63157894736844},null,{"$f":"IF(OR(BS37=\"\",BS$33=\"\",BR$20=\"-\",BV$20=\"-\"),\"-\",BS37*BS$33/(BR$20+BV$20))","v":568.30806340454853},null,{"$f":"IF(OR(BU37=\"\",BU$33=\"\",BS$20=\"-\",BW$20=\"-\"),\"-\",BU37*BU$33/(BS$20+BW$20))","v":191.13333333333333},null,{"$f":"IF(OR(BW37=\"\",BW$33=\"\",BT$20=\"-\",BX$20=\"-\"),\"-\",BW37*BW$33/(BT$20+BX$20))","v":346.53745962279879},null,{"$f":"IF(OR(BY37=\"\",BY$33=\"-\",BY$20=\"-\"),\"-\",BY37*BY$33/BY$20)","v":"-"},null,{"$f":"IF(SUM(BQ37,BS37,BU37,BW37,BY37)=0,\"-\",SUM(BQ37*BQ33,BS37*BS33,BU37*BU33,BW37*BW33,BY37*BY33)/CB20)","v":334.10380793403613}]
[null,"ｸﾞﾙｺｰｽ",null,null,null,null,10.68,null,null,null,null,null,null,6.15,6.62,7.34,6.57,5.95,5.7,5.07,4.41,4.03,3.71,3.53,3.34,3.11,2.75,2.46,2.4500000000000002,2.27,2.13,2.04,2.0299999999999998,2,1.98,1.78,1.81,1.66,1.66,null,null,null,null,null,null,null,null,null,null,null,null,null,null,null,null,null,null,null,null,null,null,null,null,null,"G量(kU/kg乾物白米)",null,null,null,{"$f":"IF(OR(BQ38=\"\",BQ$33=\"\",BQ$20=\"-\",BU$20=\"-\"),\"-\",BQ38*BQ$33/(BQ$20+BU$20))","v":131.15341545352743},null,{"$f":"IF(OR(BS38=\"\",BS$33=\"\",BR$20=\"-\",BV$20=\"-\"),\"-\",BS38*BS$33/(BR$20+BV$20))","v":101.73673328738801},null,{"$f":"IF(OR(BU38=\"\",BU$33=\"\",BS$20=\"-\",BW$20=\"-\"),\"-\",BU38*BU$33/(BS$20+BW$20))","v":34.216091954022986},null,{"$f":"IF(OR(BW38=\"\",BW$33=\"\",BT$20=\"-\",BX$20=\"-\"),\"-\",BW38*BW$33/(BT$20+BX$20))","v":62.036052933208289},null,{"$f":"IF(OR(BY38=\"\",BY$33=\"-\",BY$20=\"-\"),\"-\",BY38*BY$33/BY$20)","v":"-"},null,{"$f":"IF(SUM(BQ38,BS38,BU38,BW38,BY38)=0,\"-\",SUM(BQ38*BQ33,BS38*BS33,BU38*BU33,BW38*BW33,BY38*BY33)/CB20)","v":59.810219468748954}]
[null,"ﾋﾟﾙﾋﾞﾝ酸",null,null,null,null,null,null,null,null,null,null,null,null,null,null,null,null,null,null,null,null,null,null,null,null,null,null,null,null,null,null,null,null,null,null,null,null,null,null,null,null,null,null,null,null,null,null,null,null,null,null,null,null,null,null,null,null,null,null,null,null,null,null,"ACP量(kU/kg乾物白米)",null,null,null,{"$f":"IF(OR(BQ39=\"\",BQ$33=\"\",BQ$20=\"-\",BU$20=\"-\"),\"-\",BQ39*BQ$33/(BQ$20+BU$20))","v":3282.5979843225086},null,{"$f":"IF(OR(BS39=\"\",BS$33=\"\",BR$20=\"-\",BV$20=\"-\"),\"-\",BS39*BS$33/(BR$20+BV$20))","v":2546.3370089593382},null,{"$f":"IF(OR(BU39=\"\",BU$33=\"\",BS$20=\"-\",BW$20=\"-\"),\"-\",BU39*BU$33/(BS$20+BW$20))","v":856.38390804597691},null,{"$f":"IF(OR(BW39=\"\",BW$33=\"\",BT$20=\"-\",BX$20=\"-\"),\"-\",BW39*BW$33/(BT$20+BX$20))","v":1552.6810461602583},null,{"$f":"IF(OR(BY39=\"\",BY$33=\"-\",BY$20=\"-\"),\"-\",BY39*BY$33/BY$20)","v":"-"},null,{"$f":"IF(SUM(BQ39,BS39,BU39,BW39,BY39)=0,\"-\",SUM(BQ39*BQ33,BS39*BS33,BU39*BU33,BW39*BW33,BY39*BY33)/CB20)","v":1496.9713536706961}]
[null,"Brix",null,null,null,null,21.6,null,null,null,null,null,null,14.4,15.7,16.3,16.600000000000001,15.9,15.6,14.5,14.2,13.5,13.2,12.9,12.7,12.5,12.3,12.3,12.1,12.1,11.7,11.6,11.7,11.5,11.5,11.3,11.2,10.9,10.9,null,null,null,null,null,null,null,null,null,null,null,null,null,null,null,null,null,null,null,null,null,null,null,null,"酒母","種類",null,null,null,"高温糖化",null,"使用酵母",null,"酵母名",null,null,"添加量",null,null,"割合"]
[null,"旋光度",null,null,null,null,372,null,null,null,null,null,null,297,301,314,303,265,240,227,202,182,161,152,135,142,128,121,131,112,100,99,99,88,98,114,88,88,88,null,null,null,null,null,null,null,null,null,null,null,null,null,null,null,null,null,null,null,null,null,null,null,null,null,null,null,null,null,null,null,null,null,"協会●号",null,null,"アンプル１本",null,null,null,null,null,null,"メモ",null,null,"５℃保存\n2/15：火入れ",null,null,null,null,null,null,null,null,null,null,null,null,null,null,null,null,null,"-"]
[null,"追水(L)",null,null,null,null,null,null,null,null,null,null,null,null,null,null,40,null,40,null,20,20,null,null,null,null,null,null,null,null,null,null,null,null,20,20,20,20,20,null,null,null,null,null,null,null,null,null,null,null,null,null,null,null,null,null,null,null,null,null,null,null,null,null,"記号",null,null,null,"A"]
[null,"親容器",null,"深",null,null,null,null,null,null,null,null,null,null,null,null,null,null,null,null,null,null,null,null,null,null,null,null,null,null,null,null,null,null,null,null,null,null,null,null,null,null,null,null,null,null,null,null,null,null,null,null,null,null,null,null,null,null,null,null,null,null,null,null,"順号",null,null,null,1]
[null,null,null,"数量(L)",null,null,null,null,null,null,null,null,null,null,null,null,null,null,null,null,null,null,null,null,null,null,null,null,null,null,null,null,null,null,null,null,null,null,null,null,null,null,null,null,null,null,null,null,null,null,null,null,null,null,null,null,null,null,null,null,null,null,null,null,"数量(L)",null,null,null,137,null,"乳酸(mL)",null,630,null,null,"(汲水100L当り",null,null,{"$f":"IFERROR(BU49/BQ6*100,\"-\")","v":700},"mL)"]
[null,"枝容器",null,"深",null,null,null,null,null,null,null,null,null,null,null,null,null,null,null,null,null,null,null,null,null,null,null,null,null,null,null,null,null,null,null,null,null,null,null,null,null,null,null,null,null,null,null,null,null,null,null,null,null,null,null,null,null,null,null,null,null,null,null,"酵素剤／その他副原料","品名",null,null,null,"成分",null,null,null,"用途",null,null,"使用量",null,null,"使用月日"]
[null,null,null,"数量(L)"]
[null,"メモ",null,null,"水麹","仕込",null,null,"水麹","仕込","水麹","仕込"]
[]
[]
[null,"BMD",null,null,null,null,null,null,null,null,null,null,{"$f":"IF(M79=\"\",NA(),M32*M79)","v":{"$error":"#N/A"}},18,24.8,31.5,38.400000000000006,43.4,43.2,40.5,40.099999999999994,37.839999999999996,36,33.28,31.22,28.950000000000003,26.559999999999995,24.31,21.419999999999998,20.14,18,15.75,13.64,11.73,9.84,7.5,4.16,1.8900000000000001,-1.1200000000000001,{"$error":"#N/A"},{"$error":"#N/A"},{"$error":"#N/A"},{"$error":"#N/A"},{"$error":"#N/A"},{"$f":"IF(AS79=\"\",NA(),AS32*AS79)","v":{"$error":"#N/A"}},{"$error":"#N/A"},{"$error":"#N/A"},{"$error":"#N/A"},{"$error":"#N/A"},{"$error":"#N/A"},{"$error":"#N/A"},{"$error":"#N/A"},{"$error":"#N/A"},{"$error":"#N/A"},{"$error":"#N/A"},{"$error":"#N/A"},{"$error":"#N/A"},{"$error":"#N/A"},{"$error":"#N/A"},{"$error":"#N/A"},{"$error":"#N/A"}]
[null,"ｴｷｽ",null,null,{"$f":"IF(OR(E40=\"\",E38=\"\"),NA(),(1443/(1443-E38*10)-(INDEX(換算表!$D$3:$D$273,MATCH(ROUNDDOWN(E40,1),換算表!$B$3:$B$273,0))*E40+INDEX(換算表!$E$3:$E$273,MATCH(ROUNDDOWN(E40,1),換算表!$B$3:$B$273,0))))*260+0.21)","v":{"$error":"#N/A"}},{"$f":"IF(OR(F40=\"\",F38=\"\"),NA(),(1443/(1443-F38*10)-(INDEX(換算表!$D$3:$D$273,MATCH(ROUNDDOWN(F40,1),換算表!$B$3:$B$273,0))*F40+INDEX(換算表!$E$3:$E$273,MATCH(ROUNDDOWN(F40,1),換算表!$B$3:$B$273,0))))*260+0.21)","v":{"$error":"#N/A"}},{"$f":"IF(OR(G40=\"\",G38=\"\"),NA(),(1443/(1443-G38*10)-(INDEX(換算表!$D$3:$D$273,MATCH(ROUNDDOWN(G40,1),換算表!$B$3:$B$273,0))*G40+INDEX(換算表!$E$3:$E$273,MATCH(ROUNDDOWN(G40,1),換算表!$B$3:$B$273,0))))*260+0.21)","v":20.69572379540395},{"$f":"IF(OR(H40=\"\",H38=\"\"),NA(),(1443/(1443-H38*10)-(INDEX(換算表!$D$3:$D$273,MATCH(ROUNDDOWN(H40,1),換算表!$B$3:$B$273,0))*H40+INDEX(換算表!$E$3:$E$273,MATCH(ROUNDDOWN(H40,1),換算表!$B$3:$B$273,0))))*260+0.21)","v":{"$error":"#N/A"}},{"$f":"IF(OR(I40=\"\",I38=\"\"),NA(),(1443/(1443-I38*10)-(INDEX(換算表!$D$3:$D$273,MATCH(ROUNDDOWN(I40,1),換算表!$B$3:$B$273,0))*I40+INDEX(換算表!$E$3:$E$273,MATCH(ROUNDDOWN(I40,1),換算表!$B$3:$B$273,0))))*260+0.21)","v":{"$error":"#N/A"}},{"$f":"IF(OR(J40=\"\",J38=\"\"),NA(),(1443/(1443-J38*10)-(INDEX(換算表!$D$3:$D$273,MATCH(ROUNDDOWN(J40,1),換算表!$B$3:$B$273,0))*J40+INDEX(換算表!$E$3:$E$273,MATCH(ROUNDDOWN(J40,1),換算表!$B$3:$B$273,0))))*260+0.21)","v":{"$error":"#N/A"}},{"$f":"IF(OR(K40=\"\",K38=\"\"),NA(),(1443/(1443-K38*10)-(INDEX(換算表!$D$3:$D$273,MATCH(ROUNDDOWN(K40,1),換算表!$B$3:$B$273,0))*K40+INDEX(換算表!$E$3:$E$273,MATCH(ROUNDDOWN(K40,1),換算表!$B$3:$B$273,0))))*260+0.21)","v":{"$error":"#N/A"}},{"$f":"IF(OR(L40=\"\",L38=\"\"),NA(),(1443/(1443-L38*10)-(INDEX(換算表!$D$3:$D$273,MATCH(ROUNDDOWN(L40,1),換算表!$B$3:$B$273,0))*L40+INDEX(換算表!$E$3:$E$273,MATCH(ROUNDDOWN(L40,1),換算表!$B$3:$B$273,0))))*260+0.21)","v":{"$error":"#N/A"}},{"$f":"IF(OR(M40=\"\",M79=\"\"),NA(),(1443/(1443-M79*10)-(INDEX(換算表!$D$3:$D$273,MATCH(ROUNDDOWN(M40,1),換算表!$B$3:$B$273,0))*M40+INDEX(換算表!$E$3:$E$273,MATCH(ROUNDDOWN(M40,1),換算表!$B$3:$B$273,0))))*260+0.21)","v":{"$error":"#N/A"}},{"$f":"IF(OR(N40=\"\",N79=\"\"),NA(),(1443/(1443-N79*10)-(INDEX(換算表!$D$3:$D$273,MATCH(ROUNDDOWN(N40,1),換算表!$B$3:$B$273,0))*N40+INDEX(換算表!$E$3:$E$273,MATCH(ROUNDDOWN(N40,1),換算表!$B$3:$B$273,0))))*260+0.21)","v":12.303626464208207},{"$f":"IF(OR(O40=\"\",O79=\"\"),NA(),(1443/(1443-O79*10)-(INDEX(換算表!$D$3:$D$273,MATCH(ROUNDDOWN(O40,1),換算表!$B$3:$B$273,0))*O40+INDEX(換算表!$E$3:$E$273,MATCH(ROUNDDOWN(O40,1),換算表!$B$3:$B$273,0))))*260+0.21)","v":12.995500941346853},{"$f":"IF(OR(P40=\"\",P79=\"\"),NA(),(1443/(1443-P79*10)-(INDEX(換算表!$D$3:$D$273,MATCH(ROUNDDOWN(P40,1),換算表!$B$3:$B$273,0))*P40+INDEX(換算表!$E$3:$E$273,MATCH(ROUNDDOWN(P40,1),換算表!$B$3:$B$273,0))))*260+0.21)","v":13.374365217391318},{"$f":"IF(OR(Q40=\"\",Q79=\"\"),NA(),(1443/(1443-Q79*10)-(INDEX(換算表!$D$3:$D$273,MATCH(ROUNDDOWN(Q40,1),換算表!$B$3:$B$273,0))*Q40+INDEX(換算表!$E$3:$E$273,MATCH(ROUNDDOWN(Q40,1),換算表!$B$3:$B$273,0))))*260+0.21)","v":13.964115010877443},{"$f":"IF(OR(R40=\"\",R79=\"\"),NA(),(1443/(1443-R79*10)-(INDEX(換算表!$D$3:$D$273,MATCH(ROUNDDOWN(R40,1),換算表!$B$3:$B$273,0))*R40+INDEX(換算表!$E$3:$E$273,MATCH(ROUNDDOWN(R40,1),換算表!$B$3:$B$273,0))))*260+0.21)","v":14.251300941346825},{"$f":"IF(OR(S40=\"\",S79=\"\"),NA(),(1443/(1443-S79*10)-(INDEX(換算表!$D$3:$D$273,MATCH(ROUNDDOWN(S40,1),換算表!$B$3:$B$273,0))*S40+INDEX(換算表!$E$3:$E$273,MATCH(ROUNDDOWN(S40,1),換算表!$B$3:$B$273,0))))*260+0.21)","v":13.047991360691135},{"$f":"IF(OR(T40=\"\",T79=\"\"),NA(),(1443/(1443-T79*10)-(INDEX(換算表!$D$3:$D$273,MATCH(ROUNDDOWN(T40,1),換算表!$B$3:$B$273,0))*T40+INDEX(換算表!$E$3:$E$273,MATCH(ROUNDDOWN(T40,1),換算表!$B$3:$B$273,0))))*260+0.21)","v":11.626298712446337},{"$f":"IF(OR(U40=\"\",U79=\"\"),NA(),(1443/(1443-U79*10)-(INDEX(換算表!$D$3:$D$273,MATCH(ROUNDDOWN(U40,1),換算表!$B$3:$B$273,0))*U40+INDEX(換算表!$E$3:$E$273,MATCH(ROUNDDOWN(U40,1),換算表!$B$3:$B$273,0))))*260+0.21)","v":11.029548520920937},{"$f":"IF(OR(V40=\"\",V79=\"\"),NA(),(1443/(1443-V79*10)-(INDEX(換算表!$D$3:$D$273,MATCH(ROUNDDOWN(V40,1),換算表!$B$3:$B$273,0))*V40+INDEX(換算表!$E$3:$E$273,MATCH(ROUNDDOWN(V40,1),換算表!$B$3:$B$273,0))))*260+0.21)","v":10.189166945903761},{"$f":"IF(OR(W40=\"\",W79=\"\"),NA(),(1443/(1443-W79*10)-(INDEX(換算表!$D$3:$D$273,MATCH(ROUNDDOWN(W40,1),換算表!$B$3:$B$273,0))*W40+INDEX(換算表!$E$3:$E$273,MATCH(ROUNDDOWN(W40,1),換算表!$B$3:$B$273,0))))*260+0.21)","v":9.536569851380067},{"$f":"IF(OR(X40=\"\",X79=\"\"),NA(),(1443/(1443-X79*10)-(INDEX(換算表!$D$3:$D$273,MATCH(ROUNDDOWN(X40,1),換算表!$B$3:$B$273,0))*X40+INDEX(換算表!$E$3:$E$273,MATCH(ROUNDDOWN(X40,1),換算表!$B$3:$B$273,0))))*260+0.21)","v":8.8891221109073477},{"$f":"IF(OR(Y40=\"\",Y79=\"\"),NA(),(1443/(1443-Y79*10)-(INDEX(換算表!$D$3:$D$273,MATCH(ROUNDDOWN(Y40,1),換算表!$B$3:$B$273,0))*Y40+INDEX(換算表!$E$3:$E$273,MATCH(ROUNDDOWN(Y40,1),換算表!$B$3:$B$273,0))))*260+0.21)","v":8.4458867882030386},{"$f":"IF(OR(Z40=\"\",Z79=\"\"),NA(),(1443/(1443-Z79*10)-(INDEX(換算表!$D$3:$D$273,MATCH(ROUNDDOWN(Z40,1),換算表!$B$3:$B$273,0))*Z40+INDEX(換算表!$E$3:$E$273,MATCH(ROUNDDOWN(Z40,1),換算表!$B$3:$B$273,0))))*260+0.21)","v":8.0038189506217225},{"$f":"IF(OR(AA40=\"\",AA79=\"\"),NA(),(1443/(1443-AA79*10)-(INDEX(換算表!$D$3:$D$273,MATCH(ROUNDDOWN(AA40,1),換算表!$B$3:$B$273,0))*AA40+INDEX(換算表!$E$3:$E$273,MATCH(ROUNDDOWN(AA40,1),換算表!$B$3:$B$273,0))))*260+0.21)","v":7.647999214806581},{"$f":"IF(OR(AB40=\"\",AB79=\"\"),NA(),(1443/(1443-AB79*10)-(INDEX(換算表!$D$3:$D$273,MATCH(ROUNDDOWN(AB40,1),換算表!$B$3:$B$273,0))*AB40+INDEX(換算表!$E$3:$E$273,MATCH(ROUNDDOWN(AB40,1),換算表!$B$3:$B$273,0))))*260+0.21)","v":7.3363657870792496},{"$f":"IF(OR(AC40=\"\",AC79=\"\"),NA(),(1443/(1443-AC79*10)-(INDEX(換算表!$D$3:$D$273,MATCH(ROUNDDOWN(AC40,1),換算表!$B$3:$B$273,0))*AC40+INDEX(換算表!$E$3:$E$273,MATCH(ROUNDDOWN(AC40,1),換算表!$B$3:$B$273,0))))*260+0.21)","v":7.0077733072463086},{"$f":"IF(OR(AD40=\"\",AD79=\"\"),NA(),(1443/(1443-AD79*10)-(INDEX(換算表!$D$3:$D$273,MATCH(ROUNDDOWN(AD40,1),換算表!$B$3:$B$273,0))*AD40+INDEX(換算表!$E$3:$E$273,MATCH(ROUNDDOWN(AD40,1),換算表!$B$3:$B$273,0))))*260+0.21)","v":6.824443563250556},{"$f":"IF(OR(AE40=\"\",AE79=\"\"),NA(),(1443/(1443-AE79*10)-(INDEX(換算表!$D$3:$D$273,MATCH(ROUNDDOWN(AE40,1),換算表!$B$3:$B$273,0))*AE40+INDEX(換算表!$E$3:$E$273,MATCH(ROUNDDOWN(AE40,1),換算表!$B$3:$B$273,0))))*260+0.21)","v":6.5321991631799712},{"$f":"IF(OR(AF40=\"\",AF79=\"\"),NA(),(1443/(1443-AF79*10)-(INDEX(換算表!$D$3:$D$273,MATCH(ROUNDDOWN(AF40,1),換算表!$B$3:$B$273,0))*AF40+INDEX(換算表!$E$3:$E$273,MATCH(ROUNDDOWN(AF40,1),換算表!$B$3:$B$273,0))))*260+0.21)","v":6.3966117032394152},{"$f":"IF(OR(AG40=\"\",AG79=\"\"),NA(),(1443/(1443-AG79*10)-(INDEX(換算表!$D$3:$D$273,MATCH(ROUNDDOWN(AG40,1),換算表!$B$3:$B$273,0))*AG40+INDEX(換算表!$E$3:$E$273,MATCH(ROUNDDOWN(AG40,1),換算表!$B$3:$B$273,0))))*260+0.21)","v":6.2147376391983187},{"$f":"IF(OR(AH40=\"\",AH79=\"\"),NA(),(1443/(1443-AH79*10)-(INDEX(換算表!$D$3:$D$273,MATCH(ROUNDDOWN(AH40,1),換算表!$B$3:$B$273,0))*AH40+INDEX(換算表!$E$3:$E$273,MATCH(ROUNDDOWN(AH40,1),換算表!$B$3:$B$273,0))))*260+0.21)","v":6.0955781765075328},{"$f":"IF(OR(AI40=\"\",AI79=\"\"),NA(),(1443/(1443-AI79*10)-(INDEX(換算表!$D$3:$D$273,MATCH(ROUNDDOWN(AI40,1),換算表!$B$3:$B$273,0))*AI40+INDEX(換算表!$E$3:$E$273,MATCH(ROUNDDOWN(AI40,1),換算表!$B$3:$B$273,0))))*260+0.21)","v":5.9688437000487857},{"$f":"IF(OR(AJ40=\"\",AJ79=\"\"),NA(),(1443/(1443-AJ79*10)-(INDEX(換算表!$D$3:$D$273,MATCH(ROUNDDOWN(AJ40,1),換算表!$B$3:$B$273,0))*AJ40+INDEX(換算表!$E$3:$E$273,MATCH(ROUNDDOWN(AJ40,1),換算表!$B$3:$B$273,0))))*260+0.21)","v":5.7982666666668479},{"$f":"IF(OR(AK40=\"\",AK79=\"\"),NA(),(1443/(1443-AK79*10)-(INDEX(換算表!$D$3:$D$273,MATCH(ROUNDDOWN(AK40,1),換算表!$B$3:$B$273,0))*AK40+INDEX(換算表!$E$3:$E$273,MATCH(ROUNDDOWN(AK40,1),換算表!$B$3:$B$273,0))))*260+0.21)","v":5.5712082974886776},{"$f":"IF(OR(AL40=\"\",AL79=\"\"),NA(),(1443/(1443-AL79*10)-(INDEX(換算表!$D$3:$D$273,MATCH(ROUNDDOWN(AL40,1),換算表!$B$3:$B$273,0))*AL40+INDEX(換算表!$E$3:$E$273,MATCH(ROUNDDOWN(AL40,1),換算表!$B$3:$B$273,0))))*260+0.21)","v":5.4087873396659578},{"$f":"IF(OR(AM40=\"\",AM79=\"\"),NA(),(1443/(1443-AM79*10)-(INDEX(換算表!$D$3:$D$273,MATCH(ROUNDDOWN(AM40,1),換算表!$B$3:$B$273,0))*AM40+INDEX(換算表!$E$3:$E$273,MATCH(ROUNDDOWN(AM40,1),換算表!$B$3:$B$273,0))))*260+0.21)","v":5.2105479007899334},{"$f":"IF(OR(AN40=\"\",AN79=\"\"),NA(),(1443/(1443-AN79*10)-(INDEX(換算表!$D$3:$D$273,MATCH(ROUNDDOWN(AN40,1),換算表!$B$3:$B$273,0))*AN40+INDEX(換算表!$E$3:$E$273,MATCH(ROUNDDOWN(AN40,1),換算表!$B$3:$B$273,0))))*260+0.21)","v":{"$error":"#N/A"}},{"$f":"IF(OR(AO40=\"\",AO79=\"\"),NA(),(1443/(1443-AO79*10)-(INDEX(換算表!$D$3:$D$273,MATCH(ROUNDDOWN(AO40,1),換算表!$B$3:$B$273,0))*AO40+INDEX(換算表!$E$3:$E$273,MATCH(ROUNDDOWN(AO40,1),換算表!$B$3:$B$273,0))))*260+0.21)","v":{"$error":"#N/A"}},{"$f":"IF(OR(AP40=\"\",AP79=\"\"),NA(),(1443/(1443-AP79*10)-(INDEX(換算表!$D$3:$D$273,MATCH(ROUNDDOWN(AP40,1),換算表!$B$3:$B$273,0))*AP40+INDEX(換算表!$E$3:$E$273,MATCH(ROUNDDOWN(AP40,1),換算表!$B$3:$B$273,0))))*260+0.21)","v":{"$error":"#N/A"}},{"$f":"IF(OR(AQ40=\"\",AQ79=\"\"),NA(),(1443/(1443-AQ79*10)-(INDEX(換算表!$D$3:$D$273,MATCH(ROUNDDOWN(AQ40,1),換算表!$B$3:$B$273,0))*AQ40+INDEX(換算表!$E$3:$E$273,MATCH(ROUNDDOWN(AQ40,1),換算表!$B$3:$B$273,0))))*260+0.21)","v":{"$error":"#N/A"}},{"$f":"IF(OR(AR40=\"\",AR79=\"\"),NA(),(1443/(1443-AR79*10)-(INDEX(換算表!$D$3:$D$273,MATCH(ROUNDDOWN(AR40,1),換算表!$B$3:$B$273,0))*AR40+INDEX(換算表!$E$3:$E$273,MATCH(ROUNDDOWN(AR40,1),換算表!$B$3:$B$273,0))))*260+0.21)","v":{"$error":"#N/A"}},{"$f":"IF(OR(AS40=\"\",AS79=\"\"),NA(),(1443/(1443-AS79*10)-(INDEX(換算表!$D$3:$D$273,MATCH(ROUNDDOWN(AS40,1),換算表!$B$3:$B$273,0))*AS40+INDEX(換算表!$E$3:$E$273,MATCH(ROUNDDOWN(AS40,1),換算表!$B$3:$B$273,0))))*260+0.21)","v":{"$error":"#N/A"}},{"$f":"IF(OR(AT40=\"\",AT79=\"\"),NA(),(1443/(1443-AT79*10)-(INDEX(換算表!$D$3:$D$273,MATCH(ROUNDDOWN(AT40,1),換算表!$B$3:$B$273,0))*AT40+INDEX(換算表!$E$3:$E$273,MATCH(ROUNDDOWN(AT40,1),換算表!$B$3:$B$273,0))))*260+0.21)","v":{"$error":"#N/A"}},{"$f":"IF(OR(AU40=\"\",AU79=\"\"),NA(),(1443/(1443-AU79*10)-(INDEX(換算表!$D$3:$D$273,MATCH(ROUNDDOWN(AU40,1),換算表!$B$3:$B$273,0))*AU40+INDEX(換算表!$E$3:$E$273,MATCH(ROUNDDOWN(AU40,1),換算表!$B$3:$B$273,0))))*260+0.21)","v":{"$error":"#N/A"}},{"$f":"IF(OR(AV40=\"\",AV79=\"\"),NA(),(1443/(1443-AV79*10)-(INDEX(換算表!$D$3:$D$273,MATCH(ROUNDDOWN(AV40,1),換算表!$B$3:$B$273,0))*AV40+INDEX(換算表!$E$3:$E$273,MATCH(ROUNDDOWN(AV40,1),換算表!$B$3:$B$273,0))))*260+0.21)","v":{"$error":"#N/A"}},{"$f":"IF(OR(AW40=\"\",AW79=\"\"),NA(),(1443/(1443-AW79*10)-(INDEX(換算表!$D$3:$D$273,MATCH(ROUNDDOWN(AW40,1),換算表!$B$3:$B$273,0))*AW40+INDEX(換算表!$E$3:$E$273,MATCH(ROUNDDOWN(AW40,1),換算表!$B$3:$B$273,0))))*260+0.21)","v":{"$error":"#N/A"}},{"$f":"IF(OR(AX40=\"\",AX79=\"\"),NA(),(1443/(1443-AX79*10)-(INDEX(換算表!$D$3:$D$273,MATCH(ROUNDDOWN(AX40,1),換算表!$B$3:$B$273,0))*AX40+INDEX(換算表!$E$3:$E$273,MATCH(ROUNDDOWN(AX40,1),換算表!$B$3:$B$273,0))))*260+0.21)","v":{"$error":"#N/A"}},{"$f":"IF(OR(AY40=\"\",AY79=\"\"),NA(),(1443/(1443-AY79*10)-(INDEX(換算表!$D$3:$D$273,MATCH(ROUNDDOWN(AY40,1),換算表!$B$3:$B$273,0))*AY40+INDEX(換算表!$E$3:$E$273,MATCH(ROUNDDOWN(AY40,1),換算表!$B$3:$B$273,0))))*260+0.21)","v":{"$error":"#N/A"}},{"$f":"IF(OR(AZ40=\"\",AZ79=\"\"),NA(),(1443/(1443-AZ79*10)-(INDEX(換算表!$D$3:$D$273,MATCH(ROUNDDOWN(AZ40,1),換算表!$B$3:$B$273,0))*AZ40+INDEX(換算表!$E$3:$E$273,MATCH(ROUNDDOWN(AZ40,1),換算表!$B$3:$B$273,0))))*260+0.21)","v":{"$error":"#N/A"}},{"$f":"IF(OR(BA40=\"\",BA79=\"\"),NA(),(1443/(1443-BA79*10)-(INDEX(換算表!$D$3:$D$273,MATCH(ROUNDDOWN(BA40,1),換算表!$B$3:$B$273,0))*BA40+INDEX(換算表!$E$3:$E$273,MATCH(ROUNDDOWN(BA40,1),換算表!$B$3:$B$273,0))))*260+0.21)","v":{"$error":"#N/A"}},{"$f":"IF(OR(BB40=\"\",BB79=\"\"),NA(),(1443/(1443-BB79*10)-(INDEX(換算表!$D$3:$D$273,MATCH(ROUNDDOWN(BB40,1),換算表!$B$3:$B$273,0))*BB40+INDEX(換算表!$E$3:$E$273,MATCH(ROUNDDOWN(BB40,1),換算表!$B$3:$B$273,0))))*260+0.21)","v":{"$error":"#N/A"}},{"$f":"IF(OR(BC40=\"\",BC79=\"\"),NA(),(1443/(1443-BC79*10)-(INDEX(換算表!$D$3:$D$273,MATCH(ROUNDDOWN(BC40,1),換算表!$B$3:$B$273,0))*BC40+INDEX(換算表!$E$3:$E$273,MATCH(ROUNDDOWN(BC40,1),換算表!$B$3:$B$273,0))))*260+0.21)","v":{"$error":"#N/A"}},{"$f":"IF(OR(BD40=\"\",BD79=\"\"),NA(),(1443/(1443-BD79*10)-(INDEX(換算表!$D$3:$D$273,MATCH(ROUNDDOWN(BD40,1),換算表!$B$3:$B$273,0))*BD40+INDEX(換算表!$E$3:$E$273,MATCH(ROUNDDOWN(BD40,1),換算表!$B$3:$B$273,0))))*260+0.21)","v":{"$error":"#N/A"}},{"$f":"IF(OR(BE40=\"\",BE79=\"\"),NA(),(1443/(1443-BE79*10)-(INDEX(換算表!$D$3:$D$273,MATCH(ROUNDDOWN(BE40,1),換算表!$B$3:$B$273,0))*BE40+INDEX(換算表!$E$3:$E$273,MATCH(ROUNDDOWN(BE40,1),換算表!$B$3:$B$273,0))))*260+0.21)","v":{"$error":"#N/A"}},{"$f":"IF(OR(BF40=\"\",BF79=\"\"),NA(),(1443/(1443-BF79*10)-(INDEX(換算表!$D$3:$D$273,MATCH(ROUNDDOWN(BF40,1),換算表!$B$3:$B$273,0))*BF40+INDEX(換算表!$E$3:$E$273,MATCH(ROUNDDOWN(BF40,1),換算表!$B$3:$B$273,0))))*260+0.21)","v":{"$error":"#N/A"}},{"$f":"IF(OR(BG40=\"\",BG79=\"\"),NA(),(1443/(1443-BG79*10)-(INDEX(換算表!$D$3:$D$273,MATCH(ROUNDDOWN(BG40,1),換算表!$B$3:$B$273,0))*BG40+INDEX(換算表!$E$3:$E$273,MATCH(ROUNDDOWN(BG40,1),換算表!$B$3:$B$273,0))))*260+0.21)","v":{"$error":"#N/A"}},{"$f":"IF(OR(BH40=\"\",BH79=\"\"),NA(),(1443/(1443-BH79*10)-(INDEX(換算表!$D$3:$D$273,MATCH(ROUNDDOWN(BH40,1),換算表!$B$3:$B$273,0))*BH40+INDEX(換算表!$E$3:$E$273,MATCH(ROUNDDOWN(BH40,1),換算表!$B$3:$B$273,0))))*260+0.21)","v":{"$error":"#N/A"}},{"$f":"IF(OR(BI40=\"\",BI79=\"\"),NA(),(1443/(1443-BI79*10)-(INDEX(換算表!$D$3:$D$273,MATCH(ROUNDDOWN(BI40,1),換算表!$B$3:$B$273,0))*BI40+INDEX(換算表!$E$3:$E$273,MATCH(ROUNDDOWN(BI40,1),換算表!$B$3:$B$273,0))))*260+0.21)","v":{"$error":"#N/A"}},null,null,null,null,null,null,null,null,null,null,null,null,null,null,null,null,null,null,null,null,"製成歩合","白米歩合(%)",null,null,null,null,{"$f":"IF(OR(CM9=\"\",SUM(BQ3:BT3)=0),\"-\",(CM9-SUM(BQ6:BT6))/SUM(BQ3:BT3)*100)","v":100},null,null,null,null,"粕歩合(%)",null,null,null,null,{"$f":"IFERROR(CZ30/BY3,\"-\")","v":0.33600000000000002}]
[null,"原ｴｷｽ",null,null,{"$f":"IF(E40=\"\",NA(),E56+1.5848*E40)","v":{"$error":"#N/A"}},{"$error":"#N/A"},30.996923795403951,{"$error":"#N/A"},{"$error":"#N/A"},{"$error":"#N/A"},{"$error":"#N/A"},{"$error":"#N/A"},{"$f":"IF(M40=\"\",NA(),M56+1.5848*M40)","v":{"$error":"#N/A"}},15.631706464208207,17.591420941346854,18.762685217391319,{"$f":"IF(Q40=\"\",NA(),Q56+1.5848*Q40)","v":21.095715010877441},{"$f":"IF(R40=\"\",NA(),R56+1.5848*R40)","v":24.552500941346825},25.092471360691135,25.255578712446336,26.402108520920933,26.82956694590376,27.127849851380063,27.431282110907347,27.938926788203041,28.130778950621725,28.567359214806579,28.88964578707925,29.194973307246308,29.328603563250553,29.03635916317997,29.693171703239415,29.82825763919832,30.184538176507534,30.374763700048788,30.362666666666847,30.294088297488678,30.13166733966596,29.933427900789933,{"$error":"#N/A"},{"$error":"#N/A"},{"$error":"#N/A"},{"$error":"#N/A"},{"$error":"#N/A"},{"$error":"#N/A"},{"$error":"#N/A"},{"$error":"#N/A"},{"$error":"#N/A"},{"$error":"#N/A"},{"$error":"#N/A"},{"$error":"#N/A"},{"$error":"#N/A"},{"$error":"#N/A"},{"$error":"#N/A"},{"$error":"#N/A"},{"$error":"#N/A"},{"$error":"#N/A"},{"$error":"#N/A"},{"$error":"#N/A"},{"$error":"#N/A"},{"$error":"#N/A"},null,null,null,"調味液","記号",null,null,null,null,"深",null,null,null,null,"使用月日",null,null,null,null,null,null,"もろみ歩合(%)",null,null,null,null,{"$f":"IFERROR(CZ20/BY3,\"-\")","v":2.665},null,null,null,null,"純ｱﾙｺｰﾙ収得量(L/t)",null,null,null,null,{"$f":"IFERROR((CZ29-CT59)/BY3,\"-\")","v":0.37020599999999998}]
[null,"累積汲水歩合",null,null,null,{"$f":"SUM($BQ$6:BR$6)/SUM($BQ$3:BR$3)*100","v":122.22222222222223},null,null,null,{"$f":"SUM($BQ$6:BS$6)/SUM($BQ$3:BS$3)*100","v":129.82456140350877},null,{"$f":"SUM($BQ$6:BT$6)/SUM($BQ$3:BT$3)*100","v":150},{"$f":"IF(M34=\"\",NA(),(SUM($BQ$6:$BT$6)+SUM($K$47:L$47))/SUM($BQ$3:$BT$3)*100)","v":150},{"$f":"IF(N34=\"\",NA(),(SUM($BQ$6:$BT$6)+SUM($K$47:M$47))/SUM($BQ$3:$BT$3)*100)","v":150},{"$f":"IF(O34=\"\",NA(),(SUM($BQ$6:$BT$6)+SUM($K$47:N$47))/SUM($BQ$3:$BT$3)*100)","v":150},{"$f":"IF(P34=\"\",NA(),(SUM($BQ$6:$BT$6)+SUM($K$47:O$47))/SUM($BQ$3:$BT$3)*100)","v":150},{"$f":"IF(Q34=\"\",NA(),(SUM($BQ$6:$BT$6)+SUM($K$47:P$47))/SUM($BQ$3:$BT$3)*100)","v":150},{"$f":"IF(R34=\"\",NA(),(SUM($BQ$6:$BT$6)+SUM($K$47:Q$47))/SUM($BQ$3:$BT$3)*100)","v":154},{"$f":"IF(S34=\"\",NA(),(SUM($BQ$6:$BT$6)+SUM($K$47:R$47))/SUM($BQ$3:$BT$3)*100)","v":154},{"$f":"IF(T34=\"\",NA(),(SUM($BQ$6:$BT$6)+SUM($K$47:S$47))/SUM($BQ$3:$BT$3)*100)","v":158},{"$f":"IF(U34=\"\",NA(),(SUM($BQ$6:$BT$6)+SUM($K$47:T$47))/SUM($BQ$3:$BT$3)*100)","v":158},{"$f":"IF(V34=\"\",NA(),(SUM($BQ$6:$BT$6)+SUM($K$47:U$47))/SUM($BQ$3:$BT$3)*100)","v":160},{"$f":"IF(W34=\"\",NA(),(SUM($BQ$6:$BT$6)+SUM($K$47:V$47))/SUM($BQ$3:$BT$3)*100)","v":162},{"$f":"IF(X34=\"\",NA(),(SUM($BQ$6:$BT$6)+SUM($K$47:W$47))/SUM($BQ$3:$BT$3)*100)","v":162},{"$f":"IF(Y34=\"\",NA(),(SUM($BQ$6:$BT$6)+SUM($K$47:X$47))/SUM($BQ$3:$BT$3)*100)","v":162},{"$f":"IF(Z34=\"\",NA(),(SUM($BQ$6:$BT$6)+SUM($K$47:Y$47))/SUM($BQ$3:$BT$3)*100)","v":162},{"$f":"IF(AA34=\"\",NA(),(SUM($BQ$6:$BT$6)+SUM($K$47:Z$47))/SUM($BQ$3:$BT$3)*100)","v":162},{"$f":"IF(AB34=\"\",NA(),(SUM($BQ$6:$BT$6)+SUM($K$47:AA$47))/SUM($BQ$3:$BT$3)*100)","v":162},{"$f":"IF(AC34=\"\",NA(),(SUM($BQ$6:$BT$6)+SUM($K$47:AB$47))/SUM($BQ$3:$BT$3)*100)","v":162},{"$f":"IF(AD34=\"\",NA(),(SUM($BQ$6:$BT$6)+SUM($K$47:AC$47))/SUM($BQ$3:$BT$3)*100)","v":162},{"$f":"IF(AE34=\"\",NA(),(SUM($BQ$6:$BT$6)+SUM($K$47:AD$47))/SUM($BQ$3:$BT$3)*100)","v":162},{"$f":"IF(AF34=\"\",NA(),(SUM($BQ$6:$BT$6)+SUM($K$47:AE$47))/SUM($BQ$3:$BT$3)*100)","v":162},{"$f":"IF(AG34=\"\",NA(),(SUM($BQ$6:$BT$6)+SUM($K$47:AF$47))/SUM($BQ$3:$BT$3)*100)","v":162},{"$f":"IF(AH34=\"\",NA(),(SUM($BQ$6:$BT$6)+SUM($K$47:AG$47))/SUM($BQ$3:$BT$3)*100)","v":162},{"$f":"IF(AI34=\"\",NA(),(SUM($BQ$6:$BT$6)+SUM($K$47:AH$47))/SUM($BQ$3:$BT$3)*100)","v":162},{"$f":"IF(AJ34=\"\",NA(),(SUM($BQ$6:$BT$6)+SUM($K$47:AI$47))/SUM($BQ$3:$BT$3)*100)","v":164},{"$f":"IF(AK34=\"\",NA(),(SUM($BQ$6:$BT$6)+SUM($K$47:AJ$47))/SUM($BQ$3:$BT$3)*100)","v":166},{"$f":"IF(AL34=\"\",NA(),(SUM($BQ$6:$BT$6)+SUM($K$47:AK$47))/SUM($BQ$3:$BT$3)*100)","v":168},{"$f":"IF(AM34=\"\",NA(),(SUM($BQ$6:$BT$6)+SUM($K$47:AL$47))/SUM($BQ$3:$BT$3)*100)","v":170},{"$f":"IF(AN34=\"\",NA(),(SUM($BQ$6:$BT$6)+SUM($K$47:AM$47))/SUM($BQ$3:$BT$3)*100)","v":{"$error":"#N/A"}},{"$f":"IF(AO34=\"\",NA(),(SUM($BQ$6:$BT$6)+SUM($K$47:AN$47))/SUM($BQ$3:$BT$3)*100)","v":{"$error":"#N/A"}},{"$f":"IF(AP34=\"\",NA(),(SUM($BQ$6:$BT$6)+SUM($K$47:AO$47))/SUM($BQ$3:$BT$3)*100)","v":{"$error":"#N/A"}},{"$f":"IF(AQ34=\"\",NA(),(SUM($BQ$6:$BT$6)+SUM($K$47:AP$47))/SUM($BQ$3:$BT$3)*100)","v":{"$error":"#N/A"}},{"$f":"IF(AR34=\"\",NA(),(SUM($BQ$6:$BT$6)+SUM($K$47:AQ$47))/SUM($BQ$3:$BT$3)*100)","v":{"$error":"#N/A"}},{"$f":"IF(AS34=\"\",NA(),(SUM($BQ$6:$BT$6)+SUM($K$47:AR$47))/SUM($BQ$3:$BT$3)*100)","v":{"$error":"#N/A"}},{"$f":"IF(AT34=\"\",NA(),(SUM($BQ$6:$BT$6)+SUM($K$47:AS$47))/SUM($BQ$3:$BT$3)*100)","v":{"$error":"#N/A"}},{"$f":"IF(AU34=\"\",NA(),(SUM($BQ$6:$BT$6)+SUM($K$47:AT$47))/SUM($BQ$3:$BT$3)*100)","v":{"$error":"#N/A"}},{"$f":"IF(AV34=\"\",NA(),(SUM($BQ$6:$BT$6)+SUM($K$47:AU$47))/SUM($BQ$3:$BT$3)*100)","v":{"$error":"#N/A"}},{"$f":"IF(AW34=\"\",NA(),(SUM($BQ$6:$BT$6)+SUM($K$47:AV$47))/SUM($BQ$3:$BT$3)*100)","v":{"$error":"#N/A"}},{"$f":"IF(AX34=\"\",NA(),(SUM($BQ$6:$BT$6)+SUM($K$47:AW$47))/SUM($BQ$3:$BT$3)*100)","v":{"$error":"#N/A"}},{"$f":"IF(AY34=\"\",NA(),(SUM($BQ$6:$BT$6)+SUM($K$47:AX$47))/SUM($BQ$3:$BT$3)*100)","v":{"$error":"#N/A"}},{"$f":"IF(AZ34=\"\",NA(),(SUM($BQ$6:$BT$6)+SUM($K$47:AY$47))/SUM($BQ$3:$BT$3)*100)","v":{"$error":"#N/A"}},{"$f":"IF(BA34=\"\",NA(),(SUM($BQ$6:$BT$6)+SUM($K$47:AZ$47))/SUM($BQ$3:$BT$3)*100)","v":{"$error":"#N/A"}},{"$f":"IF(BB34=\"\",NA(),(SUM($BQ$6:$BT$6)+SUM($K$47:BA$47))/SUM($BQ$3:$BT$3)*100)","v":{"$error":"#N/A"}},{"$f":"IF(BC34=\"\",NA(),(SUM($BQ$6:$BT$6)+SUM($K$47:BB$47))/SUM($BQ$3:$BT$3)*100)","v":{"$error":"#N/A"}},{"$f":"IF(BD34=\"\",NA(),(SUM($BQ$6:$BT$6)+SUM($K$47:BC$47))/SUM($BQ$3:$BT$3)*100)","v":{"$error":"#N/A"}},{"$f":"IF(BE34=\"\",NA(),(SUM($BQ$6:$BT$6)+SUM($K$47:BD$47))/SUM($BQ$3:$BT$3)*100)","v":{"$error":"#N/A"}},{"$f":"IF(BF34=\"\",NA(),(SUM($BQ$6:$BT$6)+SUM($K$47:BE$47))/SUM($BQ$3:$BT$3)*100)","v":{"$error":"#N/A"}},{"$f":"IF(BG34=\"\",NA(),(SUM($BQ$6:$BT$6)+SUM($K$47:BF$47))/SUM($BQ$3:$BT$3)*100)","v":{"$error":"#N/A"}},{"$f":"IF(BH34=\"\",NA(),(SUM($BQ$6:$BT$6)+SUM($K$47:BG$47))/SUM($BQ$3:$BT$3)*100)","v":{"$error":"#N/A"}},{"$f":"IF(BI34=\"\",NA(),(SUM($BQ$6:$BT$6)+SUM($K$47:BH$47))/SUM($BQ$3:$BT$3)*100)","v":{"$error":"#N/A"}},null,null,null,null,"順号",null,null,null,null,"数量(L)",null,null,null,null,"使用先もろみ記号",null,null,null,null,null,null,"もろみ熟成歩合(%)",null,null,null,null,{"$f":"IFERROR((CZ20-BY6-CT58)/BY3,\"-\")","v":0.94499999999999995},null,null,null,null,"ｱﾙｺｰﾙ添加数量(L)",null,null,null,null,{"$f":"IF(CN2=\"アル添\",CN4,0)+IF(CP2=\"アル添\",CP4,0)+IF(CR2=\"アル添\",CR4,0)+IF(CT2=\"アル添\",CT4,0)+IF(CV2=\"アル添\",CV4,0)+IF(CX2=\"アル添\",CX4,0)+IF(CZ2=\"アル添\",CZ4,0)","v":0}]
[null,"溶解度",null,null,null,null,null,null,null,null,null,null,{"$f":"M57*M58/100","v":{"$error":"#N/A"}},{"$f":"N57*N58/100","v":23.447559696312311},{"$f":"O57*O58/100","v":26.387131412020281},28.144027826086976,31.643572516316162,{"$f":"R57*R58/100","v":37.810851449674111},38.64240589546435,39.903814365665212,41.715331463055072,42.927307113446012,43.947116759235705,44.438677019669903,45.261061396888927,45.5718619000072,46.279121927986665,46.801226175068386,47.295856757739017,47.512337772465898,47.03890184435155,48.102938159247849,48.321777375501277,48.8989518459422,49.207117194079039,49.79477333333363,50.288186573831211,50.621201130638809,50.886827431342887,{"$error":"#N/A"},{"$error":"#N/A"},{"$error":"#N/A"},{"$error":"#N/A"},{"$error":"#N/A"},{"$error":"#N/A"},{"$error":"#N/A"},{"$error":"#N/A"},{"$error":"#N/A"},{"$error":"#N/A"},{"$f":"AX57*AX58/100","v":{"$error":"#N/A"}},{"$error":"#N/A"},{"$error":"#N/A"},{"$error":"#N/A"},{"$error":"#N/A"},{"$error":"#N/A"},{"$error":"#N/A"},{"$error":"#N/A"},{"$error":"#N/A"},{"$error":"#N/A"},{"$error":"#N/A"},{"$error":"#N/A"},null,null,null,null,"容器番号",null,null,null,null,"ｱﾙｺｰﾙ分(%)",null,null,null,null,"使用先もろみ順号",null,null,null,null,null,null,"もろみたれ歩合(%)",null,null,null,null,{"$f":"IFERROR(CZ25/CZ20,\"-\")","v":0.88480300187617256},null,null,null,null,"100%換算ｱﾙｺｰﾙ使用数量(L)",null,null,null,null,{"$f":"IFERROR((IF(CN2=\"アル添\",CN4*CN3,0)+IF(CP2=\"アル添\",CP4*CP3,0)+IF(CR2=\"アル添\",CR4*CR3,0)+IF(CT2=\"アル添\",CT4*CT3,0)+IF(CV2=\"アル添\",CV4*CV3,0)+IF(CX2=\"アル添\",CX4*CX3,0)+IF(CZ2=\"アル添\",CZ4*CZ3,0))/100,\"-\")","v":0}]
[null,"発酵度",null,null,null,null,null,null,null,null,null,null,{"$f":"IF(M40=\"\",NA(),M40*M58/100)","v":{"$error":"#N/A"}},{"$f":"IF(N40=\"\",NA(),N40*N58/100)","v":3.15},{"$f":"IF(O40=\"\",NA(),O40*O58/100)","v":4.3499999999999996},5.0999999999999996,6.75,10.01,11.703999999999999,13.587999999999999,15.325999999999999,16.8,17.981999999999999,18.953999999999997,19.926000000000002,20.574000000000002,21.384,22.031999999999996,22.68,23.004000000000001,23.004000000000001,23.814,24.138000000000002,24.624000000000002,24.948,25.42,25.896000000000001,26.207999999999998,26.52,{"$error":"#N/A"},{"$error":"#N/A"},{"$error":"#N/A"},{"$error":"#N/A"},{"$error":"#N/A"},{"$error":"#N/A"},{"$error":"#N/A"},{"$error":"#N/A"},{"$error":"#N/A"},{"$error":"#N/A"},{"$error":"#N/A"},{"$error":"#N/A"},{"$error":"#N/A"},{"$error":"#N/A"},{"$error":"#N/A"},{"$error":"#N/A"},{"$error":"#N/A"},{"$error":"#N/A"},{"$error":"#N/A"},{"$error":"#N/A"},{"$error":"#N/A"},{"$error":"#N/A"},null,null,null,null,"製造年月日",null,null,null,null,"日本酒度",null,null,null,null,"使用数量(L)",null,null,null,null,null,null,"純ｱﾙｺｰﾙたれ歩合(%)",null,null,null,null,{"$f":"IFERROR(CZ29/CZ20,\"-\")","v":0.13891407129455907},null,null,null,null,"同上白米1000kg当り使用数(L)",null,null,null,null,{"$f":"IFERROR(CT59/BY3*1000,\"-\")","v":0}]
[null,"発酵/溶解比",null,null,null,null,null,null,null,null,null,null,{"$f":"IFERROR((M40*M58/100*1.5848)/M59*100,NA())","v":{"$error":"#N/A"}},{"$f":"IFERROR((N40*N58/100*1.5848)/N59*100,NA())","v":21.290573793848278},26.125916805263611,28.718277461722337,33.805917440213719,41.955807372163072,48.000373605560434,53.965423462196412,58.224743632952034,62.022618678683507,64.845832221771474,67.594944797083258,69.770181753118592,71.547823241329638,73.228189706654462,74.605553002797947,75.996644239071969,76.731099561106461,77.503380756278744,78.457634074363412,79.164932412842901,79.805627169569604,80.349332890319076,80.903302301071022,81.609585861177663,82.04949205533768,82.592879378668044,{"$error":"#N/A"},{"$error":"#N/A"},{"$error":"#N/A"},{"$error":"#N/A"},{"$error":"#N/A"},{"$error":"#N/A"},{"$error":"#N/A"},{"$error":"#N/A"},{"$error":"#N/A"},{"$error":"#N/A"},{"$error":"#N/A"},{"$error":"#N/A"},{"$error":"#N/A"},{"$error":"#N/A"},{"$error":"#N/A"},{"$error":"#N/A"},{"$error":"#N/A"},{"$error":"#N/A"},{"$error":"#N/A"},{"$error":"#N/A"},{"$error":"#N/A"},{"$error":"#N/A"},null,null,null,null,"原料",null,null,null,null,null,null,null,null,null,null,null,null,null,null,null,null,"清酒歩合(%)",null,null,null,null,{"$f":"IFERROR(CZ25/BY3,\"-\")","v":2.3580000000000001},null,null,null,null,"白米利用率(%)",null,null,null,null,{"$f":"IFERROR(SUMPRODUCT(CH25:CY25,CH35:CY35)/(81*180/162*BY3+1.5848*CT59),\"-\")","v":0.78956103015423451}]
[null,"原料利用率",null,null,null,null,null,null,null,null,null,null,{"$f":"M57*(M58*$BY$3/100+$I$9)/(100-0.612*M57)/$BY$3*100","v":{"$error":"#N/A"}},{"$f":"N57*(N58*$BY$3/100+$I$9)/(100-0.612*N57)/$BY$3*100","v":32.638738613733778},37.22426471381808,40.024227484731135,45.738788057166204,55.714736096063312,57.162344753346751,58.796759357538505,61.980372250182647,63.822998957164756,65.324384135310666,66.202466900076857,67.680302621676944,68.241703459559517,69.525185949791918,70.47800702986676,71.384911146540475,71.783128168834693,70.913270427949215,72.873586172146247,73.279152532726926,74.352753405358484,74.928326010008448,75.637520644071998,76.17157864967777,76.409738057602326,76.527220802592652,{"$error":"#N/A"},{"$error":"#N/A"},{"$error":"#N/A"},{"$error":"#N/A"},{"$error":"#N/A"},{"$error":"#N/A"},{"$error":"#N/A"},{"$error":"#N/A"},{"$error":"#N/A"},{"$error":"#N/A"},{"$error":"#N/A"},{"$error":"#N/A"},{"$error":"#N/A"},{"$error":"#N/A"},{"$error":"#N/A"},{"$error":"#N/A"},{"$error":"#N/A"},{"$error":"#N/A"},{"$error":"#N/A"},{"$error":"#N/A"},{"$error":"#N/A"},{"$error":"#N/A"},null,null,null,null,null,null,null,null,null,null,null,null,null,null,null,null,null,null,null,null,null,"肉たれ歩合(%)",null,null,null,null,{"$f":"IFERROR((CZ25-BY6-CT58)/BY3,\"-\")","v":0.63800000000000001},null,null,null,null,"対玄米利用率(%)",null,null,null,null,{"$f":"IFERROR(CT61*(SUMPRODUCT(BQ17:BY17,BQ19:BY19)/(BY3*100)),\"-\")","v":0.51321466960025242}]
[null,"溶解固形分(kg)",null,null,null,null,null,null,null,null,null,null,{"$f":"M62*$BY$3/100","v":{"$error":"#N/A"}},{"$f":"N62*$BY$3/100","v":326.38738613733778},{"$f":"O62*$BY$3/100","v":372.24264713818076},400.24227484731136,457.38788057166204,557.14736096063314,571.62344753346747,587.96759357538508,619.80372250182654,638.22998957164748,653.24384135310675,662.02466900076865,676.80302621676947,682.41703459559517,695.25185949791921,704.78007029866751,713.84911146540469,717.83128168834696,709.13270427949215,728.73586172146247,732.79152532726914,743.52753405358487,749.28326010008448,756.37520644071992,761.7157864967777,764.09738057602328,765.27220802592649,{"$error":"#N/A"},{"$error":"#N/A"},{"$error":"#N/A"},{"$error":"#N/A"},{"$error":"#N/A"},{"$error":"#N/A"},{"$error":"#N/A"},{"$error":"#N/A"},{"$error":"#N/A"},{"$error":"#N/A"},{"$error":"#N/A"},{"$error":"#N/A"},{"$error":"#N/A"},{"$error":"#N/A"},{"$error":"#N/A"},{"$error":"#N/A"},{"$error":"#N/A"},{"$error":"#N/A"},{"$error":"#N/A"},{"$error":"#N/A"},{"$error":"#N/A"},{"$error":"#N/A"},null,null,null,null,null,null,null,null,null,null,null,null,null,null,null,null,null,null,null,null,null,"汲水歩合(%)",null,null,null,null,{"$f":"I8","v":172}]
[null,"残存固形分(kg)",null,null,null,null,null,null,null,null,null,null,{"$f":"$CB$20-$BY$3*M62/100","v":{"$error":"#N/A"}},{"$f":"$CB$20-$BY$3*N62/100","v":566.22261386266212},520.3673528618192,492.36772515268854,435.22211942833786,335.46263903936676,320.98655246653243,304.64240642461482,272.80627749817336,254.38001042835242,239.36615864689315,230.58533099923125,215.80697378323043,210.19296540440473,197.35814050208069,187.82992970133239,178.76088853459521,174.77871831165294,183.47729572050775,163.87413827853743,159.81847467273076,149.08246594641503,143.32673989991542,136.23479355927998,130.8942135032222,128.51261942397662,127.33779197407341,{"$error":"#N/A"},{"$error":"#N/A"},{"$error":"#N/A"},{"$error":"#N/A"},{"$error":"#N/A"},{"$error":"#N/A"},{"$error":"#N/A"},{"$error":"#N/A"},{"$error":"#N/A"},{"$error":"#N/A"},{"$error":"#N/A"},{"$error":"#N/A"},{"$error":"#N/A"},{"$error":"#N/A"},{"$error":"#N/A"},{"$error":"#N/A"},{"$error":"#N/A"},{"$error":"#N/A"},{"$error":"#N/A"},{"$error":"#N/A"},{"$error":"#N/A"},{"$error":"#N/A"},null,null,null,null,null,null,null,null,null,null,null,null,null,null,null,null,null,null,null,null,null,"総水歩合(%)",null,null,null,null,{"$f":"IFERROR((BY6+CT58)/BY3,\"-\")","v":1.72}]
[null,"推定粕歩合",null,null,null,null,null,null,null,null,null,null,{"$f":"IFERROR(M64/(100-50)*100/$BY$3*100,NA())","v":{"$error":"#N/A"}},{"$f":"IFERROR(N64/(100-50)*100/$BY$3*100,NA())","v":113.24452277253243},{"$f":"IFERROR(O64/(100-50)*100/$BY$3*100,NA())","v":104.07347057236385},98.473545030537707,87.044423885667584,67.092527807873353,64.197310493306475,60.928481284922967,54.561255499634676,50.876002085670478,47.873231729378631,46.117066199846256,43.161394756646089,42.03859308088095,39.47162810041614,37.565985940266479,35.752177706919042,34.955743662330583,36.695459144101548,32.774827655707483,31.963694934546151,29.816493189283005,28.665347979983085,27.246958711855996,26.178842700644438,25.702523884795326,25.467558394814688,{"$error":"#N/A"},{"$error":"#N/A"},{"$error":"#N/A"},{"$error":"#N/A"},{"$error":"#N/A"},{"$error":"#N/A"},{"$error":"#N/A"},{"$error":"#N/A"},{"$error":"#N/A"},{"$error":"#N/A"},{"$error":"#N/A"},{"$error":"#N/A"},{"$error":"#N/A"},{"$error":"#N/A"},{"$error":"#N/A"},{"$error":"#N/A"},{"$error":"#N/A"},{"$error":"#N/A"},{"$error":"#N/A"},{"$error":"#N/A"},{"$error":"#N/A"},{"$error":"#N/A"}]
[null,"目標","ﾎﾞｰﾒ",null,null,null,9.4,null,null,null,null,null,null,6.69,7.22,7.3,7.02,6.3,5.6,4.74,4.01,3.44]
[null,null,"日本酒度",null,null,null,null,null,null,null,null,null,null,null,null,null,null,null,null,null,null,null,-29.5,-25.6,-22.3,-19.3,-16.599999999999998,-14.299999999999999,-11.899999999999999,-10.600000000000001,-9,-7.5,-6.2,-5.0999999999999996,-4.0999999999999996,-3,-1.6,-0.70000000000000007,0.4]
[null,null,"ｱﾙｺｰﾙ",null,null,null,6.5,null,null,null,null,null,null,2.9,3.5,4.4000000000000004,5.4,6.5,7.6,8.6,9.6999999999999993,10.5,11.1,11.7,12.3,12.7,13.2,13.6,14,14.2,14.2,14.7,14.9,15.2,15.4,15.5,15.6,15.6,15.6]
[null,null,"BMD",null,null,null,null,null,null,null,null,null,{"$f":"IF(M80=\"\",NA(),M32*M80)","v":{"$error":"#N/A"}},{"$f":"IF(N80=\"\",NA(),N32*N80)","v":20.07},{"$f":"IF(O80=\"\",NA(),O32*O80)","v":28.88},36.5,42.12,44.1,44.8,42.660000000000004,40.099999999999994,37.839999999999996,35.400000000000006,33.28,31.22,28.950000000000003,26.559999999999995,24.31,21.419999999999998,20.14,18,15.75,13.64,11.73,9.84,7.5,4.16,1.8900000000000001,-1.1200000000000001,{"$error":"#N/A"},{"$error":"#N/A"},{"$error":"#N/A"},{"$error":"#N/A"},{"$error":"#N/A"},{"$error":"#N/A"},{"$error":"#N/A"},{"$error":"#N/A"},{"$error":"#N/A"},{"$error":"#N/A"},{"$error":"#N/A"},{"$error":"#N/A"},{"$error":"#N/A"},{"$error":"#N/A"},{"$error":"#N/A"},{"$error":"#N/A"},{"$error":"#N/A"},{"$error":"#N/A"},{"$error":"#N/A"},{"$error":"#N/A"},{"$error":"#N/A"},{"$error":"#N/A"}]
[null,null,"ｴｷｽ",null,null,null,null,null,null,null,null,null,{"$f":"IF(OR(M68=\"\",M80=\"\"),NA(),(1443/(1443-M80*10)-(INDEX(換算表!$D$3:$D$273,MATCH(ROUNDDOWN(M68,1),換算表!$B$3:$B$273,0))*M68+INDEX(換算表!$E$3:$E$273,MATCH(ROUNDDOWN(M68,1),換算表!$B$3:$B$273,0))))*260+0.21)","v":{"$error":"#N/A"}},{"$f":"IF(OR(N68=\"\",N80=\"\"),NA(),(1443/(1443-N80*10)-(INDEX(換算表!$D$3:$D$273,MATCH(ROUNDDOWN(N68,1),換算表!$B$3:$B$273,0))*N68+INDEX(換算表!$E$3:$E$273,MATCH(ROUNDDOWN(N68,1),換算表!$B$3:$B$273,0))))*260+0.21)","v":13.962869762371914},{"$f":"IF(OR(O68=\"\",O80=\"\"),NA(),(1443/(1443-O80*10)-(INDEX(換算表!$D$3:$D$273,MATCH(ROUNDDOWN(O68,1),換算表!$B$3:$B$273,0))*O68+INDEX(換算表!$E$3:$E$273,MATCH(ROUNDDOWN(O68,1),換算表!$B$3:$B$273,0))))*260+0.21)","v":15.232793171870426},{"$f":"IF(OR(P68=\"\",P80=\"\"),NA(),(1443/(1443-P80*10)-(INDEX(換算表!$D$3:$D$273,MATCH(ROUNDDOWN(P68,1),換算表!$B$3:$B$273,0))*P68+INDEX(換算表!$E$3:$E$273,MATCH(ROUNDDOWN(P68,1),換算表!$B$3:$B$273,0))))*260+0.21)","v":15.71761459854017},{"$f":"IF(OR(Q68=\"\",Q80=\"\"),NA(),(1443/(1443-Q80*10)-(INDEX(換算表!$D$3:$D$273,MATCH(ROUNDDOWN(Q68,1),換算表!$B$3:$B$273,0))*Q68+INDEX(換算表!$E$3:$E$273,MATCH(ROUNDDOWN(Q68,1),換算表!$B$3:$B$273,0))))*260+0.21)","v":15.504854545454542},{"$f":"IF(OR(R68=\"\",R80=\"\"),NA(),(1443/(1443-R80*10)-(INDEX(換算表!$D$3:$D$273,MATCH(ROUNDDOWN(R68,1),換算表!$B$3:$B$273,0))*R68+INDEX(換算表!$E$3:$E$273,MATCH(ROUNDDOWN(R68,1),換算表!$B$3:$B$273,0))))*260+0.21)","v":14.448165217391281},{"$f":"IF(OR(S68=\"\",S80=\"\"),NA(),(1443/(1443-S80*10)-(INDEX(換算表!$D$3:$D$273,MATCH(ROUNDDOWN(S68,1),換算表!$B$3:$B$273,0))*S68+INDEX(換算表!$E$3:$E$273,MATCH(ROUNDDOWN(S68,1),換算表!$B$3:$B$273,0))))*260+0.21)","v":13.437476568132649},{"$f":"IF(OR(T68=\"\",T80=\"\"),NA(),(1443/(1443-T80*10)-(INDEX(換算表!$D$3:$D$273,MATCH(ROUNDDOWN(T68,1),換算表!$B$3:$B$273,0))*T68+INDEX(換算表!$E$3:$E$273,MATCH(ROUNDDOWN(T68,1),換算表!$B$3:$B$273,0))))*260+0.21)","v":12.087810490111739},{"$f":"IF(OR(U68=\"\",U80=\"\"),NA(),(1443/(1443-U80*10)-(INDEX(換算表!$D$3:$D$273,MATCH(ROUNDDOWN(U68,1),換算表!$B$3:$B$273,0))*U68+INDEX(換算表!$E$3:$E$273,MATCH(ROUNDDOWN(U68,1),換算表!$B$3:$B$273,0))))*260+0.21)","v":11.029548520920937},{"$f":"IF(OR(V68=\"\",V80=\"\"),NA(),(1443/(1443-V80*10)-(INDEX(換算表!$D$3:$D$273,MATCH(ROUNDDOWN(V68,1),換算表!$B$3:$B$273,0))*V68+INDEX(換算表!$E$3:$E$273,MATCH(ROUNDDOWN(V68,1),換算表!$B$3:$B$273,0))))*260+0.21)","v":10.189166945903761},{"$f":"IF(OR(W68=\"\",W80=\"\"),NA(),(1443/(1443-W80*10)-(INDEX(換算表!$D$3:$D$273,MATCH(ROUNDDOWN(W68,1),換算表!$B$3:$B$273,0))*W68+INDEX(換算表!$E$3:$E$273,MATCH(ROUNDDOWN(W68,1),換算表!$B$3:$B$273,0))))*260+0.21)","v":9.4426469048461392},{"$f":"IF(OR(X68=\"\",X80=\"\"),NA(),(1443/(1443-X80*10)-(INDEX(換算表!$D$3:$D$273,MATCH(ROUNDDOWN(X68,1),換算表!$B$3:$B$273,0))*X68+INDEX(換算表!$E$3:$E$273,MATCH(ROUNDDOWN(X68,1),換算表!$B$3:$B$273,0))))*260+0.21)","v":8.8891221109073477},{"$f":"IF(OR(Y68=\"\",Y80=\"\"),NA(),(1443/(1443-Y80*10)-(INDEX(換算表!$D$3:$D$273,MATCH(ROUNDDOWN(Y68,1),換算表!$B$3:$B$273,0))*Y68+INDEX(換算表!$E$3:$E$273,MATCH(ROUNDDOWN(Y68,1),換算表!$B$3:$B$273,0))))*260+0.21)","v":8.4458867882030386},{"$f":"IF(OR(Z68=\"\",Z80=\"\"),NA(),(1443/(1443-Z80*10)-(INDEX(換算表!$D$3:$D$273,MATCH(ROUNDDOWN(Z68,1),換算表!$B$3:$B$273,0))*Z68+INDEX(換算表!$E$3:$E$273,MATCH(ROUNDDOWN(Z68,1),換算表!$B$3:$B$273,0))))*260+0.21)","v":8.0038189506217225},{"$f":"IF(OR(AA68=\"\",AA80=\"\"),NA(),(1443/(1443-AA80*10)-(INDEX(換算表!$D$3:$D$273,MATCH(ROUNDDOWN(AA68,1),換算表!$B$3:$B$273,0))*AA68+INDEX(換算表!$E$3:$E$273,MATCH(ROUNDDOWN(AA68,1),換算表!$B$3:$B$273,0))))*260+0.21)","v":7.647999214806581},{"$f":"IF(OR(AB68=\"\",AB80=\"\"),NA(),(1443/(1443-AB80*10)-(INDEX(換算表!$D$3:$D$273,MATCH(ROUNDDOWN(AB68,1),換算表!$B$3:$B$273,0))*AB68+INDEX(換算表!$E$3:$E$273,MATCH(ROUNDDOWN(AB68,1),換算表!$B$3:$B$273,0))))*260+0.21)","v":7.3363657870792496},{"$f":"IF(OR(AC68=\"\",AC80=\"\"),NA(),(1443/(1443-AC80*10)-(INDEX(換算表!$D$3:$D$273,MATCH(ROUNDDOWN(AC68,1),換算表!$B$3:$B$273,0))*AC68+INDEX(換算表!$E$3:$E$273,MATCH(ROUNDDOWN(AC68,1),換算表!$B$3:$B$273,0))))*260+0.21)","v":7.0077733072463086},{"$f":"IF(OR(AD68=\"\",AD80=\"\"),NA(),(1443/(1443-AD80*10)-(INDEX(換算表!$D$3:$D$273,MATCH(ROUNDDOWN(AD68,1),換算表!$B$3:$B$273,0))*AD68+INDEX(換算表!$E$3:$E$273,MATCH(ROUNDDOWN(AD68,1),換算表!$B$3:$B$273,0))))*260+0.21)","v":6.824443563250556},{"$f":"IF(OR(AE68=\"\",AE80=\"\"),NA(),(1443/(1443-AE80*10)-(INDEX(換算表!$D$3:$D$273,MATCH(ROUNDDOWN(AE68,1),換算表!$B$3:$B$273,0))*AE68+INDEX(換算表!$E$3:$E$273,MATCH(ROUNDDOWN(AE68,1),換算表!$B$3:$B$273,0))))*260+0.21)","v":6.5321991631799712},{"$f":"IF(OR(AF68=\"\",AF80=\"\"),NA(),(1443/(1443-AF80*10)-(INDEX(換算表!$D$3:$D$273,MATCH(ROUNDDOWN(AF68,1),換算表!$B$3:$B$273,0))*AF68+INDEX(換算表!$E$3:$E$273,MATCH(ROUNDDOWN(AF68,1),換算表!$B$3:$B$273,0))))*260+0.21)","v":6.3966117032394152},{"$f":"IF(OR(AG68=\"\",AG80=\"\"),NA(),(1443/(1443-AG80*10)-(INDEX(換算表!$D$3:$D$273,MATCH(ROUNDDOWN(AG68,1),換算表!$B$3:$B$273,0))*AG68+INDEX(換算表!$E$3:$E$273,MATCH(ROUNDDOWN(AG68,1),換算表!$B$3:$B$273,0))))*260+0.21)","v":6.2147376391983187},{"$f":"IF(OR(AH68=\"\",AH80=\"\"),NA(),(1443/(1443-AH80*10)-(INDEX(換算表!$D$3:$D$273,MATCH(ROUNDDOWN(AH68,1),換算表!$B$3:$B$273,0))*AH68+INDEX(換算表!$E$3:$E$273,MATCH(ROUNDDOWN(AH68,1),換算表!$B$3:$B$273,0))))*260+0.21)","v":6.0955781765075328},{"$f":"IF(OR(AI68=\"\",AI80=\"\"),NA(),(1443/(1443-AI80*10)-(INDEX(換算表!$D$3:$D$273,MATCH(ROUNDDOWN(AI68,1),換算表!$B$3:$B$273,0))*AI68+INDEX(換算表!$E$3:$E$273,MATCH(ROUNDDOWN(AI68,1),換算表!$B$3:$B$273,0))))*260+0.21)","v":5.9688437000487857},{"$f":"IF(OR(AJ68=\"\",AJ80=\"\"),NA(),(1443/(1443-AJ80*10)-(INDEX(換算表!$D$3:$D$273,MATCH(ROUNDDOWN(AJ68,1),換算表!$B$3:$B$273,0))*AJ68+INDEX(換算表!$E$3:$E$273,MATCH(ROUNDDOWN(AJ68,1),換算表!$B$3:$B$273,0))))*260+0.21)","v":5.7982666666668479},{"$f":"IF(OR(AK68=\"\",AK80=\"\"),NA(),(1443/(1443-AK80*10)-(INDEX(換算表!$D$3:$D$273,MATCH(ROUNDDOWN(AK68,1),換算表!$B$3:$B$273,0))*AK68+INDEX(換算表!$E$3:$E$273,MATCH(ROUNDDOWN(AK68,1),換算表!$B$3:$B$273,0))))*260+0.21)","v":5.5712082974886776},{"$f":"IF(OR(AL68=\"\",AL80=\"\"),NA(),(1443/(1443-AL80*10)-(INDEX(換算表!$D$3:$D$273,MATCH(ROUNDDOWN(AL68,1),換算表!$B$3:$B$273,0))*AL68+INDEX(換算表!$E$3:$E$273,MATCH(ROUNDDOWN(AL68,1),換算表!$B$3:$B$273,0))))*260+0.21)","v":5.4087873396659578},{"$f":"IF(OR(AM68=\"\",AM80=\"\"),NA(),(1443/(1443-AM80*10)-(INDEX(換算表!$D$3:$D$273,MATCH(ROUNDDOWN(AM68,1),換算表!$B$3:$B$273,0))*AM68+INDEX(換算表!$E$3:$E$273,MATCH(ROUNDDOWN(AM68,1),換算表!$B$3:$B$273,0))))*260+0.21)","v":5.2105479007899334},{"$f":"IF(OR(AN68=\"\",AN80=\"\"),NA(),(1443/(1443-AN80*10)-(INDEX(換算表!$D$3:$D$273,MATCH(ROUNDDOWN(AN68,1),換算表!$B$3:$B$273,0))*AN68+INDEX(換算表!$E$3:$E$273,MATCH(ROUNDDOWN(AN68,1),換算表!$B$3:$B$273,0))))*260+0.21)","v":{"$error":"#N/A"}},{"$f":"IF(OR(AO68=\"\",AO80=\"\"),NA(),(1443/(1443-AO80*10)-(INDEX(換算表!$D$3:$D$273,MATCH(ROUNDDOWN(AO68,1),換算表!$B$3:$B$273,0))*AO68+INDEX(換算表!$E$3:$E$273,MATCH(ROUNDDOWN(AO68,1),換算表!$B$3:$B$273,0))))*260+0.21)","v":{"$error":"#N/A"}},{"$f":"IF(OR(AP68=\"\",AP80=\"\"),NA(),(1443/(1443-AP80*10)-(INDEX(換算表!$D$3:$D$273,MATCH(ROUNDDOWN(AP68,1),換算表!$B$3:$B$273,0))*AP68+INDEX(換算表!$E$3:$E$273,MATCH(ROUNDDOWN(AP68,1),換算表!$B$3:$B$273,0))))*260+0.21)","v":{"$error":"#N/A"}},{"$f":"IF(OR(AQ68=\"\",AQ80=\"\"),NA(),(1443/(1443-AQ80*10)-(INDEX(換算表!$D$3:$D$273,MATCH(ROUNDDOWN(AQ68,1),換算表!$B$3:$B$273,0))*AQ68+INDEX(換算表!$E$3:$E$273,MATCH(ROUNDDOWN(AQ68,1),換算表!$B$3:$B$273,0))))*260+0.21)","v":{"$error":"#N/A"}},{"$f":"IF(OR(AR68=\"\",AR80=\"\"),NA(),(1443/(1443-AR80*10)-(INDEX(換算表!$D$3:$D$273,MATCH(ROUNDDOWN(AR68,1),換算表!$B$3:$B$273,0))*AR68+INDEX(換算表!$E$3:$E$273,MATCH(ROUNDDOWN(AR68,1),換算表!$B$3:$B$273,0))))*260+0.21)","v":{"$error":"#N/A"}},{"$f":"IF(OR(AS68=\"\",AS80=\"\"),NA(),(1443/(1443-AS80*10)-(INDEX(換算表!$D$3:$D$273,MATCH(ROUNDDOWN(AS68,1),換算表!$B$3:$B$273,0))*AS68+INDEX(換算表!$E$3:$E$273,MATCH(ROUNDDOWN(AS68,1),換算表!$B$3:$B$273,0))))*260+0.21)","v":{"$error":"#N/A"}},{"$f":"IF(OR(AT68=\"\",AT80=\"\"),NA(),(1443/(1443-AT80*10)-(INDEX(換算表!$D$3:$D$273,MATCH(ROUNDDOWN(AT68,1),換算表!$B$3:$B$273,0))*AT68+INDEX(換算表!$E$3:$E$273,MATCH(ROUNDDOWN(AT68,1),換算表!$B$3:$B$273,0))))*260+0.21)","v":{"$error":"#N/A"}},{"$f":"IF(OR(AU68=\"\",AU80=\"\"),NA(),(1443/(1443-AU80*10)-(INDEX(換算表!$D$3:$D$273,MATCH(ROUNDDOWN(AU68,1),換算表!$B$3:$B$273,0))*AU68+INDEX(換算表!$E$3:$E$273,MATCH(ROUNDDOWN(AU68,1),換算表!$B$3:$B$273,0))))*260+0.21)","v":{"$error":"#N/A"}},{"$f":"IF(OR(AV68=\"\",AV80=\"\"),NA(),(1443/(1443-AV80*10)-(INDEX(換算表!$D$3:$D$273,MATCH(ROUNDDOWN(AV68,1),換算表!$B$3:$B$273,0))*AV68+INDEX(換算表!$E$3:$E$273,MATCH(ROUNDDOWN(AV68,1),換算表!$B$3:$B$273,0))))*260+0.21)","v":{"$error":"#N/A"}},{"$f":"IF(OR(AW68=\"\",AW80=\"\"),NA(),(1443/(1443-AW80*10)-(INDEX(換算表!$D$3:$D$273,MATCH(ROUNDDOWN(AW68,1),換算表!$B$3:$B$273,0))*AW68+INDEX(換算表!$E$3:$E$273,MATCH(ROUNDDOWN(AW68,1),換算表!$B$3:$B$273,0))))*260+0.21)","v":{"$error":"#N/A"}},{"$f":"IF(OR(AX68=\"\",AX80=\"\"),NA(),(1443/(1443-AX80*10)-(INDEX(換算表!$D$3:$D$273,MATCH(ROUNDDOWN(AX68,1),換算表!$B$3:$B$273,0))*AX68+INDEX(換算表!$E$3:$E$273,MATCH(ROUNDDOWN(AX68,1),換算表!$B$3:$B$273,0))))*260+0.21)","v":{"$error":"#N/A"}},{"$f":"IF(OR(AY68=\"\",AY80=\"\"),NA(),(1443/(1443-AY80*10)-(INDEX(換算表!$D$3:$D$273,MATCH(ROUNDDOWN(AY68,1),換算表!$B$3:$B$273,0))*AY68+INDEX(換算表!$E$3:$E$273,MATCH(ROUNDDOWN(AY68,1),換算表!$B$3:$B$273,0))))*260+0.21)","v":{"$error":"#N/A"}},{"$f":"IF(OR(AZ68=\"\",AZ80=\"\"),NA(),(1443/(1443-AZ80*10)-(INDEX(換算表!$D$3:$D$273,MATCH(ROUNDDOWN(AZ68,1),換算表!$B$3:$B$273,0))*AZ68+INDEX(換算表!$E$3:$E$273,MATCH(ROUNDDOWN(AZ68,1),換算表!$B$3:$B$273,0))))*260+0.21)","v":{"$error":"#N/A"}},{"$f":"IF(OR(BA68=\"\",BA80=\"\"),NA(),(1443/(1443-BA80*10)-(INDEX(換算表!$D$3:$D$273,MATCH(ROUNDDOWN(BA68,1),換算表!$B$3:$B$273,0))*BA68+INDEX(換算表!$E$3:$E$273,MATCH(ROUNDDOWN(BA68,1),換算表!$B$3:$B$273,0))))*260+0.21)","v":{"$error":"#N/A"}},{"$f":"IF(OR(BB68=\"\",BB80=\"\"),NA(),(1443/(1443-BB80*10)-(INDEX(換算表!$D$3:$D$273,MATCH(ROUNDDOWN(BB68,1),換算表!$B$3:$B$273,0))*BB68+INDEX(換算表!$E$3:$E$273,MATCH(ROUNDDOWN(BB68,1),換算表!$B$3:$B$273,0))))*260+0.21)","v":{"$error":"#N/A"}},{"$f":"IF(OR(BC68=\"\",BC80=\"\"),NA(),(1443/(1443-BC80*10)-(INDEX(換算表!$D$3:$D$273,MATCH(ROUNDDOWN(BC68,1),換算表!$B$3:$B$273,0))*BC68+INDEX(換算表!$E$3:$E$273,MATCH(ROUNDDOWN(BC68,1),換算表!$B$3:$B$273,0))))*260+0.21)","v":{"$error":"#N/A"}},{"$f":"IF(OR(BD68=\"\",BD80=\"\"),NA(),(1443/(1443-BD80*10)-(INDEX(換算表!$D$3:$D$273,MATCH(ROUNDDOWN(BD68,1),換算表!$B$3:$B$273,0))*BD68+INDEX(換算表!$E$3:$E$273,MATCH(ROUNDDOWN(BD68,1),換算表!$B$3:$B$273,0))))*260+0.21)","v":{"$error":"#N/A"}},{"$f":"IF(OR(BE68=\"\",BE80=\"\"),NA(),(1443/(1443-BE80*10)-(INDEX(換算表!$D$3:$D$273,MATCH(ROUNDDOWN(BE68,1),換算表!$B$3:$B$273,0))*BE68+INDEX(換算表!$E$3:$E$273,MATCH(ROUNDDOWN(BE68,1),換算表!$B$3:$B$273,0))))*260+0.21)","v":{"$error":"#N/A"}},{"$f":"IF(OR(BF68=\"\",BF80=\"\"),NA(),(1443/(1443-BF80*10)-(INDEX(換算表!$D$3:$D$273,MATCH(ROUNDDOWN(BF68,1),換算表!$B$3:$B$273,0))*BF68+INDEX(換算表!$E$3:$E$273,MATCH(ROUNDDOWN(BF68,1),換算表!$B$3:$B$273,0))))*260+0.21)","v":{"$error":"#N/A"}},{"$f":"IF(OR(BG68=\"\",BG80=\"\"),NA(),(1443/(1443-BG80*10)-(INDEX(換算表!$D$3:$D$273,MATCH(ROUNDDOWN(BG68,1),換算表!$B$3:$B$273,0))*BG68+INDEX(換算表!$E$3:$E$273,MATCH(ROUNDDOWN(BG68,1),換算表!$B$3:$B$273,0))))*260+0.21)","v":{"$error":"#N/A"}},{"$f":"IF(OR(BH68=\"\",BH80=\"\"),NA(),(1443/(1443-BH80*10)-(INDEX(換算表!$D$3:$D$273,MATCH(ROUNDDOWN(BH68,1),換算表!$B$3:$B$273,0))*BH68+INDEX(換算表!$E$3:$E$273,MATCH(ROUNDDOWN(BH68,1),換算表!$B$3:$B$273,0))))*260+0.21)","v":{"$error":"#N/A"}},{"$f":"IF(OR(BI68=\"\",BI80=\"\"),NA(),(1443/(1443-BI80*10)-(INDEX(換算表!$D$3:$D$273,MATCH(ROUNDDOWN(BI68,1),換算表!$B$3:$B$273,0))*BI68+INDEX(換算表!$E$3:$E$273,MATCH(ROUNDDOWN(BI68,1),換算表!$B$3:$B$273,0))))*260+0.21)","v":{"$error":"#N/A"}}]
[null,null,"原ｴｷｽ",null,null,null,null,null,null,null,null,null,{"$f":"IF(M68=\"\",NA(),M70+1.5848*M68)","v":{"$error":"#N/A"}},{"$f":"IF(N68=\"\",NA(),N70+1.5848*N68)","v":18.558789762371916},{"$f":"IF(O68=\"\",NA(),O70+1.5848*O68)","v":20.779593171870427},22.690734598540171,24.062774545454545,24.749365217391279,25.481956568132649,25.717090490111737,26.402108520920933,26.82956694590376,27.033926904846137,27.431282110907347,27.938926788203041,28.130778950621725,28.567359214806579,28.88964578707925,29.194973307246308,29.328603563250553,29.03635916317997,29.693171703239415,29.82825763919832,30.184538176507534,30.374763700048788,30.362666666666847,30.294088297488678,30.13166733966596,29.933427900789933,{"$error":"#N/A"},{"$error":"#N/A"},{"$error":"#N/A"},{"$error":"#N/A"},{"$error":"#N/A"},{"$error":"#N/A"},{"$error":"#N/A"},{"$error":"#N/A"},{"$error":"#N/A"},{"$error":"#N/A"},{"$error":"#N/A"},{"$error":"#N/A"},{"$error":"#N/A"},{"$error":"#N/A"},{"$error":"#N/A"},{"$error":"#N/A"},{"$error":"#N/A"},{"$error":"#N/A"},{"$error":"#N/A"},{"$error":"#N/A"},{"$error":"#N/A"},{"$error":"#N/A"}]
[null,"AB直線理論式",null,null,"Alc=α-(β×Be)",null,null,null,null,"α=",16,"β=",1.7]
[]
[null,"AB理論式描画用",null,null,0,20]
[null,"AB理論式描画用",null,null,{"$f":"($K$72-E74)/$M$72","v":9.4117647058823533},{"$f":"($K$72-F74)/$M$72","v":-2.3529411764705883}]
[null,"品温描画用",null,null,-6.3,-5.7,-5.3,-4.7,-4.3,-3.7,-3.3,-2.7,-2.2999999999999998,-1.7,-1.3,-0.7,-0.3,0.3,0.7,1.3,1.7,2.2999999999999998,2.7,3.3,3.7,4.3,4.7,5.3,5.7,6.3,6.7,7.3,7.7,8.3000000000000007,8.6999999999999993,9.2999999999999989,9.6999999999999993,10.299999999999999,10.7,11.299999999999999,11.7,12.299999999999999,12.7,13.299999999999999,13.7,14.299999999999999,14.7,15.299999999999999,15.7,16.3,16.7,17.3,17.7,18.3,18.7,19.3,19.7,20.3,20.7,21.3,21.7,22.3,22.7,23.3,23.7,24.3,24.7,25.3,25.7,26.3,26.7,27.3,27.7,28.3,28.7,29.3,29.7,30.3,30.7,31.3,31.7,32.299999999999997,32.700000000000003,33.300000000000004,33.700000000000003,34.300000000000004,34.700000000000003,35.300000000000004,35.700000000000003,36.300000000000004,36.700000000000003,37.300000000000004,37.700000000000003,38.300000000000004,38.700000000000003,39.300000000000004,39.700000000000003,40.300000000000004,40.700000000000003,41.300000000000004,41.7,42.300000000000004,42.7,43.300000000000004,43.7,44.300000000000004,44.7,45.300000000000004,45.7,46.300000000000004,46.7,47.300000000000004,47.7,48.300000000000004,48.7,49.300000000000004,49.7,50.300000000000004]
[null,"品温描画用",null,null,{"$f":"E34","v":12.5},{"$f":"E35","v":0},{"$f":"F34","v":13},{"$f":"F35","v":0},{"$f":"G34","v":14},{"$f":"G35","v":0},{"$f":"H34","v":0},{"$f":"H35","v":0},{"$f":"I34","v":8.5},{"$f":"I35","v":0},{"$f":"J34","v":8},{"$f":"J35","v":0},{"$f":"K34","v":5.5},{"$f":"K35","v":0},{"$f":"L34","v":6},{"$f":"L35","v":0},{"$f":"M34","v":6.5},{"$f":"M35","v":0},{"$f":"N34","v":7.5},{"$f":"N35","v":0},{"$f":"O34","v":8.1999999999999993},{"$f":"O35","v":0},{"$f":"P34","v":8.9},{"$f":"P35","v":0},{"$f":"Q34","v":9.4},{"$f":"Q35","v":0},{"$f":"R34","v":10},{"$f":"R35","v":0},{"$f":"S34","v":10.5},{"$f":"S35","v":0},{"$f":"T34","v":11},{"$f":"T35","v":0},{"$f":"U34","v":11},{"$f":"U35","v":0},{"$f":"V34","v":10.6},{"$f":"V35","v":0},{"$f":"W34","v":10},{"$f":"W35","v":0},{"$f":"X34","v":10},{"$f":"X35","v":0},{"$f":"Y34","v":9.4},{"$f":"Y35","v":0},{"$f":"Z34","v":8.9},{"$f":"Z35","v":0},{"$f":"AA34","v":8.3000000000000007},{"$f":"AA35","v":0},{"$f":"AB34","v":7.8},{"$f":"AB35","v":0},{"$f":"AC34","v":7.3},{"$f":"AC35","v":0},{"$f":"AD34","v":6.9},{"$f":"AD35","v":0},{"$f":"AE34","v":7},{"$f":"AE35","v":0},{"$f":"AF34","v":7},{"$f":"AF35","v":0},{"$f":"AG34","v":7},{"$f":"AG35","v":0},{"$f":"AH34","v":6.8},{"$f":"AH35","v":0},{"$f":"AI34","v":6.8},{"$f":"AI35","v":0},{"$f":"AJ34","v":6.4},{"$f":"AJ35","v":0},{"$f":"AK34","v":6.2},{"$f":"AK35","v":0},{"$f":"AL34","v":6},{"$f":"AL35","v":0},{"$f":"AM34","v":6},{"$f":"AM35","v":0},{"$f":"AN34","v":0},{"$f":"AN35","v":0},{"$f":"AO34","v":0},{"$f":"AO35","v":0},{"$f":"AP34","v":0},{"$f":"AP35","v":0},{"$f":"AQ34","v":0},{"$f":"AQ35","v":0},{"$f":"AR34","v":0},{"$f":"AR35","v":0},{"$f":"AS34","v":0},{"$f":"AS35","v":0},{"$f":"AT34","v":0},{"$f":"AT35","v":0},{"$f":"AU34","v":0},{"$f":"AU35","v":0},{"$f":"AV34","v":0},{"$f":"AV35","v":0},{"$f":"AW34","v":0},{"$f":"AW35","v":0},{"$f":"AX34","v":0},{"$f":"AX35","v":0},{"$f":"AY34","v":0},{"$f":"AY35","v":0},{"$f":"AZ34","v":0},{"$f":"AZ35","v":0},{"$f":"BA34","v":0},{"$f":"BA35","v":0},{"$f":"BB34","v":0},{"$f":"BB35","v":0},{"$f":"BC34","v":0},{"$f":"BC35","v":0},{"$f":"BD34","v":0},{"$f":"BD35","v":0},{"$f":"BE34","v":0},{"$f":"BE35","v":0},{"$f":"BF34","v":0},{"$f":"BF35","v":0},{"$f":"BG34","v":0},{"$f":"BG35","v":0},{"$f":"BH34","v":0},{"$f":"BH35","v":0},{"$f":"BI34","v":0},{"$f":"BI35","v":0}]
[null,"アルコール描画用",null,null,-6,-5,-4,-3,-2,-1,0,1,2,3,4,5,6,7,8,9,10,11,12,13,14,15,16,17,18,19,20,21,22,23,24,25,26,27,28,29,30,31,32,33,34,35,36,37,38,39,40,41,42,43,44,45,46,47,48,49,50]
[null,"ボーメ描画用",null,null,null,null,null,null,null,null,null,null,{"$f":"IF(M38=\"\",IF(M39=\"\",NA(),M39/-10),M38)","v":{"$error":"#N/A"}},6,6.2,6.3,6.4,6.2,5.4,4.5,4.01,3.44,3,2.56,2.23,1.9300000000000002,1.6599999999999997,1.43,1.19,1.06,0.9,0.75,0.62,0.51,0.41,0.3,0.16,7.0000000000000007E-2,-0.04,{"$error":"#N/A"},{"$error":"#N/A"},{"$error":"#N/A"},{"$error":"#N/A"},{"$error":"#N/A"},{"$f":"IF(AS38=\"\",IF(AS39=\"\",NA(),AS39/-10),AS38)","v":{"$error":"#N/A"}},{"$error":"#N/A"},{"$error":"#N/A"},{"$error":"#N/A"},{"$error":"#N/A"},{"$error":"#N/A"},{"$error":"#N/A"},{"$error":"#N/A"},{"$error":"#N/A"},{"$error":"#N/A"},{"$error":"#N/A"},{"$error":"#N/A"},{"$error":"#N/A"},{"$error":"#N/A"},{"$error":"#N/A"},{"$error":"#N/A"},{"$error":"#N/A"}]
[null,"目標ボーメ描画用",null,null,null,null,null,null,null,null,null,null,{"$f":"IF(M66=\"\",IF(M67=\"\",NA(),M67/-10),M66)","v":{"$error":"#N/A"}},{"$f":"IF(N66=\"\",IF(N67=\"\",NA(),N67/-10),N66)","v":6.69},{"$f":"IF(O66=\"\",IF(O67=\"\",NA(),O67/-10),O66)","v":7.22},7.3,7.02,6.3,5.6,4.74,4.01,3.44,2.95,2.56,2.23,1.9300000000000002,1.6599999999999997,1.43,1.19,1.06,0.9,0.75,0.62,0.51,0.41,0.3,0.16,7.0000000000000007E-2,-0.04,{"$error":"#N/A"},{"$error":"#N/A"},{"$error":"#N/A"},{"$error":"#N/A"},{"$error":"#N/A"},{"$error":"#N/A"},{"$error":"#N/A"},{"$error":"#N/A"},{"$error":"#N/A"},{"$error":"#N/A"},{"$error":"#N/A"},{"$error":"#N/A"},{"$error":"#N/A"},{"$error":"#N/A"},{"$error":"#N/A"},{"$error":"#N/A"},{"$error":"#N/A"},{"$error":"#N/A"},{"$error":"#N/A"},{"$error":"#N/A"},{"$error":"#N/A"},{"$error":"#N/A"}]