{"text_format":"1","workbook":"xlsx","n_sheets":13,"sheets":["基本項目","店舗一覧","販売数量","様式_販数量","様式_ニ十歳","list等","XML販数量","XMLニ十歳","利用者ファイル基本","利用者ファイル販数量","利用者ファイルニ十歳","補助機能等","保守用メモ"],"not_rendered":{"charts":0,"images":3,"macros":1,"external_links":0,"defined_names":38,"comments":5,"pivot_tables":0},"unopened":[],"bounds":{"document_bytes":16777216,"sheet_cells":100000,"rows_first":2000,"rows_last":500,"rows_between":2000,"halvings":0,"cell_chars":16384,"cell_head_chars":4096},"cells_cut":0,"cells_raw":0,"read":"whole","date_system":"1900"}

{"sheet":"基本項目","index":0,"n_rows":50,"n_cols":12,"rows_kept":50,"cut":false,"hidden":false,"merged":[[46,4,46,6],[47,4,47,6],[48,4,48,6],[49,4,49,6],[41,4,41,6],[42,4,42,6],[43,4,43,6],[44,4,44,6],[45,4,45,6],[40,9,40,11],[40,4,40,6],[36,9,36,11],[35,5,35,8],[34,10,34,11],[35,10,35,11],[38,9,38,11],[40,7,40,8],[39,4,39,8],[39,9,39,11],[37,9,37,11],[37,4,37,8],[36,4,36,8],[38,4,38,8],[19,4,19,6],[33,5,33,8],[23,2,23,3],[19,2,19,3],[27,4,27,6],[27,1,27,3],[24,2,24,3],[31,4,31,6],[20,4,20,6],[28,1,35,1],[28,4,28,6],[29,4,29,11],[30,4,30,11],[34,4,34,8],[32,4,32,6],[33,10,33,11],[7,1,7,3],[8,1,8,3],[14,1,14,3],[7,4,7,6],[8,4,8,11],[14,4,14,11],[9,1,9,3],[10,1,10,3],[11,1,11,3],[11,4,11,6],[9,4,9,11],[12,1,12,3],[13,1,13,3],[10,4,10,11],[12,4,12,11],[13,4,13,11],[3,1,3,3],[4,1,4,3],[5,1,5,3],[6,1,6,3],[6,4,6,6],[3,4,3,6],[5,4,5,6],[36,1,49,1],[41,2,49,2],[40,2,40,3],[35,2,35,3],[34,2,34,3],[36,2,39,2],[33,2,33,3],[21,2,21,3],[17,2,17,3],[18,2,18,3],[30,2,30,3],[28,2,28,3],[29,2,29,3],[20,2,20,3],[22,2,22,3],[31,2,31,3],[32,2,32,3],[20,9,21,10],[22,9,23,10],[20,11,21,11],[22,11,23,11],[15,1,15,3],[23,4,23,6],[18,4,18,6],[17,4,17,6],[17,1,24,1],[24,4,24,6],[21,4,21,6],[22,4,22,6],[15,4,15,10],[19,9,19,10],[16,1,16,3],[16,4,16,6]]}
[]
[null,"ｅ－Ｔａｘ利用者ファイル等作成ツール（Ver8.02）",null,null,null,null,null,null,null,null,"色表示部分が入力項目です"]
[]
[null,"提出年月日",null,null,{"$f":"INT(NOW())","v":"2024-02-15"}]
[null,"報告対象年度",null,null,"西暦",2023,"年度","販売数量報告\n対象期間",{"$f":"DATE(F5,4,1)","v":"2023-04-01"},{"$f":"DATE(F5+1,3,31)","v":"2024-03-31"}]
[null,"利用者識別番号"]
[null,"法人番号（My№）"]
[null,"郵便番号"]
[null,"住所又は本店所在地"]
[null,"氏名又は名称"]
[null,"氏名又は名称(全角カナ)"]
[null,"電話番号"]
[null,"代表者氏名"]
[null,"代表者氏名(全角カナ)"]
[null,"代表者住所"]
[null,"業態区分",null,null,null,null,null,null,null,null,null,{"$f":"IF($E$16=\"\",0,VLOOKUP($E$16,list等!$E$2:$F$9,2,FALSE))","v":0}]
[null,"従業員数",null,null,null,null,null,"人"]
[null,"損益項目","総売上高",null,null,null,null,"円"]
[null,null,"　内酒類小売分",null,null,null,null,"円",null,"利用者ファイル作成"]
[null,null,"売上総利益",null,null,null,null,"円",null,"店舗番号(個別データ確認用)"]
[null,null,"　内酒類小売分",null,null,null,null,"円",null,"販売数量等報告書"]
[null,null,"営業利益",null,null,null,null,"円"]
[null,null,"　内酒類小売分",null,null,null,null,"円",null,"20歳未満者飲酒防止等報告書"]
[null,null,"税引前純利益",null,null,null,null,"円"]
[null,null,"酒類に係る受取リベート",null,null,null,null,"円"]
[]
[null,"●販売店情報（確認用）"]
[null,"酒類免許場整理番号",null,null,{"$f":"ASC(VLOOKUP($L$20,storTB,2,FALSE))","v":{"$error":"#N/A"}}]
[null,"販売場","郵便番号",null,{"$f":"ASC(VLOOKUP($L$20,storTB,4,FALSE))","v":{"$error":"#N/A"}}]
[null,null,"販売場所在地",null,{"$f":"DBCS(VLOOKUP($L$20,storTB,5,FALSE))","v":{"$error":"#N/A"}}]
[null,null,"販売場名称",null,{"$f":"DBCS(VLOOKUP($L$20,storTB,3,FALSE))","v":{"$error":"#N/A"}}]
[null,null,"電話番号",null,{"$f":"ASC(VLOOKUP($L$20,storTB,6,FALSE))","v":{"$error":"#N/A"}}]
[null,null,"提出先税務署名",null,{"$f":"VLOOKUP($L$20,storTB,7,FALSE)","v":{"$error":"#N/A"}},null,null,"税務署",{"$f":"VLOOKUP(E33,list等!$A$2:$C$525,2,FALSE)","v":{"$error":"#N/A"}}]
[null,null,"売り場面積",null,"全体：",{"$f":"VLOOKUP($L$20,storTB,8,FALSE)","v":{"$error":"#N/A"}},null,null,null,"酒売：",{"$f":"VLOOKUP($L$20,storTB,9,FALSE)","v":{"$error":"#N/A"}}]
[null,null,"営業時間区分",null,{"$f":"ASC(VLOOKUP($L$20,storTB,10,FALSE))","v":{"$error":"#N/A"}},null,null,null,null,"定休日",{"$f":"DBCS(VLOOKUP($L$20,storTB,13,FALSE))","v":{"$error":"#N/A"}}]
[null,null,"　　営業時間",null,"開店：",{"$f":"VLOOKUP($L$20,storTB,11,FALSE)","v":{"$error":"#N/A"}},null,null,null,"閉店：",{"$f":"VLOOKUP($L$20,storTB,12,FALSE)","v":{"$error":"#N/A"}}]
[null,"酒類販売管理者関係","酒類販売管理者",null,"現（選任）酒類販売管理者"]
[null,null,null,"氏名",{"$f":"DBCS(VLOOKUP($L$20,storTB,14,FALSE))","v":{"$error":"#N/A"}}]
[null,null,null,"生年月日",{"$f":"VLOOKUP($L$20,storTB,15,FALSE)","v":{"$error":"#N/A"}}]
[null,null,null,"年齢",{"$f":"IF($E$39=0,0,INT(YEARFRAC(DATE($F$5+1,4,1),E39,1)))","v":{"$error":"#N/A"}}]
[null,null,"研修受講年月日",null,{"$f":"VLOOKUP($L$20,storTB,16,FALSE)","v":{"$error":"#N/A"}},null,null,"研修受講団体名"]
[null,null,"販売責任者",null,"氏　名",null,null,"年齢","基準"]
[null,null,null,"責任者１",{"$f":"DBCS(VLOOKUP($L$20,storTB,17,FALSE))","v":{"$error":"#N/A"}},null,null,{"$f":"ASC(VLOOKUP($L$20,storTB,18,FALSE))","v":{"$error":"#N/A"}},{"$f":"ASC(VLOOKUP($L$20,storTB,19,FALSE))","v":{"$error":"#N/A"}}]
[null,null,null,"責任者２",{"$f":"DBCS(VLOOKUP($L$20,storTB,20,FALSE))","v":{"$error":"#N/A"}},null,null,{"$f":"ASC(VLOOKUP($L$20,storTB,21,FALSE))","v":{"$error":"#N/A"}},{"$f":"ASC(VLOOKUP($L$20,storTB,22,FALSE))","v":{"$error":"#N/A"}}]
[null,null,null,"責任者３",{"$f":"DBCS(VLOOKUP($L$20,storTB,23,FALSE))","v":{"$error":"#N/A"}},null,null,{"$f":"ASC(VLOOKUP($L$20,storTB,24,FALSE))","v":{"$error":"#N/A"}},{"$f":"ASC(VLOOKUP($L$20,storTB,25,FALSE))","v":{"$error":"#N/A"}}]
[null,null,null,"責任者４",{"$f":"DBCS(VLOOKUP($L$20,storTB,26,FALSE))","v":{"$error":"#N/A"}},null,null,{"$f":"ASC(VLOOKUP($L$20,storTB,27,FALSE))","v":{"$error":"#N/A"}},{"$f":"ASC(VLOOKUP($L$20,storTB,28,FALSE))","v":{"$error":"#N/A"}}]
[null,null,null,"責任者５",{"$f":"DBCS(VLOOKUP($L$20,storTB,29,FALSE))","v":{"$error":"#N/A"}},null,null,{"$f":"ASC(VLOOKUP($L$20,storTB,30,FALSE))","v":{"$error":"#N/A"}},{"$f":"ASC(VLOOKUP($L$20,storTB,31,FALSE))","v":{"$error":"#N/A"}}]
[null,null,null,"責任者６",{"$f":"DBCS(VLOOKUP($L$20,storTB,32,FALSE))","v":{"$error":"#N/A"}},null,null,{"$f":"ASC(VLOOKUP($L$20,storTB,33,FALSE))","v":{"$error":"#N/A"}},{"$f":"ASC(VLOOKUP($L$20,storTB,34,FALSE))","v":{"$error":"#N/A"}}]
[null,null,null,"責任者７",{"$f":"DBCS(VLOOKUP($L$20,storTB,35,FALSE))","v":{"$error":"#N/A"}},null,null,{"$f":"ASC(VLOOKUP($L$20,storTB,36,FALSE))","v":{"$error":"#N/A"}},{"$f":"ASC(VLOOKUP($L$20,storTB,37,FALSE))","v":{"$error":"#N/A"}}]
[null,null,null,"責任者８",{"$f":"DBCS(VLOOKUP($L$20,storTB,38,FALSE))","v":{"$error":"#N/A"}},null,null,{"$f":"ASC(VLOOKUP($L$20,storTB,39,FALSE))","v":{"$error":"#N/A"}},{"$f":"ASC(VLOOKUP($L$20,storTB,40,FALSE))","v":{"$error":"#N/A"}}]

{"sheet":"店舗一覧","index":1,"n_rows":3,"n_cols":40,"rows_kept":3,"cut":false,"hidden":false,"merged":[[1,0,2,0],[1,1,2,1]]}
[]
["店舗番号","酒類\n免許場\n整理番号","基本項目(販売場)",null,null,null,null,null,null,null,null,null,null,"酒類販売管理者関係"]
[null,null,"販売場名称","郵便番号","販売場所在地","電話番号","所轄署","店舗全体\nの面積","酒類売場\nの面積","営業時間\n区分","営業開始\n時間","営業終了\n時間","定休日","酒類販売管理者\n氏名","酒類販売管理者\n生年月日","研修受講\n年月日","販売責任者1\n氏名","\n年齢","\n基準","販売責任者2\n氏名","\n年齢","\n基準","販売責任者3\n氏名","\n年齢","\n基準","販売責任者4\n氏名","\n年齢","\n基準","販売責任者5\n氏名","\n年齢","\n基準","販売責任者6\n氏名","\n年齢","\n基準","販売責任者7\n氏名","\n年齢","\n基準","販売責任者8\n氏名","\n年齢","\n基準"]

{"sheet":"販売数量","index":2,"n_rows":3,"n_cols":6,"rows_kept":3,"cut":false,"hidden":false,"merged":[]}
[null,null,"全店舗分販売数量データ"]
[]
["店舗番号","酒類","卸売業者(ℓ)","小売業者(ℓ)","小売数量(ℓ)","在庫数量(ℓ)"]

{"sheet":"様式_販数量","index":3,"n_rows":49,"n_cols":7,"rows_kept":49,"cut":false,"hidden":false,"merged":[[41,5,41,6],[43,4,44,4],[41,0,44,3],[8,3,8,6],[4,3,4,6],[9,3,9,4],[5,3,5,6],[15,5,17,5],[15,3,15,4],[14,0,14,6],[33,1,33,2],[38,0,38,2],[39,0,39,2],[39,3,39,6],[38,3,38,6],[36,0,36,2],[15,0,17,2],[10,0,12,2],[23,1,23,2],[22,1,22,2],[13,0,13,6],[16,3,16,4],[11,3,11,5],[15,6,17,6],[10,3,10,5],[11,6,12,6],[18,1,18,2],[21,1,21,2],[20,1,20,2],[19,1,19,2],[37,0,37,6],[35,0,35,2],[28,1,28,2],[27,1,27,2],[0,0,0,6],[6,3,6,6],[1,0,1,6],[2,0,2,6],[4,0,4,1],[4,2,9,2],[9,0,9,1],[7,3,7,6],[8,0,8,1],[12,3,12,5],[32,1,32,2],[31,1,31,2],[34,0,34,2],[26,1,26,2],[25,1,25,2],[24,1,24,2],[30,1,30,2],[29,1,29,2]]}
["CC1-5604"]
["酒　類　の　販　売　数　量　等　報　告　書"]
[{"$f":"DBCS(\"(\"&TEXT(報告期間自,\"gggge年m月d日\")&\"～\"&TEXT(報告期間至,\"gggge年m月d日\")&\")\")","v":"（令和５年４月１日～令和６年３月３１日）"}]
[null,null,null,null,null,"酒類免許場\n整理番号",{"$f":"基本項目!$E$28","v":{"$error":"#N/A"}}]
[{"$f":"基本項目!$E$4","v":"2024-02-15"},null,"報\n\n告\n\n者",{"$f":"\"（住所）〒\"&DBCS(基本項目!$E$8)","v":"（住所）〒"}]
[null,null,null,{"$f":"基本項目!$E$9","v":0}]
[null,null,null,"（氏名又は名称及び代表者氏名）"]
[null,null,null,{"$f":"基本項目!$E$10","v":0}]
[null,null,null,{"$f":"IF(基本項目!$E$13=\"\",\"\",基本項目!$E$13)","v":""}]
[{"$f":"基本項目!$E$33&\" 税務署長  殿\"","v":{"$error":"#N/A"}},null,null,{"$f":"CONCATENATE(\"（電話）　\",DBCS(基本項目!$E$12))","v":"（電話）　"},null,"（法人番号）\n個人の方は、個人番号の記載は不要です。",{"$f":"DBCS(基本項目!$E$7)","v":""}]
["販売場の所在地及び名称",null,null,{"$f":"\"〒\"&DBCS(基本項目!$E$29)","v":{"$error":"#N/A"}},null,null,"（電話）"]
[null,null,null,{"$f":"基本項目!$E$30","v":{"$error":"#N/A"}},null,null,{"$f":"DBCS(基本項目!$E$32)","v":{"$error":"#N/A"}}]
[null,null,null,{"$f":"基本項目!$E$31","v":{"$error":"#N/A"}}]
["　酒税法第４７条第４項の規定により下記のとおり報告します。"]
["記"]
["区　　　　　　分",null,null,"卸売販売数量",null,"小売販売数量\n（輸出数量を含まない。）\n　　　　　（単位：）","３月末在庫数量\n（輸出用酒類の数量を含む。）\n　　　　　（単位：）"]
[null,null,null,"（免許者に対する販売で、輸出数量を含まない）"]
[null,null,null,"対卸売業者（単位：）","対小売業者（単位：）"]
["①","清酒",null,{"$f":"ROUND(DSUM(販売数量!$A$3:$F$65536,販売数量!C$3,list等!$H$2:$I$3),0)","v":0},{"$f":"ROUND(DSUM(販売数量!$A$3:$F$65536,販売数量!D$3,list等!$H$2:$I$3),0)","v":0},{"$f":"ROUND(DSUM(販売数量!$A$3:$F$65536,販売数量!E$3,list等!$H$2:$I$3),0)","v":0},{"$f":"ROUND(DSUM(販売数量!$A$3:$F$65536,販売数量!F$3,list等!$H$2:$I$3),0)","v":0}]
["②","合成清酒",null,{"$f":"ROUND(DSUM(販売数量!$A$3:$F$65536,販売数量!C$3,list等!$H$4:$I$5),0)","v":0},{"$f":"ROUND(DSUM(販売数量!$A$3:$F$65536,販売数量!D$3,list等!$H$4:$I$5),0)","v":0},{"$f":"ROUND(DSUM(販売数量!$A$3:$F$65536,販売数量!E$3,list等!$H$4:$I$5),0)","v":0},{"$f":"ROUND(DSUM(販売数量!$A$3:$F$65536,販売数量!F$3,list等!$H$4:$I$5),0)","v":0}]
["③","連続式蒸留焼酎",null,{"$f":"ROUND(DSUM(販売数量!$A$3:$F$65536,販売数量!C$3,list等!$H$6:$I$7),0)","v":0},{"$f":"ROUND(DSUM(販売数量!$A$3:$F$65536,販売数量!D$3,list等!$H$6:$I$7),0)","v":0},{"$f":"ROUND(DSUM(販売数量!$A$3:$F$65536,販売数量!E$3,list等!$H$6:$I$7),0)","v":0},{"$f":"ROUND(DSUM(販売数量!$A$3:$F$65536,販売数量!F$3,list等!$H$6:$I$7),0)","v":0}]
["④","単式蒸留焼酎",null,{"$f":"ROUND(DSUM(販売数量!$A$3:$F$65536,販売数量!C$3,list等!$H$8:$I$9),0)","v":0},{"$f":"ROUND(DSUM(販売数量!$A$3:$F$65536,販売数量!D$3,list等!$H$8:$I$9),0)","v":0},{"$f":"ROUND(DSUM(販売数量!$A$3:$F$65536,販売数量!E$3,list等!$H$8:$I$9),0)","v":0},{"$f":"ROUND(DSUM(販売数量!$A$3:$F$65536,販売数量!F$3,list等!$H$8:$I$9),0)","v":0}]
["⑤","みりん",null,{"$f":"ROUND(DSUM(販売数量!$A$3:$F$65536,販売数量!C$3,list等!$H$10:$I$11),0)","v":0},{"$f":"ROUND(DSUM(販売数量!$A$3:$F$65536,販売数量!D$3,list等!$H$10:$I$11),0)","v":0},{"$f":"ROUND(DSUM(販売数量!$A$3:$F$65536,販売数量!E$3,list等!$H$10:$I$11),0)","v":0},{"$f":"ROUND(DSUM(販売数量!$A$3:$F$65536,販売数量!F$3,list等!$H$10:$I$11),0)","v":0}]
["⑥","ビール",null,{"$f":"ROUND(DSUM(販売数量!$A$3:$F$65536,販売数量!C$3,list等!$H$12:$I$13),0)","v":0},{"$f":"ROUND(DSUM(販売数量!$A$3:$F$65536,販売数量!D$3,list等!$H$12:$I$13),0)","v":0},{"$f":"ROUND(DSUM(販売数量!$A$3:$F$65536,販売数量!E$3,list等!$H$12:$I$13),0)","v":0},{"$f":"ROUND(DSUM(販売数量!$A$3:$F$65536,販売数量!F$3,list等!$H$12:$I$13),0)","v":0}]
["⑦","果実酒",null,{"$f":"ROUND(DSUM(販売数量!$A$3:$F$65536,販売数量!C$3,list等!$H$14:$I$15),0)","v":0},{"$f":"ROUND(DSUM(販売数量!$A$3:$F$65536,販売数量!D$3,list等!$H$14:$I$15),0)","v":0},{"$f":"ROUND(DSUM(販売数量!$A$3:$F$65536,販売数量!E$3,list等!$H$14:$I$15),0)","v":0},{"$f":"ROUND(DSUM(販売数量!$A$3:$F$65536,販売数量!F$3,list等!$H$14:$I$15),0)","v":0}]
["⑧","甘味果実酒",null,{"$f":"ROUND(DSUM(販売数量!$A$3:$F$65536,販売数量!C$3,list等!$H$16:$I$17),0)","v":0},{"$f":"ROUND(DSUM(販売数量!$A$3:$F$65536,販売数量!D$3,list等!$H$16:$I$17),0)","v":0},{"$f":"ROUND(DSUM(販売数量!$A$3:$F$65536,販売数量!E$3,list等!$H$16:$I$17),0)","v":0},{"$f":"ROUND(DSUM(販売数量!$A$3:$F$65536,販売数量!F$3,list等!$H$16:$I$17),0)","v":0}]
["⑨","ウイスキー",null,{"$f":"ROUND(DSUM(販売数量!$A$3:$F$65536,販売数量!C$3,list等!$H$18:$I$19),0)","v":0},{"$f":"ROUND(DSUM(販売数量!$A$3:$F$65536,販売数量!D$3,list等!$H$18:$I$19),0)","v":0},{"$f":"ROUND(DSUM(販売数量!$A$3:$F$65536,販売数量!E$3,list等!$H$18:$I$19),0)","v":0},{"$f":"ROUND(DSUM(販売数量!$A$3:$F$65536,販売数量!F$3,list等!$H$18:$I$19),0)","v":0}]
["⑩","ブランデー",null,{"$f":"ROUND(DSUM(販売数量!$A$3:$F$65536,販売数量!C$3,list等!$H$20:$I$21),0)","v":0},{"$f":"ROUND(DSUM(販売数量!$A$3:$F$65536,販売数量!D$3,list等!$H$20:$I$21),0)","v":0},{"$f":"ROUND(DSUM(販売数量!$A$3:$F$65536,販売数量!E$3,list等!$H$20:$I$21),0)","v":0},{"$f":"ROUND(DSUM(販売数量!$A$3:$F$65536,販売数量!F$3,list等!$H$20:$I$21),0)","v":0}]
["⑪","原料用ｱﾙｺｰﾙ",null,{"$f":"ROUND(DSUM(販売数量!$A$3:$F$65536,販売数量!C$3,list等!$H$22:$I$23),0)","v":0},{"$f":"ROUND(DSUM(販売数量!$A$3:$F$65536,販売数量!D$3,list等!$H$22:$I$23),0)","v":0},{"$f":"ROUND(DSUM(販売数量!$A$3:$F$65536,販売数量!E$3,list等!$H$22:$I$23),0)","v":0},{"$f":"ROUND(DSUM(販売数量!$A$3:$F$65536,販売数量!F$3,list等!$H$22:$I$23),0)","v":0}]
["⑫","発泡酒",null,{"$f":"ROUND(DSUM(販売数量!$A$3:$F$65536,販売数量!C$3,list等!$H$24:$I$25),0)","v":0},{"$f":"ROUND(DSUM(販売数量!$A$3:$F$65536,販売数量!D$3,list等!$H$24:$I$25),0)","v":0},{"$f":"ROUND(DSUM(販売数量!$A$3:$F$65536,販売数量!E$3,list等!$H$24:$I$25),0)","v":0},{"$f":"ROUND(DSUM(販売数量!$A$3:$F$65536,販売数量!F$3,list等!$H$24:$I$25),0)","v":0}]
["⑬","その他の醸造酒",null,{"$f":"ROUND(DSUM(販売数量!$A$3:$F$65536,販売数量!C$3,list等!$H$26:$I$27),0)","v":0},{"$f":"ROUND(DSUM(販売数量!$A$3:$F$65536,販売数量!D$3,list等!$H$26:$I$27),0)","v":0},{"$f":"ROUND(DSUM(販売数量!$A$3:$F$65536,販売数量!E$3,list等!$H$26:$I$27),0)","v":0},{"$f":"ROUND(DSUM(販売数量!$A$3:$F$65536,販売数量!F$3,list等!$H$26:$I$27),0)","v":0}]
["⑭","スピリッツ",null,{"$f":"ROUND(DSUM(販売数量!$A$3:$F$65536,販売数量!C$3,list等!$H$28:$I$29),0)","v":0},{"$f":"ROUND(DSUM(販売数量!$A$3:$F$65536,販売数量!D$3,list等!$H$28:$I$29),0)","v":0},{"$f":"ROUND(DSUM(販売数量!$A$3:$F$65536,販売数量!E$3,list等!$H$28:$I$29),0)","v":0},{"$f":"ROUND(DSUM(販売数量!$A$3:$F$65536,販売数量!F$3,list等!$H$28:$I$29),0)","v":0}]
["⑮","リキュール",null,{"$f":"ROUND(DSUM(販売数量!$A$3:$F$65536,販売数量!C$3,list等!$H$30:$I$31),0)","v":0},{"$f":"ROUND(DSUM(販売数量!$A$3:$F$65536,販売数量!D$3,list等!$H$30:$I$31),0)","v":0},{"$f":"ROUND(DSUM(販売数量!$A$3:$F$65536,販売数量!E$3,list等!$H$30:$I$31),0)","v":0},{"$f":"ROUND(DSUM(販売数量!$A$3:$F$65536,販売数量!F$3,list等!$H$30:$I$31),0)","v":0}]
["⑯","雑酒",null,{"$f":"ROUND(DSUM(販売数量!$A$3:$F$65536,販売数量!C$3,list等!$H$32:$I$33),0)","v":0},{"$f":"ROUND(DSUM(販売数量!$A$3:$F$65536,販売数量!D$3,list等!$H$32:$I$33),0)","v":0},{"$f":"ROUND(DSUM(販売数量!$A$3:$F$65536,販売数量!E$3,list等!$H$32:$I$33),0)","v":0},{"$f":"ROUND(DSUM(販売数量!$A$3:$F$65536,販売数量!F$3,list等!$H$32:$I$33),0)","v":0}]
["合計\n（①～⑯計）",null,null,{"$f":"SUM(D19:D34)","v":0},{"$f":"SUM(E19:E34)","v":0},{"$f":"SUM(F19:F34)","v":0},{"$f":"SUM(G19:G34)","v":0}]
[]
["粉末酒(グラム）",null,null,{"$f":"ROUND(DSUM(販売数量!$A$3:$F$65536,販売数量!C$3,list等!$H$34:$I$35),0)","v":0},{"$f":"ROUND(DSUM(販売数量!$A$3:$F$65536,販売数量!D$3,list等!$H$34:$I$35),0)","v":0},{"$f":"ROUND(DSUM(販売数量!$A$3:$F$65536,販売数量!E$3,list等!$H$34:$I$35),0)","v":0},{"$f":"ROUND(DSUM(販売数量!$A$3:$F$65536,販売数量!F$3,list等!$H$34:$I$35),0)","v":0}]
[]
["摘　　要　　①\n（酒類販売場の業態区分）",null,null,{"$f":"DBCS(基本項目!$E$16)","v":""}]
["摘　　要　　②"]
[]
["（注）「卸売販売数量」欄の「対卸売業者」欄には、酒類の販売業者が、他の酒類製造者又は卸売業者に販売した数量を、「対小売業者」欄には、酒類の販売業者が、他の酒類小売業者に販売した数量を、それぞれ記載してください。",null,null,null,"税 理 士 署 名"]
[]
[null,null,null,null,"※税務署整理欄","処理年月日","年　　月　　日"]
[null,null,null,null,null,"確　　　認"]
[]
[]
[null,"販売数量シートの合計\n（チェック用）",null,{"$f":"ROUND(DSUM(販売数量!$A$3:$F$65536,販売数量!C$3,list等!$H$2:$H$3),0)","v":0},{"$f":"ROUND(DSUM(販売数量!$A$3:$F$65536,販売数量!D$3,list等!$H$2:$H$3),0)","v":0},{"$f":"ROUND(DSUM(販売数量!$A$3:$F$65536,販売数量!E$3,list等!$H$2:$H$3),0)","v":0},{"$f":"ROUND(DSUM(販売数量!$A$3:$F$65536,販売数量!F$3,list等!$H$2:$H$3),0)","v":0}]
[null,"チェック結果",null,{"$f":"IF(AND(D48+5>D35+D37,D48-5<D35+D37),\"○\",\"要確認\")","v":"○"},{"$f":"IF(AND(E48+5>E35+E37,E48-5<E35+E37),\"○\",\"要確認\")","v":"○"},{"$f":"IF(AND(F48+5>F35+F37,F48-5<F35+F37),\"○\",\"要確認\")","v":"○"},{"$f":"IF(AND(G48+5>G35+G37,G48-5<G35+G37),\"○\",\"要確認\")","v":"○"}]

{"sheet":"様式_ニ十歳","index":4,"n_rows":129,"n_cols":28,"rows_kept":129,"cut":false,"hidden":false,"merged":[[6,7,6,23],[93,2,93,23],[20,18,20,20],[38,8,38,15],[39,3,39,17],[39,18,39,20],[77,18,77,20],[78,22,78,23],[23,18,23,20],[40,22,40,23],[35,18,38,20],[24,2,24,17],[28,3,28,17],[27,22,27,23],[29,18,29,20],[30,2,30,17],[35,22,38,23],[37,5,37,7],[38,5,38,7],[70,0,70,17],[44,1,44,22],[43,0,43,23],[60,10,60,14],[35,21,38,21],[86,21,86,23],[113,12,113,14],[111,18,111,20],[111,12,111,14],[111,15,111,17],[41,18,41,20],[95,0,95,1],[82,2,82,8],[82,9,82,10],[82,11,82,13],[82,14,82,18],[82,19,82,20],[108,15,108,17],[84,19,84,20],[86,9,86,10],[86,11,86,13],[86,19,86,20],[61,16,61,23],[73,0,74,1],[75,0,78,1],[70,18,70,20],[65,3,65,9],[65,10,65,14],[109,9,109,11],[8,0,8,5],[3,6,10,6],[20,21,20,23],[42,3,42,17],[28,18,28,20],[18,0,18,23],[27,18,27,20],[27,3,27,17],[20,0,20,17],[23,22,23,23],[42,22,42,23],[12,19,12,20],[12,22,12,23],[28,22,28,23],[11,16,11,23],[39,22,39,23],[40,3,40,17],[40,18,40,20],[35,0,42,1],[9,5,10,5],[6,5,7,5],[29,4,29,17],[34,0,34,23],[22,22,22,23],[0,0,0,6],[1,0,1,23],[10,7,10,23],[80,13,80,14],[5,7,5,23],[3,21,3,23],[13,16,13,17],[2,18,2,19],[2,20,2,23],[37,14,37,15],[9,7,9,23],[8,7,8,23],[4,21,4,23],[37,8,37,13],[3,7,3,20],[4,7,4,20],[7,7,7,23],[3,0,3,5],[77,3,77,17],[4,0,4,5],[5,0,5,5],[6,0,7,4],[9,0,10,4],[65,16,65,23],[125,1,125,2],[76,3,76,17],[72,18,72,20],[77,22,77,23],[110,15,110,17],[110,18,110,20],[112,15,112,17],[112,18,112,20],[111,9,111,11],[119,2,119,8],[113,2,113,8],[114,2,114,8],[117,2,118,8],[116,15,116,17],[118,9,118,12],[113,18,113,20],[111,2,111,8],[106,12,106,14],[115,15,115,17],[113,15,113,17],[80,2,80,12],[73,3,73,17],[73,18,73,20],[79,2,79,17],[109,12,109,14],[119,22,120,23],[115,12,115,14],[122,9,122,11],[122,12,122,14],[117,21,118,21],[121,22,121,23],[121,0,121,8],[115,18,115,20],[116,18,116,20],[118,13,118,20],[116,2,116,8],[122,0,122,8],[121,9,121,11],[120,9,120,11],[115,22,118,23],[110,0,114,1],[115,0,118,1],[120,18,120,20],[114,18,114,20],[119,0,120,1],[119,18,119,20],[122,15,122,17],[84,2,84,8],[84,9,84,10],[129,2,129,23],[122,18,122,20],[121,18,121,20],[94,2,94,23],[95,2,95,23],[96,1,96,22],[97,2,97,22],[102,2,102,22],[103,2,103,22],[125,3,125,23],[128,3,128,23],[121,15,121,17],[121,12,121,14],[114,15,114,17],[107,22,107,23],[114,22,114,23],[120,2,120,8],[107,0,107,8],[108,18,108,20],[111,22,111,23],[110,9,110,11],[110,12,110,14],[130,2,130,23],[126,2,126,23],[85,14,85,18],[85,19,85,20],[85,21,85,23],[86,2,86,8],[87,0,87,23],[106,0,106,8],[110,2,110,8],[85,2,85,8],[85,9,85,10],[85,11,85,13],[112,22,112,23],[113,22,113,23],[112,9,112,11],[112,12,112,14],[114,12,114,14],[93,0,93,1],[88,0,88,1],[89,0,89,1],[90,0,90,1],[110,22,110,23],[108,22,108,23],[109,22,109,23],[108,0,108,8],[108,9,108,11],[109,0,109,8],[109,15,109,17],[109,18,109,20],[108,12,108,14],[84,11,84,13],[84,14,84,18],[63,10,63,14],[64,10,64,14],[64,16,64,23],[71,18,71,20],[78,3,78,17],[78,18,78,20],[71,3,71,17],[74,3,74,17],[72,3,72,17],[74,18,74,20],[75,3,75,17],[75,18,75,20],[83,21,83,23],[70,21,70,23],[83,14,83,18],[72,22,72,23],[79,0,79,1],[80,0,86,1],[107,12,107,14],[107,15,107,17],[107,18,107,20],[106,9,106,11],[106,15,106,17],[106,18,106,20],[73,22,73,23],[79,22,79,23],[76,18,76,20],[74,22,74,23],[75,22,75,23],[76,22,76,23],[86,14,86,18],[106,21,106,23],[107,9,107,11],[94,0,94,1],[79,18,79,20],[83,19,83,20],[83,2,83,8],[83,9,83,10],[83,11,83,13],[82,21,82,23],[24,21,26,21],[24,22,26,23],[21,22,21,23],[71,0,72,1],[63,16,63,23],[66,2,66,9],[66,16,66,23],[62,2,62,9],[61,10,61,14],[22,2,23,2],[21,3,21,17],[41,3,41,17],[22,4,22,17],[23,4,23,17],[31,4,31,17],[30,22,31,23],[59,16,59,23],[71,22,71,23],[35,3,35,17],[29,22,29,23],[42,18,42,20],[41,22,41,23],[62,10,62,14],[66,10,66,14],[33,6,33,9],[33,10,33,17],[60,2,60,9],[62,16,62,23],[60,16,60,23],[64,2,64,9],[61,3,61,9],[63,3,63,9],[67,10,67,14],[67,2,67,9],[67,16,67,23],[36,4,36,17],[17,1,17,12],[128,1,128,2],[124,2,124,23],[113,9,113,11],[114,9,114,11],[115,9,115,11],[115,2,115,8],[122,22,122,23],[120,12,120,14],[120,15,120,17],[119,9,119,11],[119,12,119,14],[119,15,119,17],[127,2,127,23],[59,0,67,1],[58,1,58,22],[59,2,59,9],[59,10,59,14],[21,0,31,1],[30,18,31,20],[30,21,31,21],[33,0,33,5],[33,18,33,20],[33,21,33,23],[92,0,92,1],[112,2,112,8],[117,9,117,20],[116,9,116,11],[116,12,116,14],[2,15,2,17],[2,13,2,14],[2,10,2,12],[26,5,26,17],[25,5,25,17],[24,18,26,20],[21,18,21,20],[22,18,22,20],[12,16,12,18],[13,18,13,22],[13,12,13,15],[13,7,13,10],[12,1,12,15],[11,0,11,15],[14,0,14,23],[13,1,13,6],[15,1,15,23],[16,1,16,23],[17,13,17,15],[84,21,84,23],[19,0,19,23],[99,2,99,22],[100,2,100,22],[101,2,101,22],[98,2,98,22],[54,1,54,22],[55,1,55,22],[56,1,56,22],[57,1,57,22],[45,1,45,22],[46,1,46,22],[47,1,47,22],[48,1,48,22],[49,1,49,22],[50,1,50,22],[51,1,51,22],[53,1,53,22],[88,2,88,23],[89,2,89,23],[90,2,90,23],[91,2,91,23],[92,2,92,23],[91,0,91,1]]}
["CC1-3007"]
["「二十歳未満の者の飲酒防止に関する表示基準」の実施状況等報告書"]
[null,null,null,null,null,null,null,null,null,null,"※税務署整理欄",null,null,"局署番号",null,{"$f":"基本項目!I33","v":{"$error":"#N/A"}},null,null,"整理番号",null,{"$f":"基本項目!$E$28","v":{"$error":"#N/A"}}]
[{"$f":"基本項目!$E$4","v":"2024-02-15"},null,null,null,null,null,"報　　告　　者",{"$f":"\"（住所）〒\"&DBCS(基本項目!$E$8)","v":"（住所）〒"},null,null,null,null,null,null,null,null,null,null,null,null,null,"（電話）"]
[{"$f":"基本項目!$E$33&\" 税務署長  殿\"","v":{"$error":"#N/A"}},null,null,null,null,null,null,{"$f":"基本項目!$E$9","v":0},null,null,null,null,null,null,null,null,null,null,null,null,null,{"$f":"基本項目!E12","v":0}]
["101（店舗全体の面積）",null,null,null,null,null,null,"（氏名又は名称及び代表者氏名）"]
[{"$f":"ROUND(基本項目!$F$34,2)","v":{"$error":"#N/A"}},null,null,null,null,"㎡",null,{"$f":"基本項目!$E$10","v":0}]
[null,null,null,null,null,null,null,{"$f":"IF(基本項目!$E$13=\"\",\"\",基本項目!$E$13)","v":""}]
["102（酒類売場の面積）",null,null,null,null,null,null,"（酒類小売販売場の所在地及び名称）"]
[{"$f":"ROUND(基本項目!$K$34,2)","v":{"$error":"#N/A"}},null,null,null,null,"㎡",null,{"$f":"基本項目!$E$30","v":{"$error":"#N/A"}}]
[null,null,null,null,null,null,null,{"$f":"基本項目!$E$31","v":{"$error":"#N/A"}}]
["103（免許条件）",null,null,null,null,null,null,null,null,null,null,null,null,null,null,null,"104（営業時間）(注)24時間表記で記載してください。"]
[null,"小売業（卸小売兼業を含む）",null,null,null,null,null,null,null,null,null,null,null,null,null,null,{"$f":"基本項目!$E$35","v":{"$error":"#N/A"}},null,null,{"$f":"IF(Q13=\"24時間\",0,基本項目!$F$36)","v":{"$error":"#N/A"}},null,"～",{"$f":"IF(Q13=\"24時間\",0,基本項目!$K$36)","v":{"$error":"#N/A"}},null,{"$f":"IF(B13=\"\",0,VLOOKUP(B13,list等!E40:F42,2,FALSE))","v":2}]
[null,"期限付小売業の\n場合の免許期間",null,null,null,null,null,"00:00:00",null,null,null,"～","00:00:00",null,null,null,"（定休日:",null,{"$f":"基本項目!$K$35","v":{"$error":"#N/A"}},null,null,null,null,"）",{"$f":"IF(Q13=\"\",0,VLOOKUP(Q13,list等!E35:F37,2,FALSE))","v":{"$error":"#N/A"}}]
["105（酒類小売販売場の業態等の区分）"]
[null,{"$f":"基本項目!E16","v":0},null,null,null,null,null,null,null,null,null,null,null,null,null,null,null,null,null,null,null,null,null,null,{"$f":"IF(B16=0,0,VLOOKUP(B16,list等!$E$2:$F$9,2,FALSE))","v":0}]
[106,{"$f":"\"　\"&TEXT(DATE(報告年度+1,4,1),\"gggge年m月d日\")&\"現在、酒類の販売（売場のみではなく、通信販売等すべての酒類販売)を行っていない場合は、酒類の販売を行っていない理由を選択し、１及び２については、年月を記入してください。\n　酒類の販売を行っていない場合は、102及び107以降の項目については記載不要です。\"","v":"　令和6年4月1日現在、酒類の販売（売場のみではなく、通信販売等すべての酒類販売)を行っていない場合は、酒類の販売を行っていない理由を選択し、１及び２については、年月を記入してください。\n　酒類の販売を行っていない場合は、102及び107以降の項目については記載不要です。"}]
[null,null,null,null,null,null,null,null,null,null,null,null,null,"00:00:00",null,null,null,null,null,null,null,null,null,null,{"$f":"IF(B18=\"\",0,VLOOKUP(B18,list等!E89:F91,2,FALSE))","v":0}]
[{"$f":"\"　\"&TEXT(報告期間至+1,\"gggge年m月d日\")&\"現在（期限付酒類小売業免許を受けた者は上記の免許期間）における二十歳未満の者の飲酒防止に関する表示基準（以下「表示基準」という。）の実施状況、酒類販売管理者が行う助言等及び経営に関する情報について、酒税の保全及び酒類業組合等に関する法律第91条及び同法施行規則第11条の16の規定により報告します。また、酒類の適正な販売管理の確保のための取組状況及び自動販売機の設置状況等について併せて報告します。\"","v":"　令和6年4月1日現在（期限付酒類小売業免許を受けた者は上記の免許期間）における二十歳未満の者の飲酒防止に関する表示基準（以下「表示基準」という。）の実施状況、酒類販売管理者が行う助言等及び経営に関する情報について、酒税の保全及び酒類業組合等に関する法律第91条及び同法施行規則第11条の16の規定により報告します。また、酒類の適正な販売管理の確保のための取組状況及び自動販売機の設置状況等について併せて報告します。"}]
["《表示基準の実施状況》"]
["項　　　　　目",null,null,null,null,null,null,null,null,null,null,null,null,null,null,null,null,null,"区　分",null,null,"※税務署整理欄\n(実態確認状況)"]
["表示基準の実施状況等",null,"１\n","　酒類の陳列場所を設けて販売している。\n　「いいえ」に「○」を付した方は、次の(1)及び(2)の記載は不要です。",null,null,null,null,null,null,null,null,null,null,null,null,null,null,"は　い",null,null,107,"□ 適\n□ 不適",null,{"$f":"IF(S22=\"\",0,VLOOKUP(S22,list等!$E$45:$F$46,2,FALSE))","v":1}]
[null,null,null,"(1)\n\n","　酒類の陳列場所に、表示基準に則って「酒類の売場である」又は「酒類の陳列場所である」旨及び「20歳以上の年齢であることを確認できない場合には酒類を販売しない」旨の表示を行っている。",null,null,null,null,null,null,null,null,null,null,null,null,null,"は　い",null,null,108,"□ 適\n□ 不適",null,{"$f":"IF(S23=\"\",0,VLOOKUP(S23,list等!$E$45:$F$46,2,FALSE))","v":1}]
[null,null,null,"(2)\n\n\n"," 酒類の陳列場所が壁等により他の商品の陳列場所と明確に分離されていない場合は、明確に区分するための表示（「陳列されている商品が酒類である」旨及び「20歳以上の年齢であることを確認できない場合には酒類を販売しない」旨の表示を行っている。",null,null,null,null,null,null,null,null,null,null,null,null,null,"は　い",null,null,109,"□ 適\n□ 不適",null,{"$f":"IF(S24=\"\",0,VLOOKUP(S24,list等!$E$45:$F$46,2,FALSE))","v":1}]
[null,null,"２　酒類の通信販売（インターネットを含む）を行っている。",null,null,null,null,null,null,null,null,null,null,null,null,null,null,null,"いいえ",null,null,110,"□ 適\n□ 不適",null,{"$f":"IF(S25=\"\",0,VLOOKUP(S25,list等!$E$45:$F$46,2,FALSE))","v":2}]
[null,null,null,"(注)",1,"　この表示基準でいう「通信販売」とは、「通信販売酒類小売業免許」を付与されて行うものに限らず、一般酒類小売業者が免許条件の範囲内で行う通信販売を含み、商品の内容・価格などをカタログ、新聞折込チラシなどで提示し、郵便、電話、ファックスなどの方法で注文を受けて行う販売をいいます。"]
[null,null,null,null,2,"「いいえ」に「○」を付した方は、次の項目の記載は不要です。"]
[null,null,null,"　　インターネットで酒類の販売を行っている。",null,null,null,null,null,null,null,null,null,null,null,null,null,null,null,null,null,111,"□ 適\n□ 不適",null,{"$f":"IF(S28=\"\",0,VLOOKUP(S28,list等!$E$45:$F$46,2,FALSE))","v":0}]
[null,null,null,"　　酒類の通信販売（インターネットを含む）における広告、カタログ、申込書、\n　納品書等に、表示基準に則って「20歳未満の者に対しては酒類を販売しない」旨の\n　表示を行っている。",null,null,null,null,null,null,null,null,null,null,null,null,null,null,null,null,null,112,"□ 適\n□ 不適",null,{"$f":"IF(S29=\"\",0,VLOOKUP(S29,list等!$E$45:$F$46,2,FALSE))","v":0}]
[null,null,null,null,"酒類の購入申込書等に年齢記載欄を設けている。",null,null,null,null,null,null,null,null,null,null,null,null,null,null,null,null,113,"□ 適\n□ 不適",null,{"$f":"IF(S30=\"\",0,VLOOKUP(S30,list等!$E$45:$F$46,2,FALSE))","v":0}]
[null,null,"３　酒類の自動販売機を設置している。",null,null,null,null,null,null,null,null,null,null,null,null,null,null,null,{"$f":"IF(Y107=0,\"いいえ\",\"は　い\")","v":"いいえ"},null,null,114,"□ 適\n□ 不適",null,{"$f":"IF(S31=\"\",0,VLOOKUP(S31,list等!$E$45:$F$46,2,FALSE))","v":2}]
[null,null,null,"(注)","　酒類の自動販売機を設置している場合は、４面の《酒類の自動販売機に対する表示基準の実施状況等》にも記載してください。"]
[]
["※税務署整理欄",null,null,null,null,null,"入力年月日",null,null,null,null,null,null,null,null,null,null,null,"担当者"]
["《酒類販売管理者に関する事項》"]
["販売管理者関係",null,"１","　過去3年以内に酒類販売管理研修を受講した者のから酒類販売管理者を選任している。",null,null,null,null,null,null,null,null,null,null,null,null,null,null,{"$f":"IF(DATE(報告年度+1,4,1)-I39>365*3,\"いいえ\",\"は　い\")","v":{"$error":"#N/A"}},null,null,115,"□ 適\n□ 不適",null,{"$f":"IF(S36=\"\",0,VLOOKUP(S36,list等!$E$45:$F$46,2,FALSE))","v":{"$error":"#N/A"}}]
[null,null,null,null,"　右の区分で「はい」の場合は酒類販売管理者の氏名、年齢及び直近の酒類販売管理研修の受講年月日"]
[null,null,null,null,null,"氏　　　名",null,null,{"$f":"基本項目!$E$38","v":{"$error":"#N/A"}},null,null,null,null,null,{"$f":"基本項目!$E$40","v":{"$error":"#N/A"}}]
[null,null,null,null,null,"受講年月日",null,null,{"$f":"基本項目!$E$41","v":{"$error":"#N/A"}}]
[null,null,"2","　酒類販売管理者選任届出書を提出している。",null,null,null,null,null,null,null,null,null,null,null,null,null,null,"は　い",null,null,116,"□ 適\n□ 不適",null,{"$f":"IF(S40=\"\",0,VLOOKUP(S40,list等!$E$45:$F$46,2,FALSE))","v":1}]
[null,null,"3\n","　販売場の見やすい場所に酒類販売管理者の氏名や酒類販売管理研修の受講事績等を記載した標識を掲示している。",null,null,null,null,null,null,null,null,null,null,null,null,null,null,"は　い",null,null,117,"□ 適\n□ 不適",null,{"$f":"IF(S41=\"\",0,VLOOKUP(S41,list等!$E$45:$F$46,2,FALSE))","v":1}]
[null,null,"4\n\n\n","　酒類販売管理者は、酒類小売業者に対し、酒類の販売業務を行うに当たって遵守すべき法令（表示基準の遵守、20歳未満の者の飲酒防止等）に基づいた適正な販売管理の確保を図るための措置及び酒類の販売業務に従事する従業員等に対する指導が徹底されるための体制の整備に関する事項を助言している。",null,null,null,null,null,null,null,null,null,null,null,null,null,null,"は　い",null,null,118,"□ 適\n□ 不適",null,{"$f":"IF(S42=\"\",0,VLOOKUP(S42,list等!$E$45:$F$46,2,FALSE))","v":1}]
[null,null,"5\n\n","　酒類販売管理者は、酒類の販売業務に従事する従業員等に対し、酒類の販売業務を行うに当たって遵守すべき法令（表示基準の遵守、20歳未満の者の飲酒防止等）に関する事項について指導を行っている。",null,null,null,null,null,null,null,null,null,null,null,null,null,null,"は　い",null,null,119,"□ 適\n□ 不適",null,{"$f":"IF(S43=\"\",0,VLOOKUP(S43,list等!$E$45:$F$46,2,FALSE))","v":1}]
["≪経営に関する情報≫"]
[null,"\n\n\n\n　　　"]
[null,"　《経営に関する情報》は、酒類小売販売場単位の売上高等ではなく、個人または法人で行っている事業全体の売上高"]
[null,"等を記入してください。"]
[null,"　２以上の酒類小売販売場を有する場合には、次の酒類小売販売場から提出する報告書のみに記入してください。"]
[null,"　①　本店所在地（所得税又は法人税の納税地）に所在する酒類小売販売場"]
[null,"　②　①に該当しない場合　本店所在地の管轄税務署内のいずれかの酒類小売販売場"]
[null,"　③　①及び②に該当しない場合　本店所在地の都道府県内のいずれかの酒類小売販売場"]
[null,"　④　①、②及び③に該当しない場合　報告書を提出するいずれかの酒類小売販売場"]
[]
[null,{"$f":" \"　個人事業者の方は\"&TEXT(DATE(報告年度,1,1),\"gggge年m月d日\")&\"～\"&TEXT(DATE(報告年度,12,31),\"gggge年m月d日\")&\"の間に終了した事業年度について、損益項目を記載してください（千\"","v":"　個人事業者の方は令和5年1月1日～令和5年12月31日の間に終了した事業年度について、損益項目を記載してください（千"}]
[null,"円未満四捨五入、マイナスの場合は数字の前に△を付けてください）。また、従業員数については、事業年度末の従業員数"]
[null,"を記載してください。"]
[null,"　なお、期限付小売業の方、酒類の卸売業と小売業を兼業している方で酒類の販売数量に占める小売数量の割合が50%に満"]
[null,"たない場合は、記載不要です。"]
[]
["損益項目等",null,"従業員数(201)",null,null,null,null,null,null,null,{"$f":"IF(基本項目!$L$20=CELL(\"contents\",storTB),基本項目!$E$17,0)","v":0},null,null,null,null,"人","販売場ごとではなく、全ての従業員数（パートを含む）"]
[null,null,"総売上高（202）",null,null,null,null,null,null,null,{"$f":"IF(基本項目!$L$20=CELL(\"contents\",storTB),ROUND(基本項目!$E$18/1000,0)*1000,0)","v":0},null,null,null,null,"円","個人(青色申告)：青色申告決算書の①売上金額\n個人(白色申告)：収支内訳書の④収入金額の計\n法人：損益計算書の売上高"]
[null,null,null,"内酒類小売による売上高（203）",null,null,null,null,null,null,{"$f":"IF(基本項目!$L$20=CELL(\"contents\",storTB),ROUND(基本項目!$E$19/1000,0)*1000,0)","v":0},null,null,null,null,"円","「総売上高(202)」の内、酒類を販売した金額"]
[null,null,"売上総利益（204）",null,null,null,null,null,null,null,{"$f":"IF(基本項目!$L$20=CELL(\"contents\",storTB),ROUND(基本項目!$E$20/1000,0)*1000,0)","v":0},null,null,null,null,"円","個人(青色申告)：青色申告決算書の⑦差引金額\n個人(白色申告)：収支内訳書の⑩差引金額\n法人：損益計算書の売上総利益"]
[null,null,null,"内酒類小売による売上総利益（205）",null,null,null,null,null,null,{"$f":"IF(基本項目!$L$20=CELL(\"contents\",storTB),ROUND(基本項目!$E$21/1000,0)*1000,0)","v":0},null,null,null,null,"円","「売上総利益(204)」の内、酒類を販売した金額に係る売上総利益"]
[null,null,"営業利益（206）",null,null,null,null,null,null,null,{"$f":"IF(基本項目!$L$20=CELL(\"contents\",storTB),ROUND(基本項目!$E$22/1000,0)*1000,0)","v":0},null,null,null,null,"円","個人(青色申告)：青色申告決算書の33差引金額\n個人(白色申告)：収支内訳書の19専従者控除前の所得金額\n法人：損益計算書の営業利益"]
[null,null,null,"内酒類小売による営業利益（207）",null,null,null,null,null,null,{"$f":"IF(基本項目!$L$20=CELL(\"contents\",storTB),ROUND(基本項目!$E$23/1000,0)*1000,0)","v":0},null,null,null,null,"円","「営業利益(206)」の内、酒類を販売した金額に係る営業利益"]
[null,null,"税引前純利益（208）",null,null,null,null,null,null,null,{"$f":"IF(基本項目!$L$20=CELL(\"contents\",storTB),ROUND(基本項目!$E$24/1000,0)*1000,0)","v":0},null,null,null,null,"円","個人：所得税の確定申告書B(第一表)の⑨所得金額合計\n法人：損益計算書の税引前純利益"]
[null,null,"酒類に係る受取リベート（209）",null,null,null,null,null,null,null,{"$f":"IF(基本項目!$L$20=CELL(\"contents\",storTB),ROUND(基本項目!$E$25/1000,0)*1000,0)","v":0},null,null,null,null,"円"]
[]
["《酒類の適正な販売管理の確保のための取組状況》※任意記載事項ですが、記載していただくようお願いいたします。"]
["項　　　　　目",null,null,null,null,null,null,null,null,null,null,null,null,null,null,null,null,null,"区　分",null,null,"※税務署整理欄\n(実態確認状況)"]
["飲酒防止関係\n二十歳未満の者の",null,"1","　20歳未満と思われる者に対して、年齢確認を行っている。",null,null,null,null,null,null,null,null,null,null,null,null,null,null,"は　い",null,null,120,"□ 適\n□ 不適",null,{"$f":"IF(S72=\"\",0,VLOOKUP(S72,list等!$E$45:$F$46,2,FALSE))","v":1}]
[null,null,"2\n","　20歳未満の者の飲酒防止を啓発するための店内放送、店頭・売場等への表示、ポスターの掲示等を行っている。",null,null,null,null,null,null,null,null,null,null,null,null,null,null,"は　い",null,null,121,"□ 有\n□ 無",null,{"$f":"IF(S73=\"\",0,VLOOKUP(S73,list等!$E$45:$F$46,2,FALSE))","v":1}]
["防止関係\n飲酒運転",null,"1\n\n","　酒類の陳列場所、店頭、レジ等に「飲酒運転は禁止されている」旨の表示又は飲酒運転の防止に関するポスターの掲示を行っている等、飲酒運転防止のための取組を行っている。",null,null,null,null,null,null,null,null,null,null,null,null,null,null,"は　い",null,null,122,"□ 有\n□ 無",null,{"$f":"IF(S74=\"\",0,VLOOKUP(S74,list等!$E$45:$F$46,2,FALSE))","v":1}]
[null,null,"2\n","　自動車等で来店したと思われる者に対して「飲酒運転をしないように」といった一声運動を行っている。",null,null,null,null,null,null,null,null,null,null,null,null,null,null,"は　い",null,null,123,"□ 有\n□ 無",null,{"$f":"IF(S75=\"\",0,VLOOKUP(S75,list等!$E$45:$F$46,2,FALSE))","v":1}]
["リサイクル関係\n酒　類　容　器",null,"1\n","　リターナブルびん（ビールびんや清酒の一升びんなどの繰り返し使用されるびん）を使った酒類を販売している。",null,null,null,null,null,null,null,null,null,null,null,null,null,null,"は　い",null,null,124,"□ 有\n□ 無",null,{"$f":"IF(S76=\"\",0,VLOOKUP(S76,list等!$E$45:$F$46,2,FALSE))","v":1}]
[null,null,"2","　リターナブルびんの回収を行っている。",null,null,null,null,null,null,null,null,null,null,null,null,null,null,"は　い",null,null,125,"□ 有\n□ 無",null,{"$f":"IF(S77=\"\",0,VLOOKUP(S77,list等!$E$45:$F$46,2,FALSE))","v":1}]
[null,null,"3\n","　消費者が販売場に容器を持参した場合の回収マニュアルを定めており、これに基づき酒類容器のリサイクルに積極的に取り組んでいる。",null,null,null,null,null,null,null,null,null,null,null,null,null,null,"は　い",null,null,126,"□ 有\n□ 無",null,{"$f":"IF(S78=\"\",0,VLOOKUP(S78,list等!$E$45:$F$46,2,FALSE))","v":1}]
[null,null,"4\n","　酒類の陳列場所、店頭、レジ等に「リターナブルびんの回収を行っている」旨の表示を行っている。",null,null,null,null,null,null,null,null,null,null,null,null,null,null,"は　い",null,null,127,"□ 有\n□ 無",null,{"$f":"IF(S79=\"\",0,VLOOKUP(S79,list等!$E$45:$F$46,2,FALSE))","v":1}]
["酒関係\n適正飲",null,"　適正飲酒を啓発するための店内放送、店頭・売場等への表示、ポスターの掲示等を行っている。",null,null,null,null,null,null,null,null,null,null,null,null,null,null,null,"は　い",null,null,128,"□ 有\n□ 無",null,{"$f":"IF(S80=\"\",0,VLOOKUP(S80,list等!$E$45:$F$46,2,FALSE))","v":1}]
["酒類販売管理者に代わる責任者",null,"《酒類販売管理者に代わる責任者の人数》　129　総数：",null,null,null,null,null,null,null,null,null,null,{"$f":"8-(COUNTIF(C84:C87,\"\")+COUNTIF(O84:O87,\"\"))","v":8},null,"名"]
[null,null,"《酒類販売管理者に代わる責任者の氏名・指名の基準》"]
[null,null,"氏　　名",null,null,null,null,null,null,"年齢",null,"指名の基準(注)",null,null,"氏　　名",null,null,null,null,"年齢",null,"指名の基準(注)"]
[null,null,{"$f":"基本項目!$E$43","v":{"$error":"#N/A"}},null,null,null,null,null,null,{"$f":"基本項目!$H$43","v":{"$error":"#N/A"}},null,{"$f":"基本項目!$I$43","v":{"$error":"#N/A"}},null,null,{"$f":"基本項目!$E$44","v":{"$error":"#N/A"}},null,null,null,null,{"$f":"基本項目!$H$44","v":{"$error":"#N/A"}},null,{"$f":"基本項目!$I$44","v":{"$error":"#N/A"}}]
[null,null,{"$f":"基本項目!$E$45","v":{"$error":"#N/A"}},null,null,null,null,null,null,{"$f":"基本項目!$H$45","v":{"$error":"#N/A"}},null,{"$f":"基本項目!$I$45","v":{"$error":"#N/A"}},null,null,{"$f":"基本項目!$E$46","v":{"$error":"#N/A"}},null,null,null,null,{"$f":"基本項目!$H$46","v":{"$error":"#N/A"}},null,{"$f":"基本項目!$I$46","v":{"$error":"#N/A"}}]
[null,null,{"$f":"基本項目!$E$47","v":{"$error":"#N/A"}},null,null,null,null,null,null,{"$f":"基本項目!$H$47","v":{"$error":"#N/A"}},null,{"$f":"基本項目!$I$46","v":{"$error":"#N/A"}},null,null,{"$f":"基本項目!$E$48","v":{"$error":"#N/A"}},null,null,null,null,{"$f":"基本項目!$H$48","v":{"$error":"#N/A"}},null,{"$f":"基本項目!$I$48","v":{"$error":"#N/A"}}]
[null,null,{"$f":"基本項目!$E$49","v":{"$error":"#N/A"}},null,null,null,null,null,null,{"$f":"基本項目!$H$49","v":{"$error":"#N/A"}},null,{"$f":"基本項目!$I$49","v":{"$error":"#N/A"}},null,null,{"$f":"基本項目!$E$50","v":{"$error":"#N/A"}},null,null,null,null,{"$f":"基本項目!$H$50","v":{"$error":"#N/A"}},null,{"$f":"基本項目!$I$50","v":{"$error":"#N/A"}}]
["（注）「指名の基準」欄には、次の《責任者の指名の基準》のいずれかに該当する番号を記載してください。"]
["番　号",null,"基　　　　準"]
[1,null,"夜間(23時から翌日５時)において、酒類の販売を行う場合(成年者の指名をお願いします。)"]
[2,null,"酒類販売管理者が常態として、その選任された販売場に長時間(２～３時間以上)不在となることがある場合"]
[3,null,"酒類売場の面積が著しく大きい場合(100平方メートルを超えるごとに、１名以上の責任者を指名)"]
[4,null,"同一建物内において酒類売場を設置している階が複数ある場合(酒類販売管理者のいない各階ごとに、１名以上の責任者を指名)"]
[5,null,"同一の階にある複数の酒類売場が著しく離れている場合(20メートル以上離れている場合)"]
[6,null,"複数の酒類売場が著しく離れていない場合であっても、同一の階において酒類売場の点在が著しい場合(３箇所以上ある場合)"]
[7,null,"その他酒類販売管理者のみでは酒類の適正な販売管理の確保が困難と認められる場合"]
[null,"【　記　載　要　領　】"]
[null,"1","　酒類小売業者の方は、その年の４月１日現在（期限付小売業者の方はその免許期間）における表示基準の実施状況等に"]
[null,null,"ついて、酒類小売販売場ごとにこの報告書を作成し、４月30日まで（期限付小売業者の方は、販売期間終了後から１週間"]
[null,null,"以内）に販売場を所轄する税務署に提出してください。"]
[null,"2","　２面の≪経営に関する情報≫については、個人事業者の方は前年分、法人の方は前年１月１日～12月31日の間に終了し"]
[null,null,"た事業年度分の損益項目を記載してください。"]
[null,"2","　該当する「番号」、「はい」・「いいえ」、「有」・「無」等に○印を付してください。"]
[null,"3","　「※　税務署整理欄」には、何も記載しないでください。"]
[]
["《酒類の自動販売機に対する表示基準の実施状況等》"]
["順　　　　　　号",null,null,null,null,null,null,null,null,null,null,null,null,null,null,null,null,null,null,null,null,"※税務署整理欄\n(実態確認状況)",null,null,{"$f":"SUM(Y108:AB123)+IF(OR(Y118=TRUE,Z118=TRUE,AA118=TRUE),1,0)","v":0}]
["自動販売機の設置年月",null,null,null,null,null,null,null,null,"00:00:00",null,null,"00:00:00",null,null,"00:00:00",null,null,"00:00:00",null,null,2,null,null,{"$f":"IF(J108>0,VLOOKUP(TEXT(J108,\"gggg\"),元号ＴＢ,2,FALSE),0)","v":0},{"$f":"IF(M108>0,VLOOKUP(TEXT(M108,\"gggg\"),元号ＴＢ,2,FALSE),0)","v":0},{"$f":"IF(P108>0,VLOOKUP(TEXT(P108,\"gggg\"),元号ＴＢ,2,FALSE),0)","v":0},{"$f":"IF(S108>0,VLOOKUP(TEXT(S108,\"gggg\"),元号ＴＢ,2,FALSE),0)","v":0}]
["自動販売機の種類",null,null,null,null,null,null,null,null,null,null,null,null,null,null,null,null,null,null,null,null,3,null,null,{"$f":"IF(J109=\"\",0,VLOOKUP(J109,list等!$E$49:$F$50,2,FALSE))","v":0},{"$f":"IF(M109=\"\",0,VLOOKUP(M109,list等!$E$49:$F$50,2,FALSE))","v":0},{"$f":"IF(P109=\"\",0,VLOOKUP(P109,list等!$E$49:$F$50,2,FALSE))","v":0},{"$f":"IF(S109=\"\",0,VLOOKUP(S109,list等!$E$49:$F$50,2,FALSE))","v":0}]
["自動販売機の設置位置",null,null,null,null,null,null,null,null,null,null,null,null,null,null,null,null,null,null,null,null,4,null,null,{"$f":"IF(J110=\"\",0,VLOOKUP(J110,list等!$E$53:$F$54,2,FALSE))","v":0},{"$f":"IF(M110=\"\",0,VLOOKUP(M110,list等!$E$53:$F$54,2,FALSE))","v":0},{"$f":"IF(P110=\"\",0,VLOOKUP(P110,list等!$E$53:$F$54,2,FALSE))","v":0},{"$f":"IF(S110=\"\",0,VLOOKUP(S110,list等!$E$53:$F$54,2,FALSE))","v":0}]
["表示基準の実施状況等\n酒類自動販売機に係る",null,"20歳未満の者の飲酒は\n禁止されている旨",null,null,null,null,null,null,null,null,null,null,null,null,null,null,null,null,null,null,5,"□ 適\n□ 不適",null,{"$f":"IF(J111=\"\",0,VLOOKUP(J111,list等!$E$57:$F$58,2,FALSE))","v":0},{"$f":"IF(M111=\"\",0,VLOOKUP(M111,list等!$E$57:$F$58,2,FALSE))","v":0},{"$f":"IF(P111=\"\",0,VLOOKUP(P111,list等!$E$57:$F$58,2,FALSE))","v":0},{"$f":"IF(S111=\"\",0,VLOOKUP(S111,list等!$E$57:$F$58,2,FALSE))","v":0}]
[null,null,"免許者の氏名又は名称",null,null,null,null,null,null,null,null,null,null,null,null,null,null,null,null,null,null,6,"□ 適\n□ 不適",null,{"$f":"IF(J112=\"\",0,VLOOKUP(J112,list等!$E$57:$F$58,2,FALSE))","v":0},{"$f":"IF(M112=\"\",0,VLOOKUP(M112,list等!$E$57:$F$58,2,FALSE))","v":0},{"$f":"IF(P112=\"\",0,VLOOKUP(P112,list等!$E$57:$F$58,2,FALSE))","v":0},{"$f":"IF(S112=\"\",0,VLOOKUP(S112,list等!$E$57:$F$58,2,FALSE))","v":0}]
[null,null,"酒類販売管理者の氏名",null,null,null,null,null,null,null,null,null,null,null,null,null,null,null,null,null,null,7,"□ 適\n□ 不適",null,{"$f":"IF(J113=\"\",0,VLOOKUP(J113,list等!$E$57:$F$58,2,FALSE))","v":0},{"$f":"IF(M113=\"\",0,VLOOKUP(M113,list等!$E$57:$F$58,2,FALSE))","v":0},{"$f":"IF(P113=\"\",0,VLOOKUP(P113,list等!$E$57:$F$58,2,FALSE))","v":0},{"$f":"IF(S113=\"\",0,VLOOKUP(S113,list等!$E$57:$F$58,2,FALSE))","v":0}]
[null,null,"連絡先の所在地及び電話番号",null,null,null,null,null,null,null,null,null,null,null,null,null,null,null,null,null,null,8,"□ 適\n□ 不適",null,{"$f":"IF(J114=\"\",0,VLOOKUP(J114,list等!$E$57:$F$58,2,FALSE))","v":0},{"$f":"IF(M114=\"\",0,VLOOKUP(M114,list等!$E$57:$F$58,2,FALSE))","v":0},{"$f":"IF(P114=\"\",0,VLOOKUP(P114,list等!$E$57:$F$58,2,FALSE))","v":0},{"$f":"IF(S114=\"\",0,VLOOKUP(S114,list等!$E$57:$F$58,2,FALSE))","v":0}]
[null,null,"販売停止時間",null,null,null,null,null,null,null,null,null,null,null,null,null,null,null,null,null,null,9,"□ 適\n□ 不適",null,{"$f":"IF(J115=\"\",0,VLOOKUP(J115,list等!$E$57:$F$58,2,FALSE))","v":0},{"$f":"IF(M115=\"\",0,VLOOKUP(M115,list等!$E$57:$F$58,2,FALSE))","v":0},{"$f":"IF(P115=\"\",0,VLOOKUP(P115,list等!$E$57:$F$58,2,FALSE))","v":0},{"$f":"IF(S115=\"\",0,VLOOKUP(S115,list等!$E$57:$F$58,2,FALSE))","v":0}]
["販売機の撤廃予定の状況等\n店外の改良型以外の酒類自動",null,"(1) 撤廃の予定等を次から１つ\n　選択し記号を○で囲んでくだ\n　さい。",null,null,null,null,null,null,null,null,null,null,null,null,null,null,null,null,null,null,10,null,null,{"$f":"IF(J116=\"\",0,VLOOKUP(J116,list等!$E$61:$F$64,2,FALSE))","v":0},{"$f":"IF(M116=\"\",0,VLOOKUP(M116,list等!$E$61:$F$64,2,FALSE))","v":0},{"$f":"IF(P116=\"\",0,VLOOKUP(P116,list等!$E$61:$F$64,2,FALSE))","v":0},{"$f":"IF(S116=\"\",0,VLOOKUP(S116,list等!$E$61:$F$64,2,FALSE))","v":0}]
[null,null,"(2) (1)で｢ｲ｣又は｢ﾛ｣を選択した\n　場合には撤廃予定日又は改良\n　型への切替予定日を記載して\n　ください。",null,null,null,null,null,null,"00:00:00",null,null,"00:00:00",null,null,"00:00:00",null,null,"00:00:00",null,null,11,null,null,{"$f":"IF(J117>0,VLOOKUP(TEXT(J117,\"gggg\"),元号ＴＢ,2,FALSE),0)","v":0},{"$f":"IF(M117>0,VLOOKUP(TEXT(M117,\"gggg\"),元号ＴＢ,2,FALSE),0)","v":0},{"$f":"IF(P117>0,VLOOKUP(TEXT(P117,\"gggg\"),元号ＴＢ,2,FALSE),0)","v":0},{"$f":"IF(S117>0,VLOOKUP(TEXT(S117,\"gggg\"),元号ＴＢ,2,FALSE),0)","v":0}]
[null,null,"(3) (1)で｢ﾆ｣を選択した場合に\n　は撤廃しない具体的な理由を\n　右欄から選択し記号を○で囲\n　んでください。",null,null,null,null,null,null,null,null,null,null,null,null,null,null,null,null,null,null,12,null,null,false,false,false]
[null,null,null,null,null,null,null,null,null,"具体的に"]
["遵守しない理由\n表示基準を",null,"(1) 表示基準を遵守しない場合\n　その理由を次から１つ選択し\n　記号を○で囲んでください。",null,null,null,null,null,null,null,null,null,null,null,null,null,null,null,null,null,null,13,null,null,{"$f":"IF(J120=\"\",0,VLOOKUP(J120,list等!$E$67:$F$70,2,FALSE))","v":0},{"$f":"IF(M120=\"\",0,VLOOKUP(M120,list等!$E$67:$F$70,2,FALSE))","v":0},{"$f":"IF(P120=\"\",0,VLOOKUP(P120,list等!$E$67:$F$70,2,FALSE))","v":0},{"$f":"IF(S120=\"\",0,VLOOKUP(S120,list等!$E$67:$F$70,2,FALSE))","v":0}]
[null,null,"(2) 表示基準を遵守した表示を\n　行う予定日を記載してくださ\n　い。",null,null,null,null,null,null,"00:00:00",null,null,"00:00:00",null,null,"00:00:00",null,null,"00:00:00",null,null,14,null,null,{"$f":"IF(J121>0,VLOOKUP(TEXT(J121,\"gggg\"),元号ＴＢ,2,FALSE),0)","v":0},{"$f":"IF(M121>0,VLOOKUP(TEXT(M121,\"gggg\"),元号ＴＢ,2,FALSE),0)","v":0},{"$f":"IF(P121>0,VLOOKUP(TEXT(P121,\"gggg\"),元号ＴＢ,2,FALSE),0)","v":0},{"$f":"IF(S121>0,VLOOKUP(TEXT(S121,\"gggg\"),元号ＴＢ,2,FALSE),0)","v":0}]
["販売停止等のための\nタイマーの設置の有無",null,null,null,null,null,null,null,null,null,null,null,null,null,null,null,null,null,null,null,null,15,"□ 適\n□ 不適",null,{"$f":"IF(J122=\"\",0,VLOOKUP(J122,list等!$E$57:$F$58,2,FALSE))","v":0},{"$f":"IF(M122=\"\",0,VLOOKUP(M122,list等!$E$57:$F$58,2,FALSE))","v":0},{"$f":"IF(P122=\"\",0,VLOOKUP(P122,list等!$E$57:$F$58,2,FALSE))","v":0},{"$f":"IF(S122=\"\",0,VLOOKUP(S122,list等!$E$57:$F$58,2,FALSE))","v":0}]
["セレクトボタン部分への\n酒類である旨の表示の有無",null,null,null,null,null,null,null,null,null,null,null,null,null,null,null,null,null,null,null,null,16,"□ 適\n□ 不適",null,{"$f":"IF(J123=\"\",0,VLOOKUP(J123,list等!$E$57:$F$58,2,FALSE))","v":0},{"$f":"IF(M123=\"\",0,VLOOKUP(M123,list等!$E$57:$F$58,2,FALSE))","v":0},{"$f":"IF(P123=\"\",0,VLOOKUP(P123,list等!$E$57:$F$58,2,FALSE))","v":0},{"$f":"IF(S123=\"\",0,VLOOKUP(S123,list等!$E$57:$F$58,2,FALSE))","v":0}]
[]
["※　税務署整理欄","1\n","　「自動販売機の種類」欄は、設置している自動販売機が改良型自動販売機である場合には「改良型」を、改良型以外の自動販売機である場合は「改良型以外」を○で囲んでください。"]
[null,"【注】　",null,"　改良型自動販売機とは、対面交付した磁気カードや運転免許証を読み取ることによって稼働可能となる等、20歳未満の者による酒類の購入を防止することが可能と認められる自動販売機をいいます（現行の酒類自動販売機にカードや運転免許証の読み取り装置等を装着することにより、同様の機能を有することとなるものを含みます。）。"]
[null,"2\n\n\n","　「自動販売機の設置位置」欄は、設置している酒類の自動販売機が、店舗の屋内に設置され店内に入らなければ購入することができない状態となっている場合には「店内」を、それ以外の場合には「店外」を○で囲んでください（例：店舗の敷地内であっても屋外に設置されている場合には「店外」となります。）。"]
[null,"3\n\n\n","　「店外の改良型以外の酒類自動販売機の撤廃予定の状況等」欄の(1)は、店外に改良型以外の酒類の自動販売機を設置している場合に、その撤廃予定の状況等をイからニのうちの一つを選択し、記載欄の該当箇所を○で囲んでください。"]
[null,"【参考】",null,"　全国小売酒販組合中央会は、平成７年５月に、平成12年５月を期限とする現行の酒類自動販売機の撤廃決議を行い、国税庁としても、平成７年７月に「酒類自動販売機に係る取扱指針」を制定し、酒類販売業者に対して、新たに酒類自動販売機を設置する場合においては、改良型自動販売機以外は設置しない、また改良型自動販売機以外の酒類自動販売機については、撤廃又は改良型自動販売機への切換えを行うよう必要な助言を行ってきています。"]

{"sheet":"list等","index":5,"n_rows":525,"n_cols":9,"rows_kept":525,"cut":false,"hidden":true,"merged":[]}
["税務署名","番号","都道府県",null,"業態区分","番号",null,"販売数量条件式"]
["麹町","01101","東京都",null,"１：一般酒販店(酒屋、酒類専門店等)",1,null,"店舗番号","酒類"]
["神田","01103","東京都",null,"２：コンビニエンスストア",2,null,{"$f":"基本項目!$L$20","v":0},"清酒"]
["日本橋","01105","東京都",null,"３：スーパーマーケット",3,null,"店舗番号","酒類"]
["京橋","01107","東京都",null,"４：百貨店",4,null,{"$f":"基本項目!$L$20","v":0},"合成清酒"]
["芝","01109","東京都",null,"５：１～４以外の量販店(ディスカウントストア等)",5,null,"店舗番号","酒類"]
["四谷","01111","東京都",null,"６A：業務用卸主体店",6,null,{"$f":"基本項目!$L$20","v":0},"連続式蒸留焼酎"]
["麻布","01113","東京都",null,"６B：ホームセンター・ドラッグストア",7,null,"店舗番号","酒類"]
["小石川","01115","東京都",null,"６C：その他(生活協同組合、農業協同組合、ギフトショップ、ピザ宅配店、弁当・惣菜店、果物店、生花店、菓子店等)",8,null,{"$f":"基本項目!$L$20","v":0},"単式蒸留焼酎"]
["本郷","01117","東京都",null,null,null,null,"店舗番号","酒類"]
["東京上野","01119","東京都",null,null,null,null,{"$f":"基本項目!$L$20","v":0},"みりん"]
["浅草","01121","東京都",null,"酒類区分",null,null,"店舗番号","酒類"]
["品川","01123","東京都",null,"清酒",null,null,{"$f":"基本項目!$L$20","v":0},"ビール"]
["荏原","01125","東京都",null,"合成清酒",null,null,"店舗番号","酒類"]
["大森","01127","東京都",null,"連続式蒸留焼酎",null,null,{"$f":"基本項目!$L$20","v":0},"果実酒"]
["雪谷","01129","東京都",null,"単式蒸留焼酎",null,null,"店舗番号","酒類"]
["蒲田","01131","東京都",null,"みりん",null,null,{"$f":"基本項目!$L$20","v":0},"甘味果実酒"]
["世田谷","01133","東京都",null,"ビール",null,null,"店舗番号","酒類"]
["北沢","01135","東京都",null,"果実酒",null,null,{"$f":"基本項目!$L$20","v":0},"ウイスキー"]
["玉川","01137","東京都",null,"甘味果実酒",null,null,"店舗番号","酒類"]
["目黒","01139","東京都",null,"ウイスキー",null,null,{"$f":"基本項目!$L$20","v":0},"ブランデー"]
["渋谷","01141","東京都",null,"ブランデー",null,null,"店舗番号","酒類"]
["新宿","01143","東京都",null,"原料用アルコール",null,null,{"$f":"基本項目!$L$20","v":0},"原料用アルコール"]
["中野","01145","東京都",null,"発泡酒",null,null,"店舗番号","酒類"]
["杉並","01147","東京都",null,"その他の醸造酒",null,null,{"$f":"基本項目!$L$20","v":0},"発泡酒"]
["荻窪","01149","東京都",null,"スピリッツ",null,null,"店舗番号","酒類"]
["板橋","01151","東京都",null,"リキュール",null,null,{"$f":"基本項目!$L$20","v":0},"その他の醸造酒"]
["練馬東","01155","東京都",null,"雑酒",null,null,"店舗番号","酒類"]
["練馬西","01157","東京都",null,"粉末酒",null,null,{"$f":"基本項目!$L$20","v":0},"スピリッツ"]
["豊島","01159","東京都",null,null,null,null,"店舗番号","酒類"]
["王子","01161","東京都",null,"研修受講済区分","番号",null,{"$f":"基本項目!$L$20","v":0},"リキュール"]
["荒川","01163","東京都",null,"受講済",1,null,"店舗番号","酒類"]
["足立","01165","東京都",null,"未受講",2,null,{"$f":"基本項目!$L$20","v":0},"雑酒"]
["西新井","01167","東京都",null,null,null,null,"店舗番号","酒類"]
["本所","01169","東京都",null,"営業時間区分","番号",null,{"$f":"基本項目!$L$20","v":0},"粉末酒"]
["向島","01171","東京都",null,"24時間以外",1]
["葛飾","01173","東京都",null,"24時間",2]
["江戸川北","01175","東京都"]
["江戸川南","01177","東京都",null,"免許条件区分","番号"]
["江東西","01179","東京都",null,"製造",1]
["江東東","01181","東京都",null,"小売業（卸小売兼業を含む）",2]
["青梅","01183","東京都",null,"期限付小売業",3]
["八王子","01185","東京都"]
["日野","01187","東京都",null,"はいいいえ区分","番号"]
["町田","01189","東京都",null,"は　い",1]
["立川","01191","東京都",null,"いいえ",2]
["東村山","01193","東京都"]
["武蔵野","01197","東京都",null,"自動販売機種類区分","番号"]
["武蔵府中","01199","東京都",null,"改良型",1]
["横浜中","01201","神奈川県",null,"改良型以外",2]
["横浜南","01203","神奈川県"]
["保土ケ谷","01207","神奈川県",null,"自動販売機設置区分","番号"]
["戸塚","01209","神奈川県",null,"店内",1]
["神奈川","01211","神奈川県",null,"店外",2]
["緑","01213","神奈川県"]
["鶴見","01215","神奈川県",null,"有無区分","番号"]
["川崎南","01217","神奈川県",null,"有",1]
["川崎北","01219","神奈川県",null,"無",2]
["川崎西","01221","神奈川県"]
["横須賀","01223","神奈川県",null,"撤廃予定区分","番号"]
["鎌倉","01225","神奈川県",null,"イ 早急に撤廃予定",1]
["藤沢","01227","神奈川県",null,"ロ 早急に改良型に切替予定",2]
["平塚","01229","神奈川県",null,"ハ 稼動させていない",3]
["厚木","01231","神奈川県",null,"ニ 撤廃する予定はない",4]
["大和","01233","神奈川県"]
["相模原","01235","神奈川県",null,"表示基準を遵守しない区分","番号"]
["小田原","01237","神奈川県",null,"イ 基準を知らなかった",1]
["千葉東","01301","千葉県",null,"ロ 基準を理解していなかった気付かなかった",2]
["千葉西","01303","千葉県",null,"ハ 表示し忘れていた",3]
["千葉南","01305","千葉県",null,"ニ 消えていたことに気付かなかった",4]
["成田","01307","千葉県"]
["松戸","01309","千葉県",null,"元号区分","番号"]
["柏","01313","千葉県",null,"明治",1]
["市川","01315","千葉県",null,"大正",2]
["船橋","01317","千葉県",null,"昭和",3]
["佐原","01319","千葉県",null,"平成",4]
["銚子","01321","千葉県",null,"令和",5]
["東金","01323","千葉県",null,"＜新年号用＞",6]
["茂原","01325","千葉県"]
["木更津","01327","千葉県",null,"税理士個人法人区分","番号"]
["館山","01329","千葉県",null,"個人",1]
["甲府","01401","山梨県",null,"税理士法人",2]
["山梨","01403","山梨県"]
["鰍沢","01405","山梨県",null,"提出区分","番号"]
["大月","01407","山梨県",null,"提出済",1]
["浦和","02101","埼玉県",null,"未提出",2]
["朝霞","02103","埼玉県"]
["大宮","02105","埼玉県",null,"現在の営業状態区分","番号"]
["上尾","02107","埼玉県",null,"1　右の年月以降販売予定",1]
["川口","02109","埼玉県",null,"2　右の年月まで販売していたが現在販売していない",2]
["西川口","02111","埼玉県",null,"3　その他",3]
["川越","02113","埼玉県"]
["所沢","02117","埼玉県"]
["東松山","02121","埼玉県"]
["秩父","02123","埼玉県"]
["熊谷","02125","埼玉県"]
["本庄","02127","埼玉県"]
["行田","02129","埼玉県"]
["春日部","02131","埼玉県"]
["越谷","02135","埼玉県"]
["水戸","02201","茨城県"]
["太田","02203","茨城県"]
["日立","02205","茨城県"]
["潮来","02207","茨城県"]
["竜ケ崎","02209","茨城県"]
["土浦","02211","茨城県"]
["下館","02213","茨城県"]
["古河","02215","茨城県"]
["宇都宮","02301","栃木県"]
["鹿沼","02303","栃木県"]
["真岡","02305","栃木県"]
["栃木","02307","栃木県"]
["大田原","02309","栃木県"]
["氏家","02311","栃木県"]
["足利","02313","栃木県"]
["佐野","02315","栃木県"]
["前橋","02401","群馬県"]
["伊勢崎","02403","群馬県"]
["高崎","02405","群馬県"]
["藤岡","02407","群馬県"]
["富岡","02409","群馬県"]
["中之条","02411","群馬県"]
["沼田","02413","群馬県"]
["桐生","02415","群馬県"]
["館林","02417","群馬県"]
["長野","02501","長野県"]
["佐久","02503","長野県"]
["上田","02505","長野県"]
["諏訪","02507","長野県"]
["伊那","02509","長野県"]
["飯田","02511","長野県"]
["木曽","02513","長野県"]
["松本","02515","長野県"]
["大町","02517","長野県"]
["信濃中野","02519","長野県"]
["新潟","02601","新潟県"]
["新津","02603","新潟県"]
["新発田","02605","新潟県"]
["巻","02607","新潟県"]
["三条","02609","新潟県"]
["長岡","02611","新潟県"]
["小千谷","02613","新潟県"]
["十日町","02615","新潟県"]
["柏崎","02617","新潟県"]
["高田","02619","新潟県"]
["糸魚川","02621","新潟県"]
["村上","02623","新潟県"]
["佐渡","02625","新潟県"]
["東","03101","大阪府"]
["西","03103","大阪府"]
["港","03105","大阪府"]
["南","03107","大阪府"]
["浪速","03109","大阪府"]
["天王寺","03111","大阪府"]
["北","03113","大阪府"]
["大阪福島","03115","大阪府"]
["西淀川","03119","大阪府"]
["生野","03121","大阪府"]
["東成","03123","大阪府"]
["旭","03125","大阪府"]
["城東","03127","大阪府"]
["阿倍野","03129","大阪府"]
["東住吉","03131","大阪府"]
["西成","03133","大阪府"]
["住吉","03135","大阪府"]
["大淀","03137","大阪府"]
["東淀川","03139","大阪府"]
["茨木","03141","大阪府"]
["吹田","03143","大阪府"]
["豊能","03145","大阪府"]
["堺","03149","大阪府"]
["泉大津","03153","大阪府"]
["岸和田","03155","大阪府"]
["泉佐野","03157","大阪府"]
["富田林","03159","大阪府"]
["東大阪","03161","大阪府"]
["八尾","03163","大阪府"]
["枚方","03165","大阪府"]
["門真","03169","大阪府"]
["上京","03201","京都府"]
["中京","03203","京都府"]
["下京","03205","京都府"]
["右京","03207","京都府"]
["東山","03209","京都府"]
["左京","03211","京都府"]
["伏見","03213","京都府"]
["宇治","03215","京都府"]
["園部","03217","京都府"]
["福知山","03219","京都府"]
["宮津","03221","京都府"]
["舞鶴","03223","京都府"]
["峰山","03225","京都府"]
["神戸","03301","兵庫県"]
["灘","03303","兵庫県"]
["須磨","03305","兵庫県"]
["兵庫","03307","兵庫県"]
["長田","03309","兵庫県"]
["西宮","03311","兵庫県"]
["芦屋","03313","兵庫県"]
["伊丹","03315","兵庫県"]
["尼崎","03317","兵庫県"]
["明石","03319","兵庫県"]
["三木","03321","兵庫県"]
["社","03323","兵庫県"]
["西脇","03325","兵庫県"]
["加古川","03327","兵庫県"]
["姫路","03329","兵庫県"]
["龍野","03333","兵庫県"]
["相生","03335","兵庫県"]
["豊岡","03337","兵庫県"]
["和田山","03341","兵庫県"]
["柏原","03343","兵庫県"]
["洲本","03345","兵庫県"]
["奈良","03401","奈良県"]
["葛城","03405","奈良県"]
["桜井","03407","奈良県"]
["吉野","03409","奈良県"]
["和歌山","03501","和歌山県"]
["粉河","03503","和歌山県"]
["海南","03505","和歌山県"]
["湯浅","03507","和歌山県"]
["御坊","03509","和歌山県"]
["田辺","03511","和歌山県"]
["新宮","03513","和歌山県"]
["大津","03601","滋賀県"]
["草津","03603","滋賀県"]
["水口","03605","滋賀県"]
["近江八幡","03607","滋賀県"]
["彦根","03609","滋賀県"]
["長浜","03611","滋賀県"]
["今津","03613","滋賀県"]
["札幌中","04101","北海道"]
["札幌西","04103","北海道"]
["札幌北","04105","北海道"]
["札幌東","04106","北海道"]
["札幌南","04107","北海道"]
["函館","04111","北海道"]
["江差","04113","北海道"]
["八雲","04115","北海道"]
["小樽","04117","北海道"]
["余市","04119","北海道"]
["倶知安","04121","北海道"]
["岩見沢","04123","北海道"]
["滝川","04127","北海道"]
["深川","04129","北海道"]
["旭川中","04131","北海道"]
["旭川東","04133","北海道"]
["富良野","04135","北海道"]
["名寄","04137","北海道"]
["留萌","04139","北海道"]
["稚内","04141","北海道"]
["室蘭","04143","北海道"]
["浦河","04145","北海道"]
["苫小牧","04147","北海道"]
["網走","04149","北海道"]
["紋別","04151","北海道"]
["北見","04153","北海道"]
["釧路","04155","北海道"]
["帯広","04157","北海道"]
["十勝池田","04159","北海道"]
["根室","04161","北海道"]
["仙台北","05101","宮城県"]
["仙台中","05103","宮城県"]
["仙台南","05105","宮城県"]
["塩釜","05107","宮城県"]
["古川","05109","宮城県"]
["築館","05111","宮城県"]
["佐沼","05113","宮城県"]
["石巻","05115","宮城県"]
["気仙沼","05117","宮城県"]
["大河原","05119","宮城県"]
["盛岡","05201","岩手県"]
["花巻","05203","岩手県"]
["水沢","05205","岩手県"]
["一関","05207","岩手県"]
["大船渡","05209","岩手県"]
["釜石","05211","岩手県"]
["宮古","05213","岩手県"]
["久慈","05215","岩手県"]
["二戸","05217","岩手県"]
["福島","05301","福島県"]
["二本松","05303","福島県"]
["郡山","05305","福島県"]
["須賀川","05307","福島県"]
["田島","05309","福島県"]
["会津若松","05311","福島県"]
["喜多方","05313","福島県"]
["白河","05317","福島県"]
["いわき","05319","福島県"]
["相馬","05321","福島県"]
["秋田南","05401","秋田県"]
["秋田北","05403","秋田県"]
["大館","05405","秋田県"]
["能代","05409","秋田県"]
["本荘","05411","秋田県"]
["大曲","05413","秋田県"]
["横手","05415","秋田県"]
["湯沢","05417","秋田県"]
["青森","05501","青森県"]
["弘前","05505","青森県"]
["黒石","05507","青森県"]
["五所川原","05509","青森県"]
["十和田","05511","青森県"]
["むつ","05513","青森県"]
["八戸","05515","青森県"]
["山形","05601","山形県"]
["寒河江","05603","山形県"]
["村山","05605","山形県"]
["新庄","05607","山形県"]
["酒田","05609","山形県"]
["鶴岡","05611","山形県"]
["長井","05613","山形県"]
["米沢","05615","山形県"]
["名古屋中","06101","愛知県"]
["名古屋東","06103","愛知県"]
["千種","06105","愛知県"]
["名古屋北","06107","愛知県"]
["名古屋西","06109","愛知県"]
["名古屋中村","06111","愛知県"]
["昭和","06113","愛知県"]
["熱田","06115","愛知県"]
["中川","06117","愛知県"]
["小牧","06119","愛知県"]
["尾張瀬戸","06123","愛知県"]
["一宮","06125","愛知県"]
["津島","06127","愛知県"]
["半田","06129","愛知県"]
["刈谷","06131","愛知県"]
["西尾","06133","愛知県"]
["岡崎","06135","愛知県"]
["豊田","06137","愛知県"]
["豊橋","06139","愛知県"]
["新城","06143","愛知県"]
["静岡","06201","静岡県"]
["清水","06203","静岡県"]
["下田","06205","静岡県"]
["沼津","06207","静岡県"]
["三島","06209","静岡県"]
["熱海","06211","静岡県"]
["富士","06213","静岡県"]
["藤枝","06215","静岡県"]
["島田","06217","静岡県"]
["磐田","06219","静岡県"]
["掛川","06221","静岡県"]
["浜松西","06223","静岡県"]
["浜松東","06225","静岡県"]
["津","06301","三重県"]
["桑名","06303","三重県"]
["鈴鹿","06305","三重県"]
["四日市","06307","三重県"]
["松阪","06309","三重県"]
["伊勢","06311","三重県"]
["上野","06313","三重県"]
["尾鷲","06315","三重県"]
["岐阜北","06401","岐阜県"]
["岐阜南","06403","岐阜県"]
["大垣","06405","岐阜県"]
["関","06407","岐阜県"]
["多治見","06411","岐阜県"]
["中津川","06413","岐阜県"]
["高山","06415","岐阜県"]
["金沢","07101","石川県"]
["松任","07103","石川県"]
["小松","07105","石川県"]
["七尾","07107","石川県"]
["輪島","07109","石川県"]
["福井","07201","福井県"]
["三国","07203","福井県"]
["大野","07205","福井県"]
["武生","07207","福井県"]
["敦賀","07209","福井県"]
["小浜","07211","福井県"]
["富山","07301","富山県"]
["魚津","07303","富山県"]
["高岡","07305","富山県"]
["砺波","07307","富山県"]
["広島東","08101","広島県"]
["広島西","08103","広島県"]
["広島南","08105","広島県"]
["廿日市","08107","広島県"]
["呉","08109","広島県"]
["海田","08111","広島県"]
["広島北","08113","広島県"]
["吉田","08115","広島県"]
["西条","08117","広島県"]
["竹原","08119","広島県"]
["尾道","08121","広島県"]
["三原","08123","広島県"]
["福山","08125","広島県"]
["府中","08127","広島県"]
["三次","08129","広島県"]
["庄原","08131","広島県"]
["山口","08201","山口県"]
["岩国","08203","山口県"]
["柳井","08205","山口県"]
["徳山","08207","山口県"]
["光","08209","山口県"]
["防府","08211","山口県"]
["厚狭","08213","山口県"]
["下関","08215","山口県"]
["宇部","08217","山口県"]
["長門","08219","山口県"]
["萩","08221","山口県"]
["岡山東","08301","岡山県"]
["岡山西","08303","岡山県"]
["西大寺","08305","岡山県"]
["瀬戸","08307","岡山県"]
["玉野","08309","岡山県"]
["児島","08311","岡山県"]
["倉敷","08313","岡山県"]
["玉島","08315","岡山県"]
["笠岡","08317","岡山県"]
["高梁","08319","岡山県"]
["新見","08321","岡山県"]
["久世","08323","岡山県"]
["津山","08325","岡山県"]
["鳥取","08401","鳥取県"]
["倉吉","08403","鳥取県"]
["米子","08405","鳥取県"]
["松江","08501","島根県"]
["大東","08505","島根県"]
["出雲","08507","島根県"]
["石見大田","08509","島根県"]
["浜田","08511","島根県"]
["益田","08513","島根県"]
["西郷","08515","島根県"]
["高松","09101","香川県"]
["丸亀","09103","香川県"]
["観音寺","09105","香川県"]
["坂出","09107","香川県"]
["長尾","09109","香川県"]
["土庄","09111","香川県"]
["松山","09201","愛媛県"]
["今治","09203","愛媛県"]
["伊予西条","09205","愛媛県"]
["新居浜","09207","愛媛県"]
["伊予三島","09209","愛媛県"]
["大洲","09211","愛媛県"]
["八幡浜","09213","愛媛県"]
["宇和島","09217","愛媛県"]
["徳島","09301","徳島県"]
["川島","09303","徳島県"]
["阿南","09305","徳島県"]
["鳴門","09307","徳島県"]
["脇町","09309","徳島県"]
["池田","09311","徳島県"]
["高知","09401","高知県"]
["伊野","09403","高知県"]
["中村","09405","高知県"]
["須崎","09407","高知県"]
["南国","09409","高知県"]
["安芸","09411","高知県"]
["福岡","10101","福岡県"]
["西福岡","10103","福岡県"]
["博多","10105","福岡県"]
["香椎","10107","福岡県"]
["筑紫","10109","福岡県"]
["八幡","10111","福岡県"]
["若松","10113","福岡県"]
["直方","10115","福岡県"]
["田川","10117","福岡県"]
["飯塚","10119","福岡県"]
["久留米","10121","福岡県"]
["甘木","10123","福岡県"]
["大川","10125","福岡県"]
["八女","10127","福岡県"]
["大牟田","10129","福岡県"]
["小倉","10131","福岡県"]
["門司","10133","福岡県"]
["行橋","10135","福岡県"]
["佐賀","10201","佐賀県"]
["鳥栖","10203","佐賀県"]
["唐津","10205","佐賀県"]
["武雄","10207","佐賀県"]
["伊万里","10209","佐賀県"]
["長崎","10301","長崎県"]
["諫早","10303","長崎県"]
["佐世保","10305","長崎県"]
["島原","10307","長崎県"]
["平戸","10309","長崎県"]
["福江","10311","長崎県"]
["壱岐","10313","長崎県"]
["厳原","10315","長崎県"]
["熊本西","11101","熊本県"]
["熊本東","11103","熊本県"]
["宇土","11105","熊本県"]
["玉名","11107","熊本県"]
["山鹿","11109","熊本県"]
["菊池","11111","熊本県"]
["阿蘇","11113","熊本県"]
["八代","11115","熊本県"]
["人吉","11117","熊本県"]
["天草","11119","熊本県"]
["大分","11201","大分県"]
["別府","11205","大分県"]
["臼杵","11207","大分県"]
["佐伯","11209","大分県"]
["三重","11211","大分県"]
["竹田","11213","大分県"]
["日田","11215","大分県"]
["中津","11219","大分県"]
["宇佐","11221","大分県"]
["鹿児島","11301","鹿児島県"]
["伊集院","11303","鹿児島県"]
["知覧","11305","鹿児島県"]
["指宿","11307","鹿児島県"]
["川内","11309","鹿児島県"]
["出水","11311","鹿児島県"]
["加治木","11313","鹿児島県"]
["大隅","11315","鹿児島県"]
["鹿屋","11317","鹿児島県"]
["種子島","11319","鹿児島県"]
["大島","11321","鹿児島県"]
["宮崎","11401","宮崎県"]
["日南","11403","宮崎県"]
["都城","11405","宮崎県"]
["小林","11407","宮崎県"]
["高鍋","11409","宮崎県"]
["延岡","11411","宮崎県"]
["那覇","12101","沖縄県"]
["北那覇","12103","沖縄県"]
["沖縄","12105","沖縄県"]
["名護","12107","沖縄県"]
["平良","12109","沖縄県"]
["石垣","12111","沖縄県"]

{"sheet":"XML販数量","index":6,"n_rows":224,"n_cols":3,"rows_kept":224,"cut":false,"hidden":true,"merged":[]}
["組み込み用ファイルデータ部","利用者ファイル編集用（＜＞の編集）","備考"]
[null,"<param name=\"帳票データ\">"]
[null,"&lt;reportValue reportId=&quot;LIY150&quot; reportName=&quot;酒類の販売数量等報告書&quot; leafId=&quot;&quot;&gt;&lt;page reportId=&quot;LIY150&quot; reportName=&quot;酒類の販売数量等報告書&quot; status=&quot;0&quot;&gt;"]
["<GOA00000>",{"$f":"SUBSTITUTE(SUBSTITUTE(SUBSTITUTE(A4,\"<\",\"&amp;lt;\"),\">\",\"&amp;gt;\"),\"\"\"\",\"&amp;quot;\")","v":"&amp;lt;GOA00000&amp;gt;"}]
[{"$f":"IF(報告年度=\"\",\"\",\"<GOA00010>\")","v":"<GOA00010>"},{"$f":"SUBSTITUTE(SUBSTITUTE(SUBSTITUTE(A5,\"<\",\"&amp;lt;\"),\">\",\"&amp;gt;\"),\"\"\"\",\"&amp;quot;\")","v":"&amp;lt;GOA00010&amp;gt;"}]
[{"$f":"IF(報告年度=\"\",\"\",\"<gen:era>\"&VLOOKUP(TEXT(報告期間自,\"gggg\"),元号ＴＢ,2,FALSE) &\"</gen:era>\")","v":"<gen:era>5</gen:era>"},"&amp;lt;gen:era&amp;gt;5&amp;lt;/gen:era&amp;gt;","報告対象年度自"]
[{"$f":"IF(報告年度=\"\",\"\",\"<gen:yy>\"&TEXT(報告期間自,\"e\")&\"</gen:yy>\")","v":"<gen:yy>5</gen:yy>"},"&amp;lt;gen:yy&amp;gt;5&amp;lt;/gen:yy&amp;gt;"]
[{"$f":"IF(報告年度=\"\",\"\",\"</GOA00010>\")","v":"</GOA00010>"},"&amp;lt;/GOA00010&amp;gt;"]
[{"$f":"IF(報告年度=\"\",\"\",\"<GOA00020>\")","v":"<GOA00020>"},"&amp;lt;GOA00020&amp;gt;","報告対象年度至"]
[{"$f":"IF(報告年度=\"\",\"\",\"<gen:era>\"&VLOOKUP(TEXT(報告期間至,\"gggg\"),元号ＴＢ,2,FALSE) &\"</gen:era>\")","v":"<gen:era>5</gen:era>"},{"$f":"SUBSTITUTE(SUBSTITUTE(SUBSTITUTE(A10,\"<\",\"&amp;lt;\"),\">\",\"&amp;gt;\"),\"\"\"\",\"&amp;quot;\")","v":"&amp;lt;gen:era&amp;gt;5&amp;lt;/gen:era&amp;gt;"},"報告対象年度至"]
[{"$f":"IF(報告年度=\"\",\"\",\"<gen:yy>\"&TEXT(報告期間至,\"e\")&\"</gen:yy>\")","v":"<gen:yy>6</gen:yy>"},{"$f":"SUBSTITUTE(SUBSTITUTE(SUBSTITUTE(A11,\"<\",\"&amp;lt;\"),\">\",\"&amp;gt;\"),\"\"\"\",\"&amp;quot;\")","v":"&amp;lt;gen:yy&amp;gt;6&amp;lt;/gen:yy&amp;gt;"},"報告対象年度至"]
[{"$f":"IF(報告年度=\"\",\"\",\"</GOA00020>\")","v":"</GOA00020>"},{"$f":"SUBSTITUTE(SUBSTITUTE(SUBSTITUTE(A12,\"<\",\"&amp;lt;\"),\">\",\"&amp;gt;\"),\"\"\"\",\"&amp;quot;\")","v":"&amp;lt;/GOA00020&amp;gt;"},"報告対象年度至"]
["</GOA00000>","&amp;lt;/GOA00000&amp;gt;"]
["<GOB00000>",{"$f":"SUBSTITUTE(SUBSTITUTE(SUBSTITUTE(A14,\"<\",\"&amp;lt;\"),\">\",\"&amp;gt;\"),\"\"\"\",\"&amp;quot;\")","v":"&amp;lt;GOB00000&amp;gt;"}]
[{"$f":"IF(様式_販数量!$G$4>0,\"<GOB00005>\"&様式_販数量!$G$4&\"</GOB00005>\",\"\")","v":{"$error":"#N/A"}},{"$f":"SUBSTITUTE(SUBSTITUTE(SUBSTITUTE(A15,\"<\",\"&amp;lt;\"),\">\",\"&amp;gt;\"),\"\"\"\",\"&amp;quot;\")","v":{"$error":"#N/A"}}]
["<GOB00010 IDREF=\"TEISYUTSU_DAY\"/>",{"$f":"SUBSTITUTE(SUBSTITUTE(SUBSTITUTE(A16,\"<\",\"&amp;lt;\"),\">\",\"&amp;gt;\"),\"\"\"\",\"&amp;quot;\")","v":"&amp;lt;GOB00010 IDREF=&amp;quot;TEISYUTSU_DAY&amp;quot;/&amp;gt;"}]
["<GOB00020 IDREF=\"ZEIMUSHO\"/>",{"$f":"SUBSTITUTE(SUBSTITUTE(SUBSTITUTE(A17,\"<\",\"&amp;lt;\"),\">\",\"&amp;gt;\"),\"\"\"\",\"&amp;quot;\")","v":"&amp;lt;GOB00020 IDREF=&amp;quot;ZEIMUSHO&amp;quot;/&amp;gt;"}]
["<GOB00030>",{"$f":"SUBSTITUTE(SUBSTITUTE(SUBSTITUTE(A18,\"<\",\"&amp;lt;\"),\">\",\"&amp;gt;\"),\"\"\"\",\"&amp;quot;\")","v":"&amp;lt;GOB00030&amp;gt;"}]
["<GOB00040 IDREF=\"NOZEISHA_ZIP\"/>","&amp;lt;GOB00040 IDREF=&amp;quot;NOZEISHA_ZIP&amp;quot;/&amp;gt;"]
["<GOB00050 IDREF=\"NOZEISHA_ADR\"/>","&amp;lt;GOB00050 IDREF=&amp;quot;NOZEISHA_ADR&amp;quot;/&amp;gt;"]
["<GOB00060 IDREF=\"NOZEISHA_TEL\"/>","&amp;lt;GOB00060 IDREF=&amp;quot;NOZEISHA_TEL&amp;quot;/&amp;gt;"]
["<GOB00070>","&amp;lt;GOB00070&amp;gt;"]
[{"$f":"IF(基本項目!$E$11<>\"\",\"<GOB00140 IDREF=\"\"NOZEISHA_NM_KN\"\"/>\",\"\")","v":""},""]
["<GOB00080 IDREF=\"NOZEISHA_NM\"/>","&amp;lt;GOB00080 IDREF=&amp;quot;NOZEISHA_NM&amp;quot;/&amp;gt;"]
[{"$f":"IF(基本項目!$E$14<>\"\",\"<GOB00150 IDREF=\"\"DAIHYO_NM_KN\"\"/>\",\"\")","v":""},""]
["<GOB00090 IDREF=\"DAIHYO_NM\"/>","&amp;lt;GOB00090 IDREF=&amp;quot;DAIHYO_NM&amp;quot;/&amp;gt;"]
["</GOB00070>","&amp;lt;/GOB00070&amp;gt;"]
["</GOB00030>","&amp;lt;/GOB00030&amp;gt;"]
["<GOB00100>","&amp;lt;GOB00100&amp;gt;"]
["<GOB00105 IDREF=\"SEIZOJO_ZIP\"/>","&amp;lt;GOB00105 IDREF=&amp;quot;SEIZOJO_ZIP&amp;quot;/&amp;gt;"]
["<GOB00110 IDREF=\"SEIZOJO_ADR\"/>","&amp;lt;GOB00110 IDREF=&amp;quot;SEIZOJO_ADR&amp;quot;/&amp;gt;"]
["<GOB00120 IDREF=\"SEIZOJO_NM\"/>","&amp;lt;GOB00120 IDREF=&amp;quot;SEIZOJO_NM&amp;quot;/&amp;gt;"]
["<GOB00130 IDREF=\"SEIZOJO_TEL\"/>","&amp;lt;GOB00130 IDREF=&amp;quot;SEIZOJO_TEL&amp;quot;/&amp;gt;"]
["</GOB00100>","&amp;lt;/GOB00100&amp;gt;"]
["</GOB00000>","&amp;lt;/GOB00000&amp;gt;"]
["<GOC00000>","&amp;lt;GOC00000&amp;gt;"]
["<GOC00010>","&amp;lt;GOC00010&amp;gt;"]
["<GOC00020>","&amp;lt;GOC00020&amp;gt;"]
["<GOC00030>","&amp;lt;GOC00030&amp;gt;"]
[{"$f":"IF(様式_販数量!$D$19>0,\"<GOC00040>\"&様式_販数量!$D$19&\"</GOC00040>\",\"\")","v":""},"","卸売（卸売業者）数量（清酒）"]
[{"$f":"IF(様式_販数量!E19>0,\"<GOC00050>\"&様式_販数量!E19&\"</GOC00050>\",\"\")","v":""},"","卸売（小売業者）数量（清酒）"]
["</GOC00030>","&amp;lt;/GOC00030&amp;gt;"]
[{"$f":"IF(様式_販数量!F19>0,\"<GOC00060>\"&様式_販数量!F19&\"</GOC00060>\",\"\")","v":""},"","小売数量（清酒）"]
["</GOC00020>","&amp;lt;/GOC00020&amp;gt;"]
[{"$f":"IF(様式_販数量!G19>0,\"<GOC00070>\"&様式_販数量!G19&\"</GOC00070>\",\"\")","v":""},"","在庫数量（清酒）"]
["</GOC00010>","&amp;lt;/GOC00010&amp;gt;"]
["<GOC00080>","&amp;lt;GOC00080&amp;gt;"]
["<GOC00090>","&amp;lt;GOC00090&amp;gt;"]
["<GOC00100>","&amp;lt;GOC00100&amp;gt;"]
[{"$f":"IF(様式_販数量!D20>0,\"<GOC00110>\"&様式_販数量!D20&\"</GOC00110>\",\"\")","v":""},"","卸売（卸売業者）数量（合成清酒）"]
[{"$f":"IF(様式_販数量!E20>0,\"<GOC00120>\"&様式_販数量!E20&\"</GOC00120>\",\"\")","v":""},"","卸売（小売業者）数量（合成清酒）"]
["</GOC00100>","&amp;lt;/GOC00100&amp;gt;"]
[{"$f":"IF(様式_販数量!F20>0,\"<GOC00130>\"&様式_販数量!F20&\"</GOC00130>\",\"\")","v":""},"","小売数量（合成清酒）"]
["</GOC00090>","&amp;lt;/GOC00090&amp;gt;"]
[{"$f":"IF(様式_販数量!G20>0,\"<GOC00140>\"&様式_販数量!G20&\"</GOC00140>\",\"\")","v":""},"","在庫数量（合成清酒）"]
["</GOC00080>","&amp;lt;/GOC00080&amp;gt;"]
["<GOC00150>","&amp;lt;GOC00150&amp;gt;"]
["<GOC00160>","&amp;lt;GOC00160&amp;gt;"]
["<GOC00170>","&amp;lt;GOC00170&amp;gt;"]
[{"$f":"IF(様式_販数量!D21>0,\"<GOC00180>\"&様式_販数量!D21&\"</GOC00180>\",\"\")","v":""},"","卸売（卸売業者）数量（焼酎甲）"]
[{"$f":"IF(様式_販数量!E21>0,\"<GOC00190>\"&様式_販数量!E21&\"</GOC00190>\",\"\")","v":""},"","卸売（小売業者）数量（焼酎甲）"]
["</GOC00170>","&amp;lt;/GOC00170&amp;gt;"]
[{"$f":"IF(様式_販数量!F21>0,\"<GOC00200>\"&様式_販数量!F21&\"</GOC00200>\",\"\")","v":""},"","小売数量（焼酎甲）"]
["</GOC00160>","&amp;lt;/GOC00160&amp;gt;"]
[{"$f":"IF(様式_販数量!G21>0,\"<GOC00210>\"&様式_販数量!G21&\"</GOC00210>\",\"\")","v":""},"","在庫数量（焼酎甲）"]
["</GOC00150>","&amp;lt;/GOC00150&amp;gt;"]
["<GOC00220>","&amp;lt;GOC00220&amp;gt;"]
["<GOC00230>","&amp;lt;GOC00230&amp;gt;"]
["<GOC00240>","&amp;lt;GOC00240&amp;gt;"]
[{"$f":"IF(様式_販数量!D22>0,\"<GOC00250>\"&様式_販数量!D22&\"</GOC00250>\",\"\")","v":""},"","卸売（卸売業者）数量（焼酎乙）"]
[{"$f":"IF(様式_販数量!E22>0,\"<GOC00260>\"&様式_販数量!E22&\"</GOC00260>\",\"\")","v":""},"","卸売（小売業者）数量（焼酎乙）"]
["</GOC00240>","&amp;lt;/GOC00240&amp;gt;"]
[{"$f":"IF(様式_販数量!F22>0,\"<GOC00270>\"&様式_販数量!F22&\"</GOC00270>\",\"\")","v":""},"","小売数量（焼酎乙）"]
["</GOC00230>","&amp;lt;/GOC00230&amp;gt;"]
[{"$f":"IF(様式_販数量!G22>0,\"<GOC00280>\"&様式_販数量!G22&\"</GOC00280>\",\"\")","v":""},"","在庫数量（焼酎乙）"]
["</GOC00220>","&amp;lt;/GOC00220&amp;gt;"]
["<GOC00290>","&amp;lt;GOC00290&amp;gt;"]
["<GOC00300>",{"$f":"SUBSTITUTE(SUBSTITUTE(SUBSTITUTE(A78,\"<\",\"&amp;lt;\"),\">\",\"&amp;gt;\"),\"\"\"\",\"&amp;quot;\")","v":"&amp;lt;GOC00300&amp;gt;"}]
["<GOC00310>","&amp;lt;GOC00310&amp;gt;"]
[{"$f":"IF(様式_販数量!D23>0,\"<GOC00320>\"&様式_販数量!D23&\"</GOC00320>\",\"\")","v":""},"","卸売（卸売業者）数量（みりん）"]
[{"$f":"IF(様式_販数量!E23>0,\"<GOC00330>\"&様式_販数量!E23&\"</GOC00330>\",\"\")","v":""},"","卸売（小売業者）数量（みりん）"]
["</GOC00310>","&amp;lt;/GOC00310&amp;gt;"]
[{"$f":"IF(様式_販数量!F23>0,\"<GOC00340>\"&様式_販数量!F23&\"</GOC00340>\",\"\")","v":""},"","小売数量（みりん）"]
["</GOC00300>","&amp;lt;/GOC00300&amp;gt;"]
[{"$f":"IF(様式_販数量!G23>0,\"<GOC00350>\"&様式_販数量!G23&\"</GOC00350>\",\"\")","v":""},"","在庫数量（みりん）"]
["</GOC00290>","&amp;lt;/GOC00290&amp;gt;"]
["<GOC00360>","&amp;lt;GOC00360&amp;gt;"]
["<GOC00370>","&amp;lt;GOC00370&amp;gt;"]
["<GOC00380>","&amp;lt;GOC00380&amp;gt;"]
[{"$f":"IF(様式_販数量!D24>0,\"<GOC00390>\"&様式_販数量!D24&\"</GOC00390>\",\"\")","v":""},"","卸売（卸売業者）数量（ビール）"]
[{"$f":"IF(様式_販数量!E24>0,\"<GOC00400>\"&様式_販数量!E24&\"</GOC00400>\",\"\")","v":""},"","卸売（小売業者）数量（ビール）"]
["</GOC00380>","&amp;lt;/GOC00380&amp;gt;"]
[{"$f":"IF(様式_販数量!F24>0,\"<GOC00410>\"&様式_販数量!F24&\"</GOC00410>\",\"\")","v":""},"","小売数量（ビール）"]
["</GOC00370>","&amp;lt;/GOC00370&amp;gt;"]
[{"$f":"IF(様式_販数量!G24>0,\"<GOC00420>\"&様式_販数量!G24&\"</GOC00420>\",\"\")","v":""},"","在庫数量（ビール）"]
["</GOC00360>","&amp;lt;/GOC00360&amp;gt;"]
["<GOC00430>","&amp;lt;GOC00430&amp;gt;"]
["<GOC00440>","&amp;lt;GOC00440&amp;gt;"]
["<GOC00450>","&amp;lt;GOC00450&amp;gt;"]
[{"$f":"IF(様式_販数量!D25>0,\"<GOC00460>\"&様式_販数量!D25&\"</GOC00460>\",\"\")","v":""},"","卸売（卸売業者）数量（果実酒）"]
[{"$f":"IF(様式_販数量!E25>0,\"<GOC00470>\"&様式_販数量!E25&\"</GOC00470>\",\"\")","v":""},"","卸売（小売業者）数量（果実酒）"]
["</GOC00450>","&amp;lt;/GOC00450&amp;gt;"]
[{"$f":"IF(様式_販数量!F25>0,\"<GOC00480>\"&様式_販数量!F25&\"</GOC00480>\",\"\")","v":""},"","小売数量（果実酒）"]
["</GOC00440>","&amp;lt;/GOC00440&amp;gt;"]
[{"$f":"IF(様式_販数量!G25>0,\"<GOC00490>\"&様式_販数量!G25&\"</GOC00490>\",\"\")","v":""},"","在庫数量（果実酒）"]
["</GOC00430>","&amp;lt;/GOC00430&amp;gt;"]
["<GOC00500>","&amp;lt;GOC00500&amp;gt;"]
["<GOC00510>","&amp;lt;GOC00510&amp;gt;"]
["<GOC00520>","&amp;lt;GOC00520&amp;gt;"]
[{"$f":"IF(様式_販数量!D26>0,\"<GOC00530>\"&様式_販数量!D26&\"</GOC00530>\",\"\")","v":""},"","卸売（卸売業者）数量（甘味果実酒）"]
[{"$f":"IF(様式_販数量!E26>0,\"<GOC00540>\"&様式_販数量!E26&\"</GOC00540>\",\"\")","v":""},"","卸売（小売業者）数量（甘味果実酒）"]
["</GOC00520>","&amp;lt;/GOC00520&amp;gt;"]
[{"$f":"IF(様式_販数量!F26>0,\"<GOC00550>\"&様式_販数量!F26&\"</GOC00550>\",\"\")","v":""},"","小売数量（甘味果実酒）"]
["</GOC00510>","&amp;lt;/GOC00510&amp;gt;"]
[{"$f":"IF(様式_販数量!G26>0,\"<GOC00560>\"&様式_販数量!G26&\"</GOC00560>\",\"\")","v":""},"","在庫数量（甘味果実酒）"]
["</GOC00500>","&amp;lt;/GOC00500&amp;gt;"]
["<GOC00570>","&amp;lt;GOC00570&amp;gt;"]
["<GOC00580>","&amp;lt;GOC00580&amp;gt;"]
["<GOC00590>","&amp;lt;GOC00590&amp;gt;"]
[{"$f":"IF(様式_販数量!D27>0,\"<GOC00600>\"&様式_販数量!D27&\"</GOC00600>\",\"\")","v":""},"","卸売（卸売業者）数量（ウイスキー）"]
[{"$f":"IF(様式_販数量!E27>0,\"<GOC00610>\"&様式_販数量!E27&\"</GOC00610>\",\"\")","v":""},"","卸売（小売業者）数量（ウイスキー）"]
["</GOC00590>","&amp;lt;/GOC00590&amp;gt;"]
[{"$f":"IF(様式_販数量!F27>0,\"<GOC00620>\"&様式_販数量!F27&\"</GOC00620>\",\"\")","v":""},"","小売数量（ウイスキー）"]
["</GOC00580>","&amp;lt;/GOC00580&amp;gt;"]
[{"$f":"IF(様式_販数量!G27>0,\"<GOC00630>\"&様式_販数量!G27&\"</GOC00630>\",\"\")","v":""},"","在庫数量（ウイスキー）"]
["</GOC00570>","&amp;lt;/GOC00570&amp;gt;"]
["<GOC00640>","&amp;lt;GOC00640&amp;gt;"]
["<GOC00650>","&amp;lt;GOC00650&amp;gt;"]
["<GOC00660>","&amp;lt;GOC00660&amp;gt;"]
[{"$f":"IF(様式_販数量!D28>0,\"<GOC00670>\"&様式_販数量!D28&\"</GOC00670>\",\"\")","v":""},"","卸売（卸売業者）数量（ブランデー）"]
[{"$f":"IF(様式_販数量!E28>0,\"<GOC00680>\"&様式_販数量!E28&\"</GOC00680>\",\"\")","v":""},"","卸売（小売業者）数量（ブランデー）"]
["</GOC00660>","&amp;lt;/GOC00660&amp;gt;"]
[{"$f":"IF(様式_販数量!F28>0,\"<GOC00690>\"&様式_販数量!F28&\"</GOC00690>\",\"\")","v":""},"","小売数量（ブランデー）"]
["</GOC00650>","&amp;lt;/GOC00650&amp;gt;"]
[{"$f":"IF(様式_販数量!G28>0,\"<GOC00700>\"&様式_販数量!G28&\"</GOC00700>\",\"\")","v":""},"","在庫数量（ブランデー）"]
["</GOC00640>","&amp;lt;/GOC00640&amp;gt;"]
["<GOC00710>","&amp;lt;GOC00710&amp;gt;"]
["<GOC00720>","&amp;lt;GOC00720&amp;gt;"]
["<GOC00730>","&amp;lt;GOC00730&amp;gt;"]
[{"$f":"IF(様式_販数量!D29>0,\"<GOC00740>\"&様式_販数量!D29&\"</GOC00740>\",\"\")","v":""},"","卸売（卸売業者）数量（原アル）"]
[{"$f":"IF(様式_販数量!E29>0,\"<GOC00750>\"&様式_販数量!E29&\"</GOC00750>\",\"\")","v":""},"","卸売（小売業者）数量（原アル）"]
["</GOC00730>",{"$f":"SUBSTITUTE(SUBSTITUTE(SUBSTITUTE(A142,\"<\",\"&amp;lt;\"),\">\",\"&amp;gt;\"),\"\"\"\",\"&amp;quot;\")","v":"&amp;lt;/GOC00730&amp;gt;"}]
[{"$f":"IF(様式_販数量!F29>0,\"<GOC00760>\"&様式_販数量!F29&\"</GOC00760>\",\"\")","v":""},"","小売数量（原アル）"]
["</GOC00720>","&amp;lt;/GOC00720&amp;gt;"]
[{"$f":"IF(様式_販数量!G29>0,\"<GOC00770>\"&様式_販数量!G29&\"</GOC00770>\",\"\")","v":""},"","在庫数量（原アル）"]
["</GOC00710>","&amp;lt;/GOC00710&amp;gt;"]
["<GOC00780>","&amp;lt;GOC00780&amp;gt;"]
["<GOC00790>","&amp;lt;GOC00790&amp;gt;"]
["<GOC00800>","&amp;lt;GOC00800&amp;gt;"]
[{"$f":"IF(様式_販数量!D30>0,\"<GOC00810>\"&様式_販数量!D30&\"</GOC00810>\",\"\")","v":""},"","卸売（卸売業者）数量（発泡酒）"]
[{"$f":"IF(様式_販数量!E30>0,\"<GOC00820>\"&様式_販数量!E30&\"</GOC00820>\",\"\")","v":""},"","卸売（小売業者）数量（発泡酒）"]
["</GOC00800>","&amp;lt;/GOC00800&amp;gt;"]
[{"$f":"IF(様式_販数量!F30>0,\"<GOC00830>\"&様式_販数量!F30&\"</GOC00830>\",\"\")","v":""},"","小売数量（発泡酒）"]
["</GOC00790>","&amp;lt;/GOC00790&amp;gt;"]
[{"$f":"IF(様式_販数量!G30>0,\"<GOC00840>\"&様式_販数量!G30&\"</GOC00840>\",\"\")","v":""},"","在庫数量（発泡酒）"]
["</GOC00780>","&amp;lt;/GOC00780&amp;gt;"]
["<GOC00850>","&amp;lt;GOC00850&amp;gt;"]
["<GOC00860>","&amp;lt;GOC00860&amp;gt;"]
["<GOC00870>","&amp;lt;GOC00870&amp;gt;"]
[{"$f":"IF(様式_販数量!D31>0,\"<GOC00880>\"&様式_販数量!D31&\"</GOC00880>\",\"\")","v":""},"","卸売（卸売業者）数量（その他の醸造酒）"]
[{"$f":"IF(様式_販数量!E31>0,\"<GOC00890>\"&様式_販数量!E31&\"</GOC00890>\",\"\")","v":""},"","卸売（小売業者）数量（その他の醸造酒）"]
["</GOC00870>","&amp;lt;/GOC00870&amp;gt;"]
[{"$f":"IF(様式_販数量!F31>0,\"<GOC00900>\"&様式_販数量!F31&\"</GOC00900>\",\"\")","v":""},"","小売数量（その他の醸造酒）"]
["</GOC00860>","&amp;lt;/GOC00860&amp;gt;"]
[{"$f":"IF(様式_販数量!G31>0,\"<GOC00910>\"&様式_販数量!G31&\"</GOC00910>\",\"\")","v":""},"","在庫数量（その他の醸造酒）"]
["</GOC00850>","&amp;lt;/GOC00850&amp;gt;"]
["<GOC00920>","&amp;lt;GOC00920&amp;gt;"]
["<GOC00930>","&amp;lt;GOC00930&amp;gt;"]
["<GOC00940>","&amp;lt;GOC00940&amp;gt;"]
[{"$f":"IF(様式_販数量!D32>0,\"<GOC00950>\"&様式_販数量!D32&\"</GOC00950>\",\"\")","v":""},"","卸売（卸売業者）数量（スピリッツ）"]
[{"$f":"IF(様式_販数量!E32>0,\"<GOC00960>\"&様式_販数量!E32&\"</GOC00960>\",\"\")","v":""},"","卸売（小売業者）数量（スピリッツ）"]
["</GOC00940>","&amp;lt;/GOC00940&amp;gt;"]
[{"$f":"IF(様式_販数量!F32>0,\"<GOC00970>\"&様式_販数量!F32&\"</GOC00970>\",\"\")","v":""},"","小売数量（スピリッツ）"]
["</GOC00930>","&amp;lt;/GOC00930&amp;gt;"]
[{"$f":"IF(様式_販数量!G32>0,\"<GOC00980>\"&様式_販数量!G32&\"</GOC00980>\",\"\")","v":""},"","在庫数量（スピリッツ）"]
["</GOC00920>","&amp;lt;/GOC00920&amp;gt;"]
["<GOC00990>","&amp;lt;GOC00990&amp;gt;"]
["<GOC01000>","&amp;lt;GOC01000&amp;gt;"]
["<GOC01010>","&amp;lt;GOC01010&amp;gt;"]
[{"$f":"IF(様式_販数量!D33>0,\"<GOC01020>\"&様式_販数量!D33&\"</GOC01020>\",\"\")","v":""},"","卸売（卸売業者）数量（リキュール）"]
[{"$f":"IF(様式_販数量!E33>0,\"<GOC01030>\"&様式_販数量!E33&\"</GOC01030>\",\"\")","v":""},"","卸売（小売業者）数量（リキュール）"]
["</GOC01010>","&amp;lt;/GOC01010&amp;gt;"]
[{"$f":"IF(様式_販数量!F33>0,\"<GOC01040>\"&様式_販数量!F33&\"</GOC01040>\",\"\")","v":""},"","小売数量（リキュール）"]
["</GOC01000>","&amp;lt;/GOC01000&amp;gt;"]
[{"$f":"IF(様式_販数量!G33>0,\"<GOC01050>\"&様式_販数量!G33&\"</GOC01050>\",\"\")","v":""},"","在庫数量（リキュール）"]
["</GOC00990>","&amp;lt;/GOC00990&amp;gt;"]
["<GOC01060>","&amp;lt;GOC01060&amp;gt;"]
["<GOC01070>","&amp;lt;GOC01070&amp;gt;"]
["<GOC01080>","&amp;lt;GOC01080&amp;gt;"]
[{"$f":"IF(様式_販数量!D34>0,\"<GOC01090>\"&様式_販数量!D34&\"</GOC01090>\",\"\")","v":""},"","卸売（卸売業者）数量（雑酒）"]
[{"$f":"IF(様式_販数量!E34>0,\"<GOC01100>\"&様式_販数量!E34&\"</GOC01100>\",\"\")","v":""},"","卸売（小売業者）数量（雑酒）"]
["</GOC01080>","&amp;lt;/GOC01080&amp;gt;"]
[{"$f":"IF(様式_販数量!F34>0,\"<GOC01110>\"&様式_販数量!F34&\"</GOC01110>\",\"\")","v":""},"","小売数量（雑酒）"]
["</GOC01070>","&amp;lt;/GOC01070&amp;gt;"]
[{"$f":"IF(様式_販数量!G34>0,\"<GOC01120>\"&様式_販数量!G34&\"</GOC01120>\",\"\")","v":""},"","在庫数量（雑酒）"]
["</GOC01060>","&amp;lt;/GOC01060&amp;gt;"]
["<GOC01130>","&amp;lt;GOC01130&amp;gt;"]
["<GOC01140>","&amp;lt;GOC01140&amp;gt;"]
["<GOC01150>","&amp;lt;GOC01150&amp;gt;"]
[{"$f":"IF(様式_販数量!D35>0,\"<GOC01160 AutoCalc=\"\"1\"\">\"&様式_販数量!D35&\"</GOC01160>\",\"\")","v":""},"","卸売（卸売業者）数量（合計）"]
[{"$f":"IF(様式_販数量!E35>0,\"<GOC01170 AutoCalc=\"\"1\"\">\"&様式_販数量!E35&\"</GOC01170>\",\"\")","v":""},"","卸売（小売業者）数量（合計）"]
["</GOC01150>","&amp;lt;/GOC01150&amp;gt;"]
[{"$f":"IF(様式_販数量!F35>0,\"<GOC01180 AutoCalc=\"\"1\"\">\"&様式_販数量!F35&\"</GOC01180>\",\"\")","v":""},"","小売数量（合計）"]
["</GOC01140>","&amp;lt;/GOC01140&amp;gt;"]
[{"$f":"IF(様式_販数量!G35>0,\"<GOC01190 AutoCalc=\"\"1\"\">\"&様式_販数量!G35&\"</GOC01190>\",\"\")","v":""},"","在庫数量（合計）"]
["</GOC01130>",{"$f":"SUBSTITUTE(SUBSTITUTE(SUBSTITUTE(A206,\"<\",\"&amp;lt;\"),\">\",\"&amp;gt;\"),\"\"\"\",\"&amp;quot;\")","v":"&amp;lt;/GOC01130&amp;gt;"}]
["<GOC01200>","&amp;lt;GOC01200&amp;gt;"]
["<GOC01210>","&amp;lt;GOC01210&amp;gt;"]
["<GOC01220>","&amp;lt;GOC01220&amp;gt;"]
[{"$f":"IF(様式_販数量!D37>0,\"<GOC01230>\"&様式_販数量!D37&\"</GOC01230>\",\"\")","v":""},"","卸売（卸売業者）数量（粉末酒）"]
[{"$f":"IF(様式_販数量!E37>0,\"<GOC01240>\"&様式_販数量!E37&\"</GOC01240>\",\"\")","v":""},"","卸売（小売業者）数量（粉末酒）"]
["</GOC01220>","&amp;lt;/GOC01220&amp;gt;"]
[{"$f":"IF(様式_販数量!F37>0,\"<GOC01250>\"&様式_販数量!F37&\"</GOC01250>\",\"\")","v":""},"","小売数量（粉末酒）"]
["</GOC01210>","&amp;lt;/GOC01210&amp;gt;"]
[{"$f":"IF(様式_販数量!G37>0,\"<GOC01260>\"&様式_販数量!G37&\"</GOC01260>\",\"\")","v":""},"","在庫数量（粉末酒）"]
["</GOC01200>","&amp;lt;/GOC01200&amp;gt;"]
[{"$f":"IF(AND(基本項目!L16=\"\",様式_販数量!D40=\"\"),\"\",\"<GOC01270>\")","v":"<GOC01270>"},"&amp;lt;GOC01270&amp;gt;"]
[{"$f":"IF(基本項目!$L$16>0,\"<GOC01280>\",\"\")","v":""},""]
[{"$f":"IF(基本項目!$L$16>0,\"<kubun_CD>\"&基本項目!$L$16&\"</kubun_CD>\",\"\")","v":""},{"$f":"SUBSTITUTE(SUBSTITUTE(SUBSTITUTE(A219,\"<\",\"&amp;lt;\"),\">\",\"&amp;gt;\"),\"\"\"\",\"&amp;quot;\")","v":""},"販売業態区分"]
[{"$f":"IF(基本項目!$L$16>0,\"</GOC01280>\",\"\")","v":""},{"$f":"SUBSTITUTE(SUBSTITUTE(SUBSTITUTE(A220,\"<\",\"&amp;lt;\"),\">\",\"&amp;gt;\"),\"\"\"\",\"&amp;quot;\")","v":""}]
[{"$f":"IF(様式_販数量!D40=\"\",\"\",\"<GOC01290>\"&DBCS(様式_販数量!D40)&\"</GOC01290>\")","v":""},"","摘要欄"]
[{"$f":"IF(AND(基本項目!L16=\"\",様式_販数量!D40=\"\"),\"\",\"</GOC01270>\")","v":"</GOC01270>"},"&amp;lt;/GOC01270&amp;gt;"]
["</GOC00000>","&amp;lt;/GOC00000&amp;gt;"]
["</LIY150>","&lt;/page&gt;&lt;/reportValue&gt;</param>"]

{"sheet":"XMLニ十歳","index":7,"n_rows":504,"n_cols":3,"rows_kept":504,"cut":false,"hidden":true,"merged":[]}
["組み込み用ファイルデータ部","利用者ファイル編集用（＜＞の編集）","備考"]
[{"$f":"\"<LIZ140 VR=\"\"6.0\"\" id=\"\"LIZ140-1\"\" page=\"\"1\"\" sakuseiDay=\"\"\"&TEXT(NOW(),\"yyyy-mm-dd\")&\"\"\" sakuseiNM=\"\"\" & 基本項目!$E$10 & \"\"\" softNM=\"\"ntaclient\"\">\"","v":"<LIZ140 VR=\"6.0\" id=\"LIZ140-1\" page=\"1\" sakuseiDay=\"2024-02-15\" sakuseiNM=\"\" softNM=\"ntaclient\">"},null,"作成日、データ作成者"]
[null,"<param name=\"帳票データ\">"]
[null,"&lt;reportValue reportId=&quot;LIZ140&quot; reportName=&quot;「ニ十歳未満の者の飲酒防止に関する表示基準」の実施状況等報告書　1面&quot; leafId=&quot;&quot;&gt;&lt;page reportId=&quot;LIZ140&quot; reportName=&quot;「ニ十歳未満の者の飲酒防止に関する表示基準」の実施状況等報告書　1面&quot; status=&quot;0&quot;&gt;"]
["<IHA00000>",{"$f":"IF(LEFT(A5,4)=\"<!--\",\"\",SUBSTITUTE(SUBSTITUTE(SUBSTITUTE(A5,\"<\",\"&amp;lt;\"),\">\",\"&amp;gt;\"),\"\"\"\",\"&amp;quot;\"))","v":"&amp;lt;IHA00000&amp;gt;"}]
[{"$f":"IF(様式_ニ十歳!U3=\"\",\"\",\"<IHA00005>\"&ASC(様式_ニ十歳!U3) &\"</IHA00005>\")","v":{"$error":"#N/A"}},{"$error":"#N/A"},"整理番号"]
["<IHA00010 IDREF=\"TEISYUTSU_DAY\"/>","&amp;lt;IHA00010 IDREF=&amp;quot;TEISYUTSU_DAY&amp;quot;/&amp;gt;"]
["<IHA00020 IDREF=\"ZEIMUSHO\"/>","&amp;lt;IHA00020 IDREF=&amp;quot;ZEIMUSHO&amp;quot;/&amp;gt;"]
["<IHA00030>","&amp;lt;IHA00030&amp;gt;"]
["<IHA00040 IDREF=\"NOZEISHA_ZIP\"/>","&amp;lt;IHA00040 IDREF=&amp;quot;NOZEISHA_ZIP&amp;quot;/&amp;gt;"]
["<IHA00050 IDREF=\"NOZEISHA_ADR\"/>","&amp;lt;IHA00050 IDREF=&amp;quot;NOZEISHA_ADR&amp;quot;/&amp;gt;"]
["<IHA00060 IDREF=\"NOZEISHA_TEL\"/>","&amp;lt;IHA00060 IDREF=&amp;quot;NOZEISHA_TEL&amp;quot;/&amp;gt;"]
["<IHA00070>","&amp;lt;IHA00070&amp;gt;"]
["<IHA00080 IDREF=\"NOZEISHA_NM\"/>","&amp;lt;IHA00080 IDREF=&amp;quot;NOZEISHA_NM&amp;quot;/&amp;gt;"]
["<IHA00090 IDREF=\"DAIHYO_NM\"/>","&amp;lt;IHA00090 IDREF=&amp;quot;DAIHYO_NM&amp;quot;/&amp;gt;"]
["</IHA00070>","&amp;lt;/IHA00070&amp;gt;"]
["</IHA00030>","&amp;lt;/IHA00030&amp;gt;"]
["<IHA00140>","&amp;lt;IHA00140&amp;gt;"]
["<IHA00150 IDREF=\"SEIZOJO_ADR\"/>","&amp;lt;IHA00150 IDREF=&amp;quot;SEIZOJO_ADR&amp;quot;/&amp;gt;","販売場の所在地"]
["<IHA00160 IDREF=\"SEIZOJO_NM\"/>","&amp;lt;IHA00160 IDREF=&amp;quot;SEIZOJO_NM&amp;quot;/&amp;gt;","販売場の名称"]
["</IHA00140>","&amp;lt;/IHA00140&amp;gt;"]
[{"$f":"IF(様式_ニ十歳!A7=0,\"\",\"<IHA00300>\"&ASC(様式_ニ十歳!A7)&\"</IHA00300>\")","v":{"$error":"#N/A"}},{"$error":"#N/A"},"店舗全体の面積"]
[{"$f":"IF(様式_ニ十歳!A10=0,\"\",\"<IHA00310>\"&ASC(様式_ニ十歳!A10) &\"</IHA00310>\")","v":{"$error":"#N/A"}},{"$error":"#N/A"},"酒類売場の面積"]
["<IHA00320>","&amp;lt;IHA00320&amp;gt;"]
[{"$f":"IF(様式_ニ十歳!Y14=0,\"\",\"<IHA00330>\")","v":{"$error":"#N/A"}},{"$error":"#N/A"}]
[{"$f":"IF(様式_ニ十歳!Y14=0,\"\",\"<kubun_CD>\"&様式_ニ十歳!Y14&\"</kubun_CD>\")","v":{"$error":"#N/A"}},{"$error":"#N/A"},"営業時間区分（24H区分）"]
[{"$f":"IF(様式_ニ十歳!Y14=0,\"\",\"</IHA00330>\")","v":{"$error":"#N/A"}},{"$error":"#N/A"}]
[{"$f":"IF(様式_ニ十歳!Y14=1,\"<IHA00340>\",\"\")","v":{"$error":"#N/A"}},{"$error":"#N/A"}]
[{"$f":"IF(様式_ニ十歳!Y14=1,\"<IHA00350>\"&HOUR(様式_ニ十歳!T13)&\"</IHA00350>\",\"\")","v":{"$error":"#N/A"}},{"$error":"#N/A"},"営業開始時間　時"]
[{"$f":"IF(様式_ニ十歳!Y14=1,\"<IHA00360>\"&MINUTE(様式_ニ十歳!T13)&\"</IHA00360>\",\"\")","v":{"$error":"#N/A"}},{"$error":"#N/A"},"営業開始時間　分"]
[{"$f":"IF(様式_ニ十歳!Y14=1,\"</IHA00340>\",\"\")","v":{"$error":"#N/A"}},{"$error":"#N/A"}]
[{"$f":"IF(様式_ニ十歳!Y14=1,\"<IHA00370>\",\"\")","v":{"$error":"#N/A"}},{"$error":"#N/A"}]
[{"$f":"IF(様式_ニ十歳!Y14=1,\"<IHA00380>\"&HOUR(様式_ニ十歳!W13)&\"</IHA00380>\",\"\")","v":{"$error":"#N/A"}},{"$error":"#N/A"},"営業終了時間　時"]
[{"$f":"IF(様式_ニ十歳!Y14=1,\"<IHA00390>\"&MINUTE(様式_ニ十歳!W13)&\"</IHA00390>\",\"\")","v":{"$error":"#N/A"}},{"$f":"IF(LEFT(A34,4)=\"<!--\",\"\",SUBSTITUTE(SUBSTITUTE(SUBSTITUTE(A34,\"<\",\"&amp;lt;\"),\">\",\"&amp;gt;\"),\"\"\"\",\"&amp;quot;\"))","v":{"$error":"#N/A"}},"営業終了時間　分"]
[{"$f":"IF(様式_ニ十歳!Y14=1,\"</IHA00370>\",\"\")","v":{"$error":"#N/A"}},{"$error":"#N/A"}]
[{"$f":"IF(様式_ニ十歳!S14=\"\",\"\",\"<IHA00400>\"&DBCS(様式_ニ十歳!S14)&\"</IHA00400>\")","v":{"$error":"#N/A"}},{"$error":"#N/A"},"定休日"]
["</IHA00320>","&amp;lt;/IHA00320&amp;gt;"]
[{"$f":"IF(OR(様式_ニ十歳!H14>0,様式_ニ十歳!Y13>0),\"<IHA00200>\",\"\")","v":"<IHA00200>"},"&amp;lt;IHA00200&amp;gt;"]
[{"$f":"IF(様式_ニ十歳!Y13=0,\"\",\"<IHA00210>\")","v":"<IHA00210>"},"&amp;lt;IHA00210&amp;gt;"]
[{"$f":"IF(様式_ニ十歳!Y13=0,\"\",\"<kubun_CD>\"&様式_ニ十歳!Y13&\"</kubun_CD>\")","v":"<kubun_CD>2</kubun_CD>"},"&amp;lt;kubun_CD&amp;gt;2&amp;lt;/kubun_CD&amp;gt;","免許条件区分"]
[{"$f":"IF(様式_ニ十歳!Y13=0,\"\",\"</IHA00210>\")","v":"</IHA00210>"},"&amp;lt;/IHA00210&amp;gt;"]
[{"$f":"IF(OR(様式_ニ十歳!H14>0,様式_ニ十歳!M14>0),\"<IHA00220>\",\"\")","v":""},""]
[{"$f":"IF(様式_ニ十歳!H14>0,\"<IHA00230>\",\"\")","v":""},""]
[{"$f":"IF(様式_ニ十歳!H14>0,\"<gen:era>\"&VLOOKUP(TEXT(様式_ニ十歳!H14,\"gggg\"),元号ＴＢ,2,FALSE)&\"</gen:era>\",\"\")","v":""},"","期限付小売免許期間自　元号"]
[{"$f":"IF(様式_ニ十歳!H14>0,\"<gen:yy>\"&TEXT(様式_ニ十歳!H14,\"e\")&\"</gen:yy>\",\"\")","v":""},"","期限付小売免許期間自　年"]
[{"$f":"IF(様式_ニ十歳!H14>0,\"<gen:mm>\"&MONTH(様式_ニ十歳!H14)&\"</gen:mm>\",\"\")","v":""},"","期限付小売免許期間自　月"]
[{"$f":"IF(様式_ニ十歳!H14>0,\"<gen:dd>\"&DAY(様式_ニ十歳!H14)&\"</gen:dd>\",\"\")","v":""},"","期限付小売免許期間自　日"]
[{"$f":"IF(様式_ニ十歳!H14>0,\"</IHA00230>\",\"\")","v":""},""]
[{"$f":"IF(様式_ニ十歳!M14>0,\"<IHA00240>\",\"\")","v":""},""]
[{"$f":"IF(様式_ニ十歳!M14>0,\"<gen:era>\"&VLOOKUP(TEXT(様式_ニ十歳!M14,\"gggg\"),元号ＴＢ,2,FALSE)&\"</gen:era>\",\"\")","v":""},"","期限付小売免許期間至　元号"]
[{"$f":"IF(様式_ニ十歳!M14>0,\"<gen:yy>\"&TEXT(様式_ニ十歳!M14,\"e\")&\"</gen:yy>\",\"\")","v":""},"","期限付小売免許期間至　年"]
[{"$f":"IF(様式_ニ十歳!M14>0,\"<gen:mm>\"&MONTH(様式_ニ十歳!M14)&\"</gen:mm>\",\"\")","v":""},"","期限付小売免許期間至　月"]
[{"$f":"IF(様式_ニ十歳!M14>0,\"<gen:dd>\"&DAY(様式_ニ十歳!M14)&\"</gen:dd>\",\"\")","v":""},"","期限付小売免許期間至　日"]
[{"$f":"IF(様式_ニ十歳!M14>0,\"</IHA00240>\",\"\")","v":""},""]
[{"$f":"IF(OR(様式_ニ十歳!H14>0,様式_ニ十歳!M14>0),\"</IHA00220>\",\"\")","v":""},""]
[{"$f":"IF(OR(様式_ニ十歳!H14>0,様式_ニ十歳!Y13>0),\"</IHA00200>\",\"\")","v":"</IHA00200>"},"&amp;lt;/IHA00200&amp;gt;"]
[{"$f":"IF(様式_ニ十歳!Y16>0,\"<IHA00250>\",\"\")","v":""},""]
[{"$f":"IF(様式_ニ十歳!Y16=0,\"\",\"<IHA00260>\")","v":""},""]
[{"$f":"IF(様式_ニ十歳!Y16=0,\"\",\"<kubun_CD>\"&様式_ニ十歳!Y16&\"</kubun_CD>\")","v":""},"","販売業態区分"]
[{"$f":"IF(様式_ニ十歳!Y16=0,\"\",\"</IHA00260>\")","v":""},""]
[{"$f":"IF(様式_ニ十歳!Y16>0,\"</IHA00250>\",\"\")","v":""},""]
[{"$f":"IF(様式_ニ十歳!Y18>0,\"<IHA00500>\",\"\")","v":""},""]
[{"$f":"IF(様式_ニ十歳!Y18=0,\"\",\"<IHA00510>\")","v":""},""]
[{"$f":"IF(様式_ニ十歳!Y18=0,\"\",\"<kubun_CD>\"&様式_ニ十歳!Y18&\"</kubun_CD>\")","v":""},"","販売していない者の状況区分"]
[{"$f":"IF(様式_ニ十歳!Y18=0,\"\",\"</IHA00510>\")","v":""},""]
[{"$f":"IF(AND(様式_ニ十歳!Y18=1,様式_ニ十歳!N18>0),\"<IHA00520>\",\"\")","v":""},{"$f":"IF(LEFT(A66,4)=\"<!--\",\"\",SUBSTITUTE(SUBSTITUTE(SUBSTITUTE(A66,\"<\",\"&amp;lt;\"),\">\",\"&amp;gt;\"),\"\"\"\",\"&amp;quot;\"))","v":""}]
[{"$f":"IF(AND(様式_ニ十歳!Y18=1,様式_ニ十歳!N18>0),\"<gen:era>\"&VLOOKUP(TEXT(様式_ニ十歳!N18,\"gggg\"),元号ＴＢ,2,FALSE)&\"</gen:era>\",\"\")","v":""},"","販売していない者の販売開始予定 元号"]
[{"$f":"IF(AND(様式_ニ十歳!Y18=1,様式_ニ十歳!N18>0),\"<gen:yy>\"&TEXT(様式_ニ十歳!N18,\"e\")&\"</gen:yy>\",\"\")","v":""},"","販売していない者の販売開始予定　年"]
[{"$f":"IF(AND(様式_ニ十歳!Y18=1,様式_ニ十歳!N18>0),\"<gen:mm>\"&MONTH(様式_ニ十歳!N18)&\"</gen:mm>\",\"\")","v":""},"","販売していない者の販売開始予定　月"]
[{"$f":"IF(AND(様式_ニ十歳!Y18=1,様式_ニ十歳!N18>0),\"</IHA00520>\",\"\")","v":""},""]
[{"$f":"IF(AND(様式_ニ十歳!Y18=2,様式_ニ十歳!N18>0),\"<IHA00530>\",\"\")","v":""},""]
[{"$f":"IF(AND(様式_ニ十歳!Y18=2,様式_ニ十歳!N18>0),\"<gen:era>\"&VLOOKUP(TEXT(様式_ニ十歳!N18,\"gggg\"),元号ＴＢ,2,FALSE)&\"</gen:era>\",\"\")","v":""},"","販売していない者の販売停止　元号"]
[{"$f":"IF(AND(様式_ニ十歳!Y18=2,様式_ニ十歳!N18>0),\"<gen:yy>\"&TEXT(様式_ニ十歳!N18,\"e\")&\"</gen:yy>\",\"\")","v":""},"","販売していない者の販売停止　年"]
[{"$f":"IF(AND(様式_ニ十歳!Y18=2,様式_ニ十歳!N18>0),\"<gen:mm>\"&MONTH(様式_ニ十歳!N18)&\"</gen:mm>\",\"\")","v":""},"","販売していない者の販売停止　月"]
[{"$f":"IF(AND(様式_ニ十歳!Y18=2,様式_ニ十歳!N18>0),\"</IHA00530>\",\"\")","v":""},""]
[{"$f":"IF(様式_ニ十歳!Y18>0,\"</IHA00500>\",\"\")","v":""},""]
["</IHA00000>","&amp;lt;/IHA00000&amp;gt;"]
[{"$f":"IF(AND(報告年度=0,様式_ニ十歳!Y22=0,様式_ニ十歳!Y23=0,様式_ニ十歳!Y24=0,様式_ニ十歳!Y25=0,様式_ニ十歳!Y29=0,様式_ニ十歳!Y30=0,様式_ニ十歳!Y31=0),\"\",\"<IHB00000>\")","v":"<IHB00000>"},"&amp;lt;IHB00000&amp;gt;"]
[{"$f":"IF(報告年度=0,\"\",\"<IHB00010>\")","v":"<IHB00010>"},"&amp;lt;IHB00010&amp;gt;"]
[{"$f":"IF(報告年度=0,\"\",\"<gen:era>\"&VLOOKUP(TEXT(報告期間至+1,\"gggg\"),元号ＴＢ,2,FALSE)&\"</gen:era>\")","v":"<gen:era>5</gen:era>"},"&amp;lt;gen:era&amp;gt;5&amp;lt;/gen:era&amp;gt;","状況報告年分　元号"]
[{"$f":"IF(報告年度=0,\"\",\"<gen:yy>\"&TEXT(報告期間至+1,\"e\")&\"</gen:yy>\")","v":"<gen:yy>6</gen:yy>"},"&amp;lt;gen:yy&amp;gt;6&amp;lt;/gen:yy&amp;gt;","状況報告年分　年"]
[{"$f":"IF(報告年度=0,\"\",\"</IHB00010>\")","v":"</IHB00010>"},"&amp;lt;/IHB00010&amp;gt;"]
[{"$f":"IF(AND(様式_ニ十歳!Y22=0,様式_ニ十歳!Y23=0,様式_ニ十歳!Y24=0,様式_ニ十歳!Y25=0,様式_ニ十歳!Y29=0,様式_ニ十歳!Y30=0,様式_ニ十歳!Y31=0),\"\",\"<IHB00020>\")","v":"<IHB00020>"},"&amp;lt;IHB00020&amp;gt;"]
[{"$f":"IF(OR(様式_ニ十歳!Y22>0,様式_ニ十歳!Y23>0,様式_ニ十歳!Y24>0),\"<IHB00030>\",\"\")","v":"<IHB00030>"},"&amp;lt;IHB00030&amp;gt;"]
[{"$f":"IF(様式_ニ十歳!Y22>0,\"<IHB00040>\",\"\")","v":"<IHB00040>"},"&amp;lt;IHB00040&amp;gt;"]
[{"$f":"IF(様式_ニ十歳!Y22>0,\"<kubun_CD>\"&様式_ニ十歳!Y22&\"</kubun_CD>\",\"\")","v":"<kubun_CD>1</kubun_CD>"},"&amp;lt;kubun_CD&amp;gt;1&amp;lt;/kubun_CD&amp;gt;","陳列場所の有無"]
[{"$f":"IF(様式_ニ十歳!Y22>0,\"</IHB00040>\",\"\")","v":"</IHB00040>"},"&amp;lt;/IHB00040&amp;gt;"]
[{"$f":"IF(様式_ニ十歳!Y23>0,\"<IHB00070>\",\"\")","v":"<IHB00070>"},"&amp;lt;IHB00070&amp;gt;"]
[{"$f":"IF(様式_ニ十歳!Y23>0,\"<kubun_CD>\"&様式_ニ十歳!Y23&\"</kubun_CD>\",\"\")","v":"<kubun_CD>1</kubun_CD>"},"&amp;lt;kubun_CD&amp;gt;1&amp;lt;/kubun_CD&amp;gt;","陳列場所　表示基準酒類販売場表示1"]
[{"$f":"IF(様式_ニ十歳!Y23>0,\"</IHB00070>\",\"\")","v":"</IHB00070>"},"&amp;lt;/IHB00070&amp;gt;"]
[{"$f":"IF(様式_ニ十歳!Y24>0,\"<IHB00090>\",\"\")","v":"<IHB00090>"},"&amp;lt;IHB00090&amp;gt;"]
[{"$f":"IF(様式_ニ十歳!Y24>0,\"<kubun_CD>\"&様式_ニ十歳!Y24&\"</kubun_CD>\",\"\")","v":"<kubun_CD>1</kubun_CD>"},"&amp;lt;kubun_CD&amp;gt;1&amp;lt;/kubun_CD&amp;gt;","陳列場所　表示基準酒類販売場表示2"]
[{"$f":"IF(様式_ニ十歳!Y24>0,\"</IHB00090>\",\"\")","v":"</IHB00090>"},"&amp;lt;/IHB00090&amp;gt;"]
[{"$f":"IF(OR(様式_ニ十歳!Y22>0,様式_ニ十歳!Y23>0,様式_ニ十歳!Y24>0),\"</IHB00030>\",\"\")","v":"</IHB00030>"},"&amp;lt;/IHB00030&amp;gt;"]
[{"$f":"IF(OR(様式_ニ十歳!Y25>0,様式_ニ十歳!Y29>0,様式_ニ十歳!Y30>0),\"<IHB00100>\",\"\")","v":"<IHB00100>"},"&amp;lt;IHB00100&amp;gt;"]
[{"$f":"IF(様式_ニ十歳!Y25>0,\"<IHB00110>\",\"\")","v":"<IHB00110>"},"&amp;lt;IHB00110&amp;gt;"]
[{"$f":"IF(様式_ニ十歳!Y25>0,\"<kubun_CD>\"&様式_ニ十歳!Y25&\"</kubun_CD>\",\"\")","v":"<kubun_CD>2</kubun_CD>"},"&amp;lt;kubun_CD&amp;gt;2&amp;lt;/kubun_CD&amp;gt;","通信販売の有無"]
[{"$f":"IF(様式_ニ十歳!Y25>0,\"</IHB00110>\",\"\")","v":"</IHB00110>"},{"$f":"IF(LEFT(A98,4)=\"<!--\",\"\",SUBSTITUTE(SUBSTITUTE(SUBSTITUTE(A98,\"<\",\"&amp;lt;\"),\">\",\"&amp;gt;\"),\"\"\"\",\"&amp;quot;\"))","v":"&amp;lt;/IHB00110&amp;gt;"}]
[{"$f":"IF(様式_ニ十歳!Y28>0,\"<IHB00115>\",\"\")","v":""},""]
[{"$f":"IF(様式_ニ十歳!Y28>0,\"<kubun_CD>\"&様式_ニ十歳!Y28&\"</kubun_CD>\",\"\")","v":""},"","インターネット販売の有無"]
[{"$f":"IF(様式_ニ十歳!Y28>0,\"</IHB00115>\",\"\")","v":""},""]
[{"$f":"IF(様式_ニ十歳!Y29>0,\"<IHB00130>\",\"\")","v":""},""]
[{"$f":"IF(様式_ニ十歳!Y29>0,\"<kubun_CD>\"&様式_ニ十歳!Y29&\"</kubun_CD>\",\"\")","v":""},"","通信販売　表示基準二十歳未満の者の"]
[{"$f":"IF(様式_ニ十歳!Y29>0,\"</IHB00130>\",\"\")","v":""},""]
[{"$f":"IF(様式_ニ十歳!Y30=0,\"\",\"<IHB00140>\")","v":""},""]
[{"$f":"IF(様式_ニ十歳!Y30=0,\"\",\"<kubun_CD>\"&様式_ニ十歳!Y30&\"</kubun_CD>\")","v":""},"","通信販売　年齢書き込みエリア"]
[{"$f":"IF(様式_ニ十歳!Y30=0,\"\",\"</IHB00140>\")","v":""},""]
[{"$f":"IF(OR(様式_ニ十歳!Y25>0,様式_ニ十歳!Y29>0,様式_ニ十歳!Y30>0),\"</IHB00100>\",\"\")","v":"</IHB00100>"},"&amp;lt;/IHB00100&amp;gt;"]
[{"$f":"IF(様式_ニ十歳!Y31>0,\"<IHB00150>\",\"\")","v":"<IHB00150>"},"&amp;lt;IHB00150&amp;gt;"]
[{"$f":"IF(様式_ニ十歳!Y31>0,\"<kubun_CD>\"&様式_ニ十歳!Y31&\"</kubun_CD>\",\"\")","v":"<kubun_CD>2</kubun_CD>"},"&amp;lt;kubun_CD&amp;gt;2&amp;lt;/kubun_CD&amp;gt;","自動販売機の有無"]
[{"$f":"IF(様式_ニ十歳!Y31>0,\"</IHB00150>\",\"\")","v":"</IHB00150>"},"&amp;lt;/IHB00150&amp;gt;"]
[{"$f":"IF(AND(様式_ニ十歳!Y22=0,様式_ニ十歳!Y23=0,様式_ニ十歳!Y24=0,様式_ニ十歳!Y25=0,様式_ニ十歳!Y29=0,様式_ニ十歳!Y30=0,様式_ニ十歳!Y31=0),\"\",\"</IHB00020>\")","v":"</IHB00020>"},"&amp;lt;/IHB00020&amp;gt;"]
[{"$f":"IF(AND(報告年度=0,様式_ニ十歳!Y22=0,様式_ニ十歳!Y23=0,様式_ニ十歳!Y24=0,様式_ニ十歳!Y25=0,様式_ニ十歳!Y29=0,様式_ニ十歳!Y30=0,様式_ニ十歳!Y31=0),\"\",\"</IHB00000>\")","v":"</IHB00000>"},"&amp;lt;/IHB00000&amp;gt;"]
[null,"&lt;/page&gt;&lt;/reportValue&gt;"]
[null,"</param>"]
["</LIZ140>"]
[]
[]
[null,"<param name=\"帳票データ\">","<IIG00000>"]
[null,"&lt;reportValue reportId=&quot;LIZ141&quot; reportName=&quot;「ニ十歳未満の者の飲酒防止に関する表示基準」の実施状況等報告書　2面&quot; leafId=&quot;&quot;&gt;&lt;page reportId=&quot;LIZ141&quot; reportName=&quot;「ニ十歳未満の者の飲酒防止に関する表示基準」の実施状況等報告書　2面&quot; status=&quot;0&quot;&gt;"]
[{"$f":"\"<LIZ141 VR=\"\"5.0\"\" id=\"\"LIZ141-1\"\" page=\"\"1\"\" sakuseiDay=\"\"\"&TEXT(NOW(),\"yyyy-mm-dd\")&\"\"\" sakuseiNM=\"\"\" & 基本項目!$E$10 & \"\"\" softNM=\"\"ntaclient\"\">\"","v":"<LIZ141 VR=\"5.0\" id=\"LIZ141-1\" page=\"1\" sakuseiDay=\"2024-02-15\" sakuseiNM=\"\" softNM=\"ntaclient\">"}]
[{"$f":"IF(SUM(様式_ニ十歳!Y36:Y43)>0,\"<IIG00000>\",\"\")","v":{"$error":"#N/A"}},{"$f":"IF(LEFT(A122,4)=\"<!--\",\"\",SUBSTITUTE(SUBSTITUTE(SUBSTITUTE(A122,\"<\",\"&amp;lt;\"),\">\",\"&amp;gt;\"),\"\"\"\",\"&amp;quot;\"))","v":{"$error":"#N/A"}}]
[{"$f":"IF(様式_ニ十歳!I38>0,\"<IIG00030>\"&DBCS(様式_ニ十歳!I38)&\"</IIG00030>\",\"\")","v":{"$error":"#N/A"}},{"$error":"#N/A"},"販売管理者氏名"]
[{"$f":"IF(様式_ニ十歳!O38>0,\"<IIG00040>\"&ASC(様式_ニ十歳!O38)&\"</IIG00040>\",\"\")","v":{"$error":"#N/A"}},{"$error":"#N/A"},"販売管理者年齢"]
[{"$f":"IF(様式_ニ十歳!$I$39<>0,\"<IIG00050>\",\"\")","v":{"$error":"#N/A"}},{"$error":"#N/A"}]
[{"$f":"IF(様式_ニ十歳!$I$39<>0,\"<gen:era>\"&VLOOKUP(TEXT(様式_ニ十歳!I39,\"gggg\"),元号ＴＢ,2,FALSE)&\"</gen:era>\",\"\")","v":{"$error":"#N/A"}},{"$error":"#N/A"},"販売管理研修受講年号"]
[{"$f":"IF(様式_ニ十歳!$I$39<>0,\"<gen:yy>\"&TEXT(様式_ニ十歳!I39,\"e\")&\"</gen:yy>\",\"\")","v":{"$error":"#N/A"}},{"$error":"#N/A"},"販売管理研修受講年"]
[{"$f":"IF(様式_ニ十歳!$I$39<>0,\"<gen:mm>\"&MONTH(様式_ニ十歳!I39)&\"</gen:mm>\",\"\")","v":{"$error":"#N/A"}},{"$error":"#N/A"},"販売管理研修受講月"]
[{"$f":"IF(様式_ニ十歳!$I$39<>0,\"<gen:dd>\"&DAY(様式_ニ十歳!I39)&\"</gen:dd>\",\"\")","v":{"$error":"#N/A"}},{"$error":"#N/A"},"販売管理研修受講日"]
[{"$f":"IF(様式_ニ十歳!$I$39<>0,\"</IIG00050>\",\"\")","v":{"$error":"#N/A"}},{"$error":"#N/A"}]
[{"$f":"IF(様式_ニ十歳!Y36>0,\"<IIG00060>\",\"\")","v":{"$error":"#N/A"}},{"$error":"#N/A"}]
[{"$f":"IF(様式_ニ十歳!Y36>0,\"<kubun_CD>\"&様式_ニ十歳!Y36&\"</kubun_CD>\",\"\")","v":{"$error":"#N/A"}},{"$error":"#N/A"},"販売管理研修受講有無"]
[{"$f":"IF(様式_ニ十歳!Y36>0,\"</IIG00060>\",\"\")","v":{"$error":"#N/A"}},{"$error":"#N/A"}]
[{"$f":"IF(様式_ニ十歳!Y40>0,\"<IIG00070>\",\"\")","v":"<IIG00070>"},"&amp;lt;IIG00070&amp;gt;"]
[{"$f":"IF(様式_ニ十歳!Y40>0,\"<kubun_CD>\"&様式_ニ十歳!Y40&\"</kubun_CD>\",\"\")","v":"<kubun_CD>1</kubun_CD>"},"&amp;lt;kubun_CD&amp;gt;1&amp;lt;/kubun_CD&amp;gt;","販売管理者選任届出書の提出有無"]
[{"$f":"IF(様式_ニ十歳!Y40>0,\"</IIG00070>\",\"\")","v":"</IIG00070>"},"&amp;lt;/IIG00070&amp;gt;"]
[{"$f":"IF(様式_ニ十歳!Y41>0,\"<IIG00080>\",\"\")","v":"<IIG00080>"},"&amp;lt;IIG00080&amp;gt;"]
[{"$f":"IF(様式_ニ十歳!Y41>0,\"<kubun_CD>\"&様式_ニ十歳!Y43&\"</kubun_CD>\",\"\")","v":"<kubun_CD>1</kubun_CD>"},"&amp;lt;kubun_CD&amp;gt;1&amp;lt;/kubun_CD&amp;gt;","販売管理研修の受講事績標識の有無"]
[{"$f":"IF(様式_ニ十歳!Y41>0,\"</IIG00080>\",\"\")","v":"</IIG00080>"},"&amp;lt;/IIG00080&amp;gt;"]
[{"$f":"IF(様式_ニ十歳!Y42>0,\"<IIG00010>\",\"\")","v":"<IIG00010>"},"&amp;lt;IIG00010&amp;gt;"]
[{"$f":"IF(様式_ニ十歳!Y42>0,\"<kubun_CD>\"&様式_ニ十歳!Y42&\"</kubun_CD>\",\"\")","v":"<kubun_CD>1</kubun_CD>"},"&amp;lt;kubun_CD&amp;gt;1&amp;lt;/kubun_CD&amp;gt;","助言　小売業者への指導有無"]
[{"$f":"IF(様式_ニ十歳!Y42>0,\"</IIG00010>\",\"\")","v":"</IIG00010>"},"&amp;lt;/IIG00010&amp;gt;"]
[{"$f":"IF(様式_ニ十歳!Y43=0,\"\",\"<IIG00020>\")","v":"<IIG00020>"},"&amp;lt;IIG00020&amp;gt;"]
[{"$f":"IF(様式_ニ十歳!Y43=0,\"\",\"<kubun_CD>\"&様式_ニ十歳!Y43&\"</kubun_CD>\")","v":"<kubun_CD>1</kubun_CD>"},"&amp;lt;kubun_CD&amp;gt;1&amp;lt;/kubun_CD&amp;gt;","助言　従業員への研修有無"]
[{"$f":"IF(様式_ニ十歳!Y43=0,\"\",\"</IIG00020>\")","v":"</IIG00020>"},"&amp;lt;/IIG00020&amp;gt;"]
[{"$f":"IF(SUM(様式_ニ十歳!Y36:Y43)>0,\"</IIG00000>\",\"\")","v":{"$error":"#N/A"}},{"$error":"#N/A"}]
[{"$f":"IF(SUM(様式_ニ十歳!$K$60:$O$68)=0,\"\",\"<IIK00000>\")","v":""},{"$f":"IF(LEFT(A147,4)=\"<!--\",\"\",SUBSTITUTE(SUBSTITUTE(SUBSTITUTE(A147,\"<\",\"&amp;lt;\"),\">\",\"&amp;gt;\"),\"\"\"\",\"&amp;quot;\"))","v":""}]
[{"$f":"IF(様式_ニ十歳!$K$60=0,\"\",\"<IIK00010>\"&ASC(様式_ニ十歳!$K$60)&\"</IIK00010>\")","v":""},"","総売上高"]
[{"$f":"IF(様式_ニ十歳!$K$61=0,\"\",\"<IIK00020>\"&ASC(様式_ニ十歳!$K$61)&\"</IIK00020>\")","v":""},"","総売上高"]
[{"$f":"IF(様式_ニ十歳!$K$62=0,\"\",\"<IIK00030>\"&ASC(様式_ニ十歳!$K$62)&\"</IIK00030>\")","v":""},"","内酒類小売による売上高"]
[{"$f":"IF(様式_ニ十歳!$K$63=0,\"\",\"<IIK00040>\"&ASC(様式_ニ十歳!$K$63)&\"</IIK00040>\")","v":""},"","売上総利益"]
[{"$f":"IF(様式_ニ十歳!$K$64=0,\"\",\"<IIK00050>\"&ASC(様式_ニ十歳!$K$64)&\"</IIK00050>\")","v":""},"","内酒類小売による売上総利益"]
[{"$f":"IF(様式_ニ十歳!$K$65=0,\"\",\"<IIK00060>\"&ASC(様式_ニ十歳!$K$65)&\"</IIK00060>\")","v":""},"","営業利益"]
[{"$f":"IF(様式_ニ十歳!$K$66=0,\"\",\"<IIK00065>\"&ASC(様式_ニ十歳!$K$66)&\"</IIK00065>\")","v":""},{"$f":"IF(LEFT(A154,4)=\"<!--\",\"\",SUBSTITUTE(SUBSTITUTE(SUBSTITUTE(A154,\"<\",\"&amp;lt;\"),\">\",\"&amp;gt;\"),\"\"\"\",\"&amp;quot;\"))","v":""},"内酒類小売による営業利益"]
[{"$f":"IF(様式_ニ十歳!$K$67=0,\"\",\"<IIK00070>\"&ASC(様式_ニ十歳!$K$67)&\"</IIK00070>\")","v":""},"","税引前純利益"]
[{"$f":"IF(様式_ニ十歳!$K$68=0,\"\",\"<IIK00080>\"&ASC(様式_ニ十歳!$K$68)&\"</IIK00080>\")","v":""},"","酒類に係る受取リベート"]
[{"$f":"IF(SUM(様式_ニ十歳!$K$60:$O$68)=0,\"\",\"</IIK00000>\")","v":""},""]
[null,"&lt;/page&gt;&lt;/reportValue&gt;"]
[null,"</param>"]
["</LIZ141>"]
[]
[]
[null,"<param name=\"帳票データ\">"]
[null,"&lt;reportValue reportId=&quot;LIZ142&quot; reportName=&quot;「ニ十歳未満の者の飲酒防止に関する表示基準」の実施状況等報告書　3面&quot; leafId=&quot;&quot;&gt;&lt;page reportId=&quot;LIZ142&quot; reportName=&quot;「ニ十歳未満の者の飲酒防止に関する表示基準」の実施状況等報告書　3面&quot; status=&quot;0&quot;&gt;"]
[]
[{"$f":"IF(OR(様式_ニ十歳!Y72>0,様式_ニ十歳!Y73>0),\"<IJC00000>\",\"\")","v":"<IJC00000>"},{"$f":"IF(LEFT(A166,4)=\"<!--\",\"\",SUBSTITUTE(SUBSTITUTE(SUBSTITUTE(A166,\"<\",\"&amp;lt;\"),\">\",\"&amp;gt;\"),\"\"\"\",\"&amp;quot;\"))","v":"&amp;lt;IJC00000&amp;gt;"}]
[{"$f":"IF(様式_ニ十歳!Y72>0,\"<IJC00010>\",\"\")","v":"<IJC00010>"},"&amp;lt;IJC00010&amp;gt;"]
[{"$f":"IF(様式_ニ十歳!Y72>0,\"<kubun_CD>\"&様式_ニ十歳!Y72&\"</kubun_CD>\",\"\")","v":"<kubun_CD>1</kubun_CD>"},"&amp;lt;kubun_CD&amp;gt;1&amp;lt;/kubun_CD&amp;gt;","二十歳未満の者のへの年齢確認有無"]
[{"$f":"IF(様式_ニ十歳!Y72>0,\"</IJC00010>\",\"\")","v":"</IJC00010>"},"&amp;lt;/IJC00010&amp;gt;"]
[{"$f":"IF(様式_ニ十歳!Y73>0,\"<IJC00020>\",\"\")","v":"<IJC00020>"},"&amp;lt;IJC00020&amp;gt;"]
[{"$f":"IF(様式_ニ十歳!Y73>0,\"<kubun_CD>\"&様式_ニ十歳!Y73&\"</kubun_CD>\",\"\")","v":"<kubun_CD>1</kubun_CD>"},"&amp;lt;kubun_CD&amp;gt;1&amp;lt;/kubun_CD&amp;gt;","未成年飲酒防止ポスターの掲示有無"]
[{"$f":"IF(様式_ニ十歳!Y73>0,\"</IJC00020>\",\"\")","v":"</IJC00020>"},"&amp;lt;/IJC00020&amp;gt;"]
[{"$f":"IF(OR(様式_ニ十歳!Y72>0,様式_ニ十歳!Y73>0),\"</IJC00000>\",\"\")","v":"</IJC00000>"},"&amp;lt;/IJC00000&amp;gt;"]
[{"$f":"IF(OR(様式_ニ十歳!Y74>0,様式_ニ十歳!Y75>0),\"<IJD00000>\",\"\")","v":"<IJD00000>"},"&amp;lt;IJD00000&amp;gt;"]
[{"$f":"IF(様式_ニ十歳!Y74>0,\"<IJD00010>\",\"\")","v":"<IJD00010>"},"&amp;lt;IJD00010&amp;gt;"]
[{"$f":"IF(様式_ニ十歳!Y74>0,\"<kubun_CD>\"&様式_ニ十歳!Y74&\"</kubun_CD>\",\"\")","v":"<kubun_CD>1</kubun_CD>"},"&amp;lt;kubun_CD&amp;gt;1&amp;lt;/kubun_CD&amp;gt;","飲酒運転防止対策の有無"]
[{"$f":"IF(様式_ニ十歳!Y74>0,\"</IJD00010>\",\"\")","v":"</IJD00010>"},"&amp;lt;/IJD00010&amp;gt;"]
[{"$f":"IF(様式_ニ十歳!Y75>0,\"<IJD00020>\",\"\")","v":"<IJD00020>"},"&amp;lt;IJD00020&amp;gt;"]
[{"$f":"IF(様式_ニ十歳!Y75>0,\"<kubun_CD>\"&様式_ニ十歳!Y75&\"</kubun_CD>\",\"\")","v":"<kubun_CD>1</kubun_CD>"},"&amp;lt;kubun_CD&amp;gt;1&amp;lt;/kubun_CD&amp;gt;","飲酒運転防止の一声有無"]
[{"$f":"IF(様式_ニ十歳!Y75>0,\"</IJD00020>\",\"\")","v":"</IJD00020>"},"&amp;lt;/IJD00020&amp;gt;"]
[{"$f":"IF(OR(様式_ニ十歳!Y74>0,様式_ニ十歳!Y75>0),\"</IJD00000>\",\"\")","v":"</IJD00000>"},"&amp;lt;/IJD00000&amp;gt;"]
[{"$f":"IF(OR(様式_ニ十歳!Y76>0,様式_ニ十歳!Y77>0,様式_ニ十歳!Y78>0,様式_ニ十歳!Y79>0),\"<IJE00000>\",\"\")","v":"<IJE00000>"},"&amp;lt;IJE00000&amp;gt;"]
[{"$f":"IF(様式_ニ十歳!Y76>0,\"<IJE00010>\",\"\")","v":"<IJE00010>"},"&amp;lt;IJE00010&amp;gt;"]
[{"$f":"IF(様式_ニ十歳!Y76>0,\"<kubun_CD>\"&様式_ニ十歳!Y76&\"</kubun_CD>\",\"\")","v":"<kubun_CD>1</kubun_CD>"},"&amp;lt;kubun_CD&amp;gt;1&amp;lt;/kubun_CD&amp;gt;","リサイクル容器の利用有無"]
[{"$f":"IF(様式_ニ十歳!Y76>0,\"</IJE00010>\",\"\")","v":"</IJE00010>"},"&amp;lt;/IJE00010&amp;gt;"]
[{"$f":"IF(様式_ニ十歳!Y77>0,\"<IJE00020>\",\"\")","v":"<IJE00020>"},"&amp;lt;IJE00020&amp;gt;"]
[{"$f":"IF(様式_ニ十歳!Y77>0,\"<kubun_CD>\"&様式_ニ十歳!Y77&\"</kubun_CD>\",\"\")","v":"<kubun_CD>1</kubun_CD>"},"&amp;lt;kubun_CD&amp;gt;1&amp;lt;/kubun_CD&amp;gt;","リサイクル容器の回収有無"]
[{"$f":"IF(様式_ニ十歳!Y77>0,\"</IJE00020>\",\"\")","v":"</IJE00020>"},"&amp;lt;/IJE00020&amp;gt;"]
[{"$f":"IF(様式_ニ十歳!Y78>0,\"<IJE00030>\",\"\")","v":"<IJE00030>"},"&amp;lt;IJE00030&amp;gt;"]
[{"$f":"IF(様式_ニ十歳!Y78>0,\"<kubun_CD>\"&様式_ニ十歳!Y78&\"</kubun_CD>\",\"\")","v":"<kubun_CD>1</kubun_CD>"},"&amp;lt;kubun_CD&amp;gt;1&amp;lt;/kubun_CD&amp;gt;","リサイクル容器の回収マニュアル有無"]
[{"$f":"IF(様式_ニ十歳!Y78>0,\"</IJE00030>\",\"\")","v":"</IJE00030>"},"&amp;lt;/IJE00030&amp;gt;"]
[{"$f":"IF(様式_ニ十歳!Y79>0,\"<IJE00040>\",\"\")","v":"<IJE00040>"},"&amp;lt;IJE00040&amp;gt;"]
[{"$f":"IF(様式_ニ十歳!Y79>0,\"<kubun_CD>\"&様式_ニ十歳!Y79&\"</kubun_CD>\",\"\")","v":"<kubun_CD>1</kubun_CD>"},"&amp;lt;kubun_CD&amp;gt;1&amp;lt;/kubun_CD&amp;gt;","リサイクル容器の回収実施表示"]
[{"$f":"IF(様式_ニ十歳!Y79>0,\"</IJE00040>\",\"\")","v":"</IJE00040>"},"&amp;lt;/IJE00040&amp;gt;"]
[{"$f":"IF(OR(様式_ニ十歳!Y76>0,様式_ニ十歳!Y77>0,様式_ニ十歳!Y78>0,様式_ニ十歳!Y79>0),\"</IJE00000>\",\"\")","v":"</IJE00000>"},"&amp;lt;/IJE00000&amp;gt;"]
[{"$f":"IF(様式_ニ十歳!Y80>0,\"<IJF00000>\",\"\")","v":"<IJF00000>"},"&amp;lt;IJF00000&amp;gt;","適正飲酒ポスター掲示有無"]
[{"$f":"IF(様式_ニ十歳!Y80>0,\"<kubun_CD>\"&様式_ニ十歳!Y80&\"</kubun_CD>\",\"\")","v":"<kubun_CD>1</kubun_CD>"},"&amp;lt;kubun_CD&amp;gt;1&amp;lt;/kubun_CD&amp;gt;"]
[{"$f":"IF(様式_ニ十歳!Y80>0,\"</IJF00000>\",\"\")","v":"</IJF00000>"},"&amp;lt;/IJF00000&amp;gt;"]
[{"$f":"IF(様式_ニ十歳!N81>0,\"<IJG00000>\",\"\")","v":"<IJG00000>"},"&amp;lt;IJG00000&amp;gt;"]
[{"$f":"IF(様式_ニ十歳!N81>0,\"<IJG00010>\"&ASC(様式_ニ十歳!N81)&\"</IJG00010>\",\"\")","v":"<IJG00010>8</IJG00010>"},"&amp;lt;IJG00010&amp;gt;8&amp;lt;/IJG00010&amp;gt;","販売管理者に代わる責任者数"]
[{"$f":"IF(AND(様式_ニ十歳!$C$84=\"\",様式_ニ十歳!$J$84=\"\",様式_ニ十歳!$L$84=\"\"),\"\",\"<IJG00020>\")","v":{"$error":"#N/A"}},{"$error":"#N/A"}]
[{"$f":"IF(様式_ニ十歳!$C$84=\"\",\"\",\"<IJG00030>\"&DBCS(様式_ニ十歳!$C$84)&\"</IJG00030>\")","v":{"$error":"#N/A"}},{"$error":"#N/A"},"販売管理責任者１氏名"]
[{"$f":"IF(様式_ニ十歳!$J$84=\"\",\"\",\"<IJG00040>\"&ASC(様式_ニ十歳!$J$84)&\"</IJG00040>\")","v":{"$error":"#N/A"}},{"$error":"#N/A"},"販売管理責任者１年齢"]
[{"$f":"IF(様式_ニ十歳!$L$84=\"\",\"\",\"<IJG00050>\"&様式_ニ十歳!$L$84&\"</IJG00050>\")","v":{"$error":"#N/A"}},{"$error":"#N/A"},"販売管理責任者１指名基準"]
[{"$f":"IF(AND(様式_ニ十歳!$C$84=\"\",様式_ニ十歳!$J$84=\"\",様式_ニ十歳!$L$84=\"\"),\"\",\"</IJG00020>\")","v":{"$error":"#N/A"}},{"$error":"#N/A"}]
[{"$f":"IF(AND(様式_ニ十歳!$O$84=\"\",様式_ニ十歳!$T$84=\"\",様式_ニ十歳!$V$84=\"\"),\"\",\"<IJG00020>\")","v":{"$error":"#N/A"}},{"$error":"#N/A"}]
[{"$f":"IF(様式_ニ十歳!$O$84=\"\",\"\",\"<IJG00030>\"&DBCS(様式_ニ十歳!$O$84)&\"</IJG00030>\")","v":{"$error":"#N/A"}},{"$error":"#N/A"},"販売管理責任者２氏名"]
[{"$f":"IF(様式_ニ十歳!$T$84=\"\",\"\",\"<IJG00040>\"&ASC(様式_ニ十歳!$T$84)&\"</IJG00040>\")","v":{"$error":"#N/A"}},{"$error":"#N/A"},"販売管理責任者２年齢"]
[{"$f":"IF(様式_ニ十歳!$V$84=\"\",\"\",\"<IJG00050>\"&様式_ニ十歳!$V$84&\"</IJG00050>\")","v":{"$error":"#N/A"}},{"$error":"#N/A"},"販売管理責任者２指名基準"]
[{"$f":"IF(AND(様式_ニ十歳!$O$84=\"\",様式_ニ十歳!$T$84=\"\",様式_ニ十歳!$V$84=\"\"),\"\",\"</IJG00020>\")","v":{"$error":"#N/A"}},{"$error":"#N/A"}]
[{"$f":"IF(AND(様式_ニ十歳!$C$85=\"\",様式_ニ十歳!$J$85=\"\",様式_ニ十歳!$L$85=\"\"),\"\",\"<IJG00020>\")","v":{"$error":"#N/A"}},{"$error":"#N/A"}]
[{"$f":"IF(様式_ニ十歳!$C$85=\"\",\"\",\"<IJG00030>\"&DBCS(様式_ニ十歳!$C$85)&\"</IJG00030>\")","v":{"$error":"#N/A"}},{"$error":"#N/A"},"販売管理責任者３氏名"]
[{"$f":"IF(様式_ニ十歳!$J$85=\"\",\"\",\"<IJG00040>\"&ASC(様式_ニ十歳!$J$85)&\"</IJG00040>\")","v":{"$error":"#N/A"}},{"$error":"#N/A"},"販売管理責任者３年齢"]
[{"$f":"IF(様式_ニ十歳!$L$85=\"\",\"\",\"<IJG00050>\"&様式_ニ十歳!$L$85&\"</IJG00050>\")","v":{"$error":"#N/A"}},{"$error":"#N/A"},"販売管理責任者３指名基準"]
[{"$f":"IF(AND(様式_ニ十歳!$C$85=\"\",様式_ニ十歳!$J$85=\"\",様式_ニ十歳!$L$85=\"\"),\"\",\"</IJG00020>\")","v":{"$error":"#N/A"}},{"$error":"#N/A"}]
[{"$f":"IF(AND(様式_ニ十歳!$O$85=\"\",様式_ニ十歳!$T$85=\"\",様式_ニ十歳!$V$85=\"\"),\"\",\"<IJG00020>\")","v":{"$error":"#N/A"}},{"$error":"#N/A"}]
[{"$f":"IF(様式_ニ十歳!$O$85=\"\",\"\",\"<IJG00030>\"&DBCS(様式_ニ十歳!$O$85)&\"</IJG00030>\")","v":{"$error":"#N/A"}},{"$error":"#N/A"},"販売管理責任者４氏名"]
[{"$f":"IF(様式_ニ十歳!$T$85=\"\",\"\",\"<IJG00040>\"&ASC(様式_ニ十歳!$T$85)&\"</IJG00040>\")","v":{"$error":"#N/A"}},{"$error":"#N/A"},"販売管理責任者４年齢"]
[{"$f":"IF(様式_ニ十歳!$V$85=\"\",\"\",\"<IJG00050>\"&様式_ニ十歳!$V$85&\"</IJG00050>\")","v":{"$error":"#N/A"}},{"$error":"#N/A"},"販売管理責任者４指名基準"]
[{"$f":"IF(AND(様式_ニ十歳!$O$85=\"\",様式_ニ十歳!$T$85=\"\",様式_ニ十歳!$V$85=\"\"),\"\",\"</IJG00020>\")","v":{"$error":"#N/A"}},{"$error":"#N/A"}]
[{"$f":"IF(AND(様式_ニ十歳!$C$86=\"\",様式_ニ十歳!$J$86=\"\",様式_ニ十歳!$L$86=\"\"),\"\",\"<IJG00020>\")","v":{"$error":"#N/A"}},{"$error":"#N/A"}]
[{"$f":"IF(様式_ニ十歳!$C$86=\"\",\"\",\"<IJG00030>\"&DBCS(様式_ニ十歳!$C$86)&\"</IJG00030>\")","v":{"$error":"#N/A"}},{"$error":"#N/A"},"販売管理責任者５氏名"]
[{"$f":"IF(様式_ニ十歳!$J$86=\"\",\"\",\"<IJG00040>\"&ASC(様式_ニ十歳!$J$86)&\"</IJG00040>\")","v":{"$error":"#N/A"}},{"$error":"#N/A"},"販売管理責任者５年齢"]
[{"$f":"IF(様式_ニ十歳!$L$86=\"\",\"\",\"<IJG00050>\"&様式_ニ十歳!$L$86&\"</IJG00050>\")","v":{"$error":"#N/A"}},{"$error":"#N/A"},"販売管理責任者５指名基準"]
[{"$f":"IF(AND(様式_ニ十歳!$C$86=\"\",様式_ニ十歳!$J$86=\"\",様式_ニ十歳!$L$86=\"\"),\"\",\"</IJG00020>\")","v":{"$error":"#N/A"}},{"$error":"#N/A"}]
[{"$f":"IF(AND(様式_ニ十歳!$O$86=\"\",様式_ニ十歳!$T$86=\"\",様式_ニ十歳!$V$86=\"\"),\"\",\"<IJG00020>\")","v":{"$error":"#N/A"}},{"$error":"#N/A"}]
[{"$f":"IF(様式_ニ十歳!$O$86=\"\",\"\",\"<IJG00030>\"&DBCS(様式_ニ十歳!$O$86)&\"</IJG00030>\")","v":{"$error":"#N/A"}},{"$error":"#N/A"},"販売管理責任者６氏名"]
[{"$f":"IF(様式_ニ十歳!$T$86=\"\",\"\",\"<IJG00040>\"&ASC(様式_ニ十歳!$T$86)&\"</IJG00040>\")","v":{"$error":"#N/A"}},{"$error":"#N/A"},"販売管理責任者６年齢"]
[{"$f":"IF(様式_ニ十歳!$V$86=\"\",\"\",\"<IJG00050>\"&様式_ニ十歳!$V$86&\"</IJG00050>\")","v":{"$error":"#N/A"}},{"$error":"#N/A"},"販売管理責任者６指名基準"]
[{"$f":"IF(AND(様式_ニ十歳!$O$86=\"\",様式_ニ十歳!$T$86=\"\",様式_ニ十歳!$V$86=\"\"),\"\",\"</IJG00020>\")","v":{"$error":"#N/A"}},{"$f":"IF(LEFT(A230,4)=\"<!--\",\"\",SUBSTITUTE(SUBSTITUTE(SUBSTITUTE(A230,\"<\",\"&amp;lt;\"),\">\",\"&amp;gt;\"),\"\"\"\",\"&amp;quot;\"))","v":{"$error":"#N/A"}}]
[{"$f":"IF(AND(様式_ニ十歳!$C$87=\"\",様式_ニ十歳!$J$87=\"\",様式_ニ十歳!$L$87=\"\"),\"\",\"<IJG00020>\")","v":{"$error":"#N/A"}},{"$error":"#N/A"}]
[{"$f":"IF(様式_ニ十歳!$C$87=\"\",\"\",\"<IJG00030>\"&DBCS(様式_ニ十歳!$C$87)&\"</IJG00030>\")","v":{"$error":"#N/A"}},{"$error":"#N/A"},"販売管理責任者７氏名"]
[{"$f":"IF(様式_ニ十歳!$J$87=\"\",\"\",\"<IJG00040>\"&ASC(様式_ニ十歳!$J$87)&\"</IJG00040>\")","v":{"$error":"#N/A"}},{"$error":"#N/A"},"販売管理責任者７年齢"]
[{"$f":"IF(様式_ニ十歳!$L$87=\"\",\"\",\"<IJG00050>\"&様式_ニ十歳!$L$87&\"</IJG00050>\")","v":{"$error":"#N/A"}},{"$error":"#N/A"},"販売管理責任者７指名基準"]
[{"$f":"IF(AND(様式_ニ十歳!$C$87=\"\",様式_ニ十歳!$J$87=\"\",様式_ニ十歳!$L$87=\"\"),\"\",\"</IJG00020>\")","v":{"$error":"#N/A"}},{"$error":"#N/A"}]
[{"$f":"IF(AND(様式_ニ十歳!$O$87=\"\",様式_ニ十歳!$T$87=\"\",様式_ニ十歳!$V$87=\"\"),\"\",\"<IJG00020>\")","v":{"$error":"#N/A"}},{"$error":"#N/A"}]
[{"$f":"IF(様式_ニ十歳!$O$87=\"\",\"\",\"<IJG00030>\"&DBCS(様式_ニ十歳!$O$87)&\"</IJG00030>\")","v":{"$error":"#N/A"}},{"$error":"#N/A"},"販売管理責任者８氏名"]
[{"$f":"IF(様式_ニ十歳!$T$87=\"\",\"\",\"<IJG00040>\"&ASC(様式_ニ十歳!$T$87)&\"</IJG00040>\")","v":{"$error":"#N/A"}},{"$error":"#N/A"},"販売管理責任者８年齢"]
[{"$f":"IF(様式_ニ十歳!$V$87=\"\",\"\",\"<IJG00050>\"&様式_ニ十歳!$V$87&\"</IJG00050>\")","v":{"$error":"#N/A"}},{"$error":"#N/A"},"販売管理責任者８指名基準"]
[{"$f":"IF(AND(様式_ニ十歳!$O$87=\"\",様式_ニ十歳!$T$87=\"\",様式_ニ十歳!$V$87=\"\"),\"\",\"</IJG00020>\")","v":{"$error":"#N/A"}},{"$error":"#N/A"}]
[{"$f":"IF(様式_ニ十歳!N81>0,\"</IJG00000>\",\"\")","v":"</IJG00000>"},"&amp;lt;/IJG00000&amp;gt;"]
[null,"&lt;/page&gt;&lt;/reportValue&gt;"]
[null,"</param>"]
["</LIZ142>"]
[]
[]
[null,"<param name=\"帳票データ\">"]
[null,"&lt;reportValue reportId=&quot;LIZ143&quot; reportName=&quot;「ニ十歳未満の者の飲酒防止に関する表示基準」の実施状況等報告書　4面&quot; leafId=&quot;LIZ143&quot;&gt;&lt;page reportId=&quot;LIZ143&quot; reportName=&quot;「ニ十歳未満の者の飲酒防止に関する表示基準」の実施状況等報告書　4面&quot; status=&quot;0&quot;&gt;"]
[{"$f":"\"<LIZ142 VR=\"\"4.0\"\" id=\"\"LIZ142-1\"\" page=\"\"1\"\" sakuseiDay=\"\"\"&TEXT(NOW(),\"yyyy-mm-dd\")&\"\"\" sakuseiNM=\"\"\" & 基本項目!$E$10 & \"\"\" softNM=\"\"ntaclient\"\">\"","v":"<LIZ142 VR=\"4.0\" id=\"LIZ142-1\" page=\"1\" sakuseiDay=\"2024-02-15\" sakuseiNM=\"\" softNM=\"ntaclient\">"}]
[{"$f":"IF(SUM(様式_ニ十歳!$Y$108:$Y$117,様式_ニ十歳!$Y$120:$Y$123)>0,\"<IKC00000>\",\"\")","v":""},{"$f":"IF(LEFT(A250,4)=\"<!--\",\"\",SUBSTITUTE(SUBSTITUTE(SUBSTITUTE(A250,\"<\",\"&amp;lt;\"),\">\",\"&amp;gt;\"),\"\"\"\",\"&amp;quot;\"))","v":""}]
[{"$f":"IF(様式_ニ十歳!$J$107>0,\"<IKC00010>\"&ASC(様式_ニ十歳!$J$107)&\"</IKC00010>\",\"\")","v":""},"","自動販売機１の順号"]
[{"$f":"IF(様式_ニ十歳!$Y$108>0,\"<IKC00020>\",\"\")","v":""},""]
[{"$f":"IF(様式_ニ十歳!$Y$108>0,\"<gen:era>\"&様式_ニ十歳!$Y$108&\"</gen:era>\",\"\")","v":""},"","自動販売機１の設置年月　元号"]
[{"$f":"IF(様式_ニ十歳!$Y$108>0,\"<gen:yy>\"&TEXT(様式_ニ十歳!$J$108,\"e\")&\"</gen:yy>\",\"\")","v":""},"","自動販売機１の設置年月　年"]
[{"$f":"IF(様式_ニ十歳!$Y$108>0,\"<gen:mm>\"&MONTH(様式_ニ十歳!$J$108)&\"</gen:mm>\",\"\")","v":""},"","自動販売機１の設置年月　月"]
[{"$f":"IF(様式_ニ十歳!$Y$108>0,\"</IKC00020>\",\"\")","v":""},""]
[{"$f":"IF(様式_ニ十歳!$Y$109>0,\"<IKC00030>\",\"\")","v":""},""]
[{"$f":"IF(様式_ニ十歳!$Y$109>0,\"<kubun_CD>\"&様式_ニ十歳!$Y$109&\"</kubun_CD>\",\"\")","v":""},"","自動販売機１の改良区分"]
[{"$f":"IF(様式_ニ十歳!$Y$109>0,\"</IKC00030>\",\"\")","v":""},""]
[{"$f":"IF(様式_ニ十歳!$Y$110>0,\"<IKC00040>\",\"\")","v":""},""]
[{"$f":"IF(様式_ニ十歳!$Y$110>0,\"<kubun_CD>\"&様式_ニ十歳!$Y$110&\"</kubun_CD>\",\"\")","v":""},"","自動販売機１の店内設置区分"]
[{"$f":"IF(様式_ニ十歳!$Y$110>0,\"</IKC00040>\",\"\")","v":""},""]
[{"$f":"IF(SUM(様式_ニ十歳!$Y$111:$Y$115)>0,\"<IKC00050>\",\"\")","v":""},""]
[{"$f":"IF(様式_ニ十歳!$Y$111>0,\"<IKC00060>\",\"\")","v":""},""]
[{"$f":"IF(様式_ニ十歳!$Y$111>0,\"<kubun_CD>\"&様式_ニ十歳!$Y$111&\"</kubun_CD>\",\"\")","v":""},"","自動販売機１の二十歳未満の者の飲酒防止表示有無"]
[{"$f":"IF(様式_ニ十歳!$Y$111>0,\"</IKC00060>\",\"\")","v":""},""]
[{"$f":"IF(様式_ニ十歳!$Y$112>0,\"<IKC00070>\",\"\")","v":""},""]
[{"$f":"IF(様式_ニ十歳!$Y$112>0,\"<kubun_CD>\"&様式_ニ十歳!$Y$112&\"</kubun_CD>\",\"\")","v":""},"","自動販売機１の免許者表示有無"]
[{"$f":"IF(様式_ニ十歳!$Y$112>0,\"</IKC00070>\",\"\")","v":""},""]
[{"$f":"IF(様式_ニ十歳!$Y$113>0,\"<IKC00080>\",\"\")","v":""},""]
[{"$f":"IF(様式_ニ十歳!$Y$113>0,\"<kubun_CD>\"&様式_ニ十歳!$Y$113&\"</kubun_CD>\",\"\")","v":""},"","自動販売機１の販売管理者表示有無"]
[{"$f":"IF(様式_ニ十歳!$Y$113>0,\"</IKC00080>\",\"\")","v":""},""]
[{"$f":"IF(様式_ニ十歳!$Y$114>0,\"<IKC00090>\",\"\")","v":""},""]
[{"$f":"IF(様式_ニ十歳!$Y$114>0,\"<kubun_CD>\"&様式_ニ十歳!$Y$114&\"</kubun_CD>\",\"\")","v":""},"","自動販売機１の連絡先電話番号表示有無"]
[{"$f":"IF(様式_ニ十歳!$Y$114>0,\"</IKC00090>\",\"\")","v":""},""]
[{"$f":"IF(様式_ニ十歳!$Y$115>0,\"<IKC00100>\",\"\")","v":""},""]
[{"$f":"IF(様式_ニ十歳!$Y$115>0,\"<kubun_CD>\"&様式_ニ十歳!$Y$115&\"</kubun_CD>\",\"\")","v":""},"","自動販売機１の販売停止時間有無"]
[{"$f":"IF(様式_ニ十歳!$Y$115>0,\"</IKC00100>\",\"\")","v":""},""]
[{"$f":"IF(SUM(様式_ニ十歳!$Y$111:$Y$115)>0,\"</IKC00050>\",\"\")","v":""},""]
[{"$f":"IF(SUM(様式_ニ十歳!$Y$116:$Y$117)>0,\"<IKC00110>\",\"\")","v":""},""]
[{"$f":"IF(様式_ニ十歳!$Y$116>0,\"<IKC00120>\",\"\")","v":""},""]
[{"$f":"IF(様式_ニ十歳!$Y$116>0,\"<kubun_CD>\"&様式_ニ十歳!$Y$116&\"</kubun_CD>\",\"\")","v":""},"","自動販売機１の撤廃予定区分"]
[{"$f":"IF(様式_ニ十歳!$Y$116>0,\"</IKC00120>\",\"\")","v":""},""]
[{"$f":"IF(様式_ニ十歳!$Y$117>0,\"<IKC00130>\",\"\")","v":""},""]
[{"$f":"IF(様式_ニ十歳!$Y$117>0,\"<gen:era>\"&様式_ニ十歳!$Y$117&\"</gen:era>\",\"\")","v":""},"","自動販売機１の撤廃予定年月　元号"]
[{"$f":"IF(様式_ニ十歳!$Y$117>0,\"<gen:yy>\"&TEXT(様式_ニ十歳!$J$117,\"e\")&\"</gen:yy>\",\"\")","v":""},"","自動販売機１の撤廃予定年月　年"]
[{"$f":"IF(様式_ニ十歳!$Y$117>0,\"<gen:mm>\"&MONTH(様式_ニ十歳!$J$117)&\"</gen:mm>\",\"\")","v":""},"","自動販売機１の撤廃予定年月　月"]
[{"$f":"IF(様式_ニ十歳!$Y$117>0,\"<gen:dd>\"&DAY(様式_ニ十歳!$J$117)&\"</gen:dd>\",\"\")","v":""},"","自動販売機１の撤廃予定年月　日"]
[{"$f":"IF(様式_ニ十歳!$Y$117>0,\"</IKC00130>\",\"\")","v":""},""]
[{"$f":"IF(SUM(様式_ニ十歳!$Y$116:$Y$117)>0,\"</IKC00110>\",\"\")","v":""},""]
[{"$f":"IF(SUM(様式_ニ十歳!$Y$120:$Y$121)>0,\"<IKC00140>\",\"\")","v":""},""]
[{"$f":"IF(様式_ニ十歳!$Y$120>0,\"<IKC00150>\",\"\")","v":""},""]
[{"$f":"IF(様式_ニ十歳!$Y$120>0,\"<kubun_CD>\"&様式_ニ十歳!$Y$120&\"</kubun_CD>\",\"\")","v":""},"","自動販売機１の表示基準を遵守しない理由区分"]
[{"$f":"IF(様式_ニ十歳!$Y$120>0,\"</IKC00150>\",\"\")","v":""},""]
[{"$f":"IF(様式_ニ十歳!$Y$121>0,\"<IKC00160>\",\"\")","v":""},""]
[{"$f":"IF(様式_ニ十歳!$Y$121>0,\"<gen:era>\"&様式_ニ十歳!$Y$121&\"</gen:era>\",\"\")","v":""},"","自動販売機１の表示基準遵守予定期限　元号"]
[{"$f":"IF(様式_ニ十歳!$Y$121>0,\"<gen:yy>\"&TEXT(様式_ニ十歳!$J$121,\"e\")&\"</gen:yy>\",\"\")","v":""},"","自動販売機１の表示基準遵守予定期限　年"]
[{"$f":"IF(様式_ニ十歳!$Y$121>0,\"<gen:mm>\"&MONTH(様式_ニ十歳!$J$121)&\"</gen:mm>\",\"\")","v":""},"","自動販売機１の表示基準遵守予定期限　月"]
[{"$f":"IF(様式_ニ十歳!$Y$121>0,\"<gen:dd>\"&DAY(様式_ニ十歳!$J$121)&\"</gen:dd>\",\"\")","v":""},"","自動販売機１の表示基準遵守予定期限　日"]
[{"$f":"IF(様式_ニ十歳!$Y$121>0,\"</IKC00160>\",\"\")","v":""},""]
[{"$f":"IF(SUM(様式_ニ十歳!$Y$120:$Y$121)>0,\"</IKC00140>\",\"\")","v":""},""]
[{"$f":"IF(様式_ニ十歳!$Y$122>0,\"<IKC00170>\",\"\")","v":""},""]
[{"$f":"IF(様式_ニ十歳!$Y$122>0,\"<kubun_CD>\"&様式_ニ十歳!$Y$122&\"</kubun_CD>\",\"\")","v":""},{"$f":"IF(LEFT(A303,4)=\"<!--\",\"\",SUBSTITUTE(SUBSTITUTE(SUBSTITUTE(A303,\"<\",\"&amp;lt;\"),\">\",\"&amp;gt;\"),\"\"\"\",\"&amp;quot;\"))","v":""},"自動販売機１の販売停止タイマー設定有無"]
[{"$f":"IF(様式_ニ十歳!$Y$122>0,\"</IKC00170>\",\"\")","v":""},""]
[{"$f":"IF(様式_ニ十歳!$Y$123>0,\"<IKC00180>\",\"\")","v":""},""]
[{"$f":"IF(様式_ニ十歳!$Y$123>0,\"<kubun_CD>\"&様式_ニ十歳!$Y$123&\"</kubun_CD>\",\"\")","v":""},"","自動販売機１のセレクトボタンの酒表示有無"]
[{"$f":"IF(様式_ニ十歳!$Y$123>0,\"</IKC00180>\",\"\")","v":""},""]
[{"$f":"IF(SUM(様式_ニ十歳!$Y$108:$Y$117,様式_ニ十歳!$Y$120:$Y$123)>0,\"</IKC00000>\",\"\")","v":""},""]
[{"$f":"IF(SUM(様式_ニ十歳!$Z$108:$Z$117,様式_ニ十歳!$Z$120:$Z$123)>0,\"<IKC00000>\",\"\")","v":""},""]
[{"$f":"IF(様式_ニ十歳!$M$107>0,\"<IKC00010>\"&ASC(様式_ニ十歳!$M$107)&\"</IKC00010>\",\"\")","v":""},"","自動販売機２の順号"]
[{"$f":"IF(様式_ニ十歳!$Z$108>0,\"<IKC00020>\",\"\")","v":""},""]
[{"$f":"IF(様式_ニ十歳!$Z$108>0,\"<gen:era>\"&様式_ニ十歳!$Z$108&\"</gen:era>\",\"\")","v":""},"","自動販売機２の設置年月　元号"]
[{"$f":"IF(様式_ニ十歳!$Z$108>0,\"<gen:yy>\"&TEXT(様式_ニ十歳!$M$108,\"e\")&\"</gen:yy>\",\"\")","v":""},"","自動販売機２の設置年月　年"]
[{"$f":"IF(様式_ニ十歳!$Z$108>0,\"<gen:mm>\"&MONTH(様式_ニ十歳!$M$108)&\"</gen:mm>\",\"\")","v":""},"","自動販売機２の設置年月　月"]
[{"$f":"IF(様式_ニ十歳!$Z$108>0,\"</IKC00020>\",\"\")","v":""},""]
[{"$f":"IF(様式_ニ十歳!$Z$109>0,\"<IKC00030>\",\"\")","v":""},""]
[{"$f":"IF(様式_ニ十歳!$Z$109>0,\"<kubun_CD>\"&様式_ニ十歳!$Z$109&\"</kubun_CD>\",\"\")","v":""},"","自動販売機２の改良区分"]
[{"$f":"IF(様式_ニ十歳!$Z$109>0,\"</IKC00030>\",\"\")","v":""},""]
[{"$f":"IF(様式_ニ十歳!$Z$110>0,\"<IKC00040>\",\"\")","v":""},""]
[{"$f":"IF(様式_ニ十歳!$Z$110>0,\"<kubun_CD>\"&様式_ニ十歳!$Z$110&\"</kubun_CD>\",\"\")","v":""},"","自動販売機２の店内設置区分"]
[{"$f":"IF(様式_ニ十歳!$Z$110>0,\"</IKC00040>\",\"\")","v":""},""]
[{"$f":"IF(SUM(様式_ニ十歳!$Z$111:$Z$115)>0,\"<IKC00050>\",\"\")","v":""},""]
[{"$f":"IF(様式_ニ十歳!$Z$111>0,\"<IKC00060>\",\"\")","v":""},""]
[{"$f":"IF(様式_ニ十歳!$Z$111>0,\"<kubun_CD>\"&様式_ニ十歳!$Z$111&\"</kubun_CD>\",\"\")","v":""},"","自動販売機２の二十歳未満の者の飲酒防止表示有無"]
[{"$f":"IF(様式_ニ十歳!$Z$111>0,\"</IKC00060>\",\"\")","v":""},""]
[{"$f":"IF(様式_ニ十歳!$Z$112>0,\"<IKC00070>\",\"\")","v":""},""]
[{"$f":"IF(様式_ニ十歳!$Z$112>0,\"<kubun_CD>\"&様式_ニ十歳!$Z$112&\"</kubun_CD>\",\"\")","v":""},"","自動販売機２の免許者表示有無"]
[{"$f":"IF(様式_ニ十歳!$Z$112>0,\"</IKC00070>\",\"\")","v":""},""]
[{"$f":"IF(様式_ニ十歳!$Z$113>0,\"<IKC00080>\",\"\")","v":""},""]
[{"$f":"IF(様式_ニ十歳!$Z$113>0,\"<kubun_CD>\"&様式_ニ十歳!$Z$113&\"</kubun_CD>\",\"\")","v":""},"","自動販売機２の販売管理者表示有無"]
[{"$f":"IF(様式_ニ十歳!$Z$113>0,\"</IKC00080>\",\"\")","v":""},""]
[{"$f":"IF(様式_ニ十歳!$Z$114>0,\"<IKC00090>\",\"\")","v":""},""]
[{"$f":"IF(様式_ニ十歳!$Z$114>0,\"<kubun_CD>\"&様式_ニ十歳!$Z$114&\"</kubun_CD>\",\"\")","v":""},"","自動販売機２の連絡先電話番号表示有無"]
[{"$f":"IF(様式_ニ十歳!$Z$114>0,\"</IKC00090>\",\"\")","v":""},""]
[{"$f":"IF(様式_ニ十歳!$Z$115>0,\"<IKC00100>\",\"\")","v":""},""]
[{"$f":"IF(様式_ニ十歳!$Z$115>0,\"<kubun_CD>\"&様式_ニ十歳!$Z$115&\"</kubun_CD>\",\"\")","v":""},"","自動販売機２の販売停止時間有無"]
[{"$f":"IF(様式_ニ十歳!$Z$115>0,\"</IKC00100>\",\"\")","v":""},""]
[{"$f":"IF(SUM(様式_ニ十歳!$Z$111:$Z$115)>0,\"</IKC00050>\",\"\")","v":""},""]
[{"$f":"IF(SUM(様式_ニ十歳!$Z$116:$Z$117)>0,\"<IKC00110>\",\"\")","v":""},""]
[{"$f":"IF(様式_ニ十歳!$Z$116>0,\"<IKC00120>\",\"\")","v":""},""]
[{"$f":"IF(様式_ニ十歳!$Z$116>0,\"<kubun_CD>\"&様式_ニ十歳!$Z$116&\"</kubun_CD>\",\"\")","v":""},"","自動販売機２の撤廃予定区分"]
[{"$f":"IF(様式_ニ十歳!$Z$116>0,\"</IKC00120>\",\"\")","v":""},""]
[{"$f":"IF(様式_ニ十歳!$Z$117>0,\"<IKC00130>\",\"\")","v":""},""]
[{"$f":"IF(様式_ニ十歳!$Z$117>0,\"<gen:era>\"&様式_ニ十歳!$Z$117&\"</gen:era>\",\"\")","v":""},"","自動販売機２の撤廃予定年月　元号"]
[{"$f":"IF(様式_ニ十歳!$Z$117>0,\"<gen:yy>\"&TEXT(様式_ニ十歳!$M$117,\"e\")&\"</gen:yy>\",\"\")","v":""},"","自動販売機２の撤廃予定年月　年"]
[{"$f":"IF(様式_ニ十歳!$Z$117>0,\"<gen:mm>\"&MONTH(様式_ニ十歳!$M$117)&\"</gen:mm>\",\"\")","v":""},"","自動販売機２の撤廃予定年月　月"]
[{"$f":"IF(様式_ニ十歳!$Z$117>0,\"<gen:dd>\"&DAY(様式_ニ十歳!$M$117)&\"</gen:dd>\",\"\")","v":""},"","自動販売機２の撤廃予定年月　日"]
[{"$f":"IF(様式_ニ十歳!$Z$117>0,\"</IKC00130>\",\"\")","v":""},""]
[{"$f":"IF(SUM(様式_ニ十歳!$Z$116:$Z$117)>0,\"</IKC00110>\",\"\")","v":""},""]
[{"$f":"IF(SUM(様式_ニ十歳!$Z$120:$Z$121)>0,\"<IKC00140>\",\"\")","v":""},""]
[{"$f":"IF(様式_ニ十歳!$Z$120>0,\"<IKC00150>\",\"\")","v":""},""]
[{"$f":"IF(様式_ニ十歳!$Z$120>0,\"<kubun_CD>\"&様式_ニ十歳!$Z$120&\"</kubun_CD>\",\"\")","v":""},"","自動販売機２の表示基準を遵守しない理由区分"]
[{"$f":"IF(様式_ニ十歳!$Z$120>0,\"</IKC00150>\",\"\")","v":""},""]
[{"$f":"IF(様式_ニ十歳!$Z$121>0,\"<IKC00160>\",\"\")","v":""},""]
[{"$f":"IF(様式_ニ十歳!$Z$121>0,\"<gen:era>\"&様式_ニ十歳!$Z$121&\"</gen:era>\",\"\")","v":""},"","自動販売機２の表示基準遵守予定期限　元号"]
[{"$f":"IF(様式_ニ十歳!$Z$121>0,\"<gen:yy>\"&TEXT(様式_ニ十歳!$M$121,\"e\")&\"</gen:yy>\",\"\")","v":""},"","自動販売機２の表示基準遵守予定期限　年"]
[{"$f":"IF(様式_ニ十歳!$Z$121>0,\"<gen:mm>\"&MONTH(様式_ニ十歳!$M$121)&\"</gen:mm>\",\"\")","v":""},"","自動販売機２の表示基準遵守予定期限　月"]
[{"$f":"IF(様式_ニ十歳!$Z$121>0,\"<gen:dd>\"&DAY(様式_ニ十歳!$M$121)&\"</gen:dd>\",\"\")","v":""},"","自動販売機２の表示基準遵守予定期限　日"]
[{"$f":"IF(様式_ニ十歳!$Z$121>0,\"</IKC00160>\",\"\")","v":""},""]
[{"$f":"IF(SUM(様式_ニ十歳!$Z$120:$Z$121)>0,\"</IKC00140>\",\"\")","v":""},""]
[{"$f":"IF(様式_ニ十歳!$Z$122>0,\"<IKC00170>\",\"\")","v":""},""]
[{"$f":"IF(様式_ニ十歳!$Z$122>0,\"<kubun_CD>\"&様式_ニ十歳!$Z$122&\"</kubun_CD>\",\"\")","v":""},"","自動販売機２の販売停止タイマー設定有無"]
[{"$f":"IF(様式_ニ十歳!$Z$122>0,\"</IKC00170>\",\"\")","v":""},""]
[{"$f":"IF(様式_ニ十歳!$Z$123>0,\"<IKC00180>\",\"\")","v":""},""]
[{"$f":"IF(様式_ニ十歳!$Z$123>0,\"<kubun_CD>\"&様式_ニ十歳!$Z$123&\"</kubun_CD>\",\"\")","v":""},"","自動販売機２のセレクトボタンの酒表示有無"]
[{"$f":"IF(様式_ニ十歳!$Z$123>0,\"</IKC00180>\",\"\")","v":""},""]
[{"$f":"IF(SUM(様式_ニ十歳!$Z$108:$Z$117,様式_ニ十歳!$Z$120:$Z$123)>0,\"</IKC00000>\",\"\")","v":""},""]
[{"$f":"IF(SUM(様式_ニ十歳!$AA$108:$AA$117,様式_ニ十歳!$AA$120:$AA$123)>0,\"<IKC00000>\",\"\")","v":""},{"$f":"IF(LEFT(A368,4)=\"<!--\",\"\",SUBSTITUTE(SUBSTITUTE(SUBSTITUTE(A368,\"<\",\"&amp;lt;\"),\">\",\"&amp;gt;\"),\"\"\"\",\"&amp;quot;\"))","v":""}]
[{"$f":"IF(様式_ニ十歳!$P$107>0,\"<IKC00010>\"&ASC(様式_ニ十歳!$P$107)&\"</IKC00010>\",\"\")","v":""},"","自動販売機３の順号"]
[{"$f":"IF(様式_ニ十歳!$AA$108>0,\"<IKC00020>\",\"\")","v":""},""]
[{"$f":"IF(様式_ニ十歳!$AA$108>0,\"<gen:era>\"&様式_ニ十歳!$AA$108&\"</gen:era>\",\"\")","v":""},"","自動販売機３の設置年月　元号"]
[{"$f":"IF(様式_ニ十歳!$AA$108>0,\"<gen:yy>\"&TEXT(様式_ニ十歳!$P$108,\"e\")&\"</gen:yy>\",\"\")","v":""},"","自動販売機３の設置年月　年"]
[{"$f":"IF(様式_ニ十歳!$AA$108>0,\"<gen:mm>\"&MONTH(様式_ニ十歳!$P$108)&\"</gen:mm>\",\"\")","v":""},"","自動販売機３の設置年月　月"]
[{"$f":"IF(様式_ニ十歳!$AA$108>0,\"</IKC00020>\",\"\")","v":""},""]
[{"$f":"IF(様式_ニ十歳!$AA$109>0,\"<IKC00030>\",\"\")","v":""},""]
[{"$f":"IF(様式_ニ十歳!$AA$109>0,\"<kubun_CD>\"&様式_ニ十歳!$AA$109&\"</kubun_CD>\",\"\")","v":""},"","自動販売機３の改良区分"]
[{"$f":"IF(様式_ニ十歳!$AA$109>0,\"</IKC00030>\",\"\")","v":""},""]
[{"$f":"IF(様式_ニ十歳!$AA$110>0,\"<IKC00040>\",\"\")","v":""},""]
[{"$f":"IF(様式_ニ十歳!$AA$110>0,\"<kubun_CD>\"&様式_ニ十歳!$AA$110&\"</kubun_CD>\",\"\")","v":""},"","自動販売機３の店内設置区分"]
[{"$f":"IF(様式_ニ十歳!$AA$110>0,\"</IKC00040>\",\"\")","v":""},""]
[{"$f":"IF(SUM(様式_ニ十歳!$AA$111:$AA$115)>0,\"<IKC00050>\",\"\")","v":""},""]
[{"$f":"IF(様式_ニ十歳!$AA$111>0,\"<IKC00060>\",\"\")","v":""},""]
[{"$f":"IF(様式_ニ十歳!$AA$111>0,\"<kubun_CD>\"&様式_ニ十歳!$AA$111&\"</kubun_CD>\",\"\")","v":""},"","自動販売機３の二十歳未満の者の飲酒防止表示有無"]
[{"$f":"IF(様式_ニ十歳!$AA$111>0,\"</IKC00060>\",\"\")","v":""},""]
[{"$f":"IF(様式_ニ十歳!$AA$112>0,\"<IKC00070>\",\"\")","v":""},""]
[{"$f":"IF(様式_ニ十歳!$AA$112>0,\"<kubun_CD>\"&様式_ニ十歳!$AA$112&\"</kubun_CD>\",\"\")","v":""},"","自動販売機３の免許者表示有無"]
[{"$f":"IF(様式_ニ十歳!$AA$112>0,\"</IKC00070>\",\"\")","v":""},""]
[{"$f":"IF(様式_ニ十歳!$AA$113>0,\"<IKC00080>\",\"\")","v":""},""]
[{"$f":"IF(様式_ニ十歳!$AA$113>0,\"<kubun_CD>\"&様式_ニ十歳!$AA$113&\"</kubun_CD>\",\"\")","v":""},"","自動販売機３の販売管理者表示有無"]
[{"$f":"IF(様式_ニ十歳!$AA$113>0,\"</IKC00080>\",\"\")","v":""},""]
[{"$f":"IF(様式_ニ十歳!$AA$114>0,\"<IKC00090>\",\"\")","v":""},""]
[{"$f":"IF(様式_ニ十歳!$AA$114>0,\"<kubun_CD>\"&様式_ニ十歳!$AA$114&\"</kubun_CD>\",\"\")","v":""},"","自動販売機３の連絡先電話番号表示有無"]
[{"$f":"IF(様式_ニ十歳!$AA$114>0,\"</IKC00090>\",\"\")","v":""},""]
[{"$f":"IF(様式_ニ十歳!$AA$115>0,\"<IKC00100>\",\"\")","v":""},""]
[{"$f":"IF(様式_ニ十歳!$AA$115>0,\"<kubun_CD>\"&様式_ニ十歳!$AA$115&\"</kubun_CD>\",\"\")","v":""},"","自動販売機３の販売停止時間有無"]
[{"$f":"IF(様式_ニ十歳!$AA$115>0,\"</IKC00100>\",\"\")","v":""},""]
[{"$f":"IF(SUM(様式_ニ十歳!$AA$111:$AA$115)>0,\"</IKC00050>\",\"\")","v":""},""]
[{"$f":"IF(SUM(様式_ニ十歳!$AA$116:$AA$117)>0,\"<IKC00110>\",\"\")","v":""},""]
[{"$f":"IF(様式_ニ十歳!$AA$116>0,\"<IKC00120>\",\"\")","v":""},""]
[{"$f":"IF(様式_ニ十歳!$AA$116>0,\"<kubun_CD>\"&様式_ニ十歳!$AA$116&\"</kubun_CD>\",\"\")","v":""},"","自動販売機３の撤廃予定区分"]
[{"$f":"IF(様式_ニ十歳!$AA$116>0,\"</IKC00120>\",\"\")","v":""},""]
[{"$f":"IF(様式_ニ十歳!$AA$117>0,\"<IKC00130>\",\"\")","v":""},""]
[{"$f":"IF(様式_ニ十歳!$AA$117>0,\"<gen:era>\"&様式_ニ十歳!$AA$117&\"</gen:era>\",\"\")","v":""},"","自動販売機３の撤廃予定年月　元号"]
[{"$f":"IF(様式_ニ十歳!$AA$117>0,\"<gen:yy>\"&TEXT(様式_ニ十歳!$P$117,\"e\")&\"</gen:yy>\",\"\")","v":""},"","自動販売機３の撤廃予定年月　年"]
[{"$f":"IF(様式_ニ十歳!$AA$117>0,\"<gen:mm>\"&MONTH(様式_ニ十歳!$P$117)&\"</gen:mm>\",\"\")","v":""},"","自動販売機３の撤廃予定年月　月"]
[{"$f":"IF(様式_ニ十歳!$AA$117>0,\"<gen:dd>\"&DAY(様式_ニ十歳!$P$117)&\"</gen:dd>\",\"\")","v":""},"","自動販売機３の撤廃予定年月　日"]
[{"$f":"IF(様式_ニ十歳!$AA$117>0,\"</IKC00130>\",\"\")","v":""},""]
[{"$f":"IF(SUM(様式_ニ十歳!$AA$116:$AA$117)>0,\"</IKC00110>\",\"\")","v":""},""]
[{"$f":"IF(SUM(様式_ニ十歳!$AA$120:$AA$121)>0,\"<IKC00140>\",\"\")","v":""},""]
[{"$f":"IF(様式_ニ十歳!$AA$120>0,\"<IKC00150>\",\"\")","v":""},""]
[{"$f":"IF(様式_ニ十歳!$AA$120>0,\"<kubun_CD>\"&様式_ニ十歳!$AA$120&\"</kubun_CD>\",\"\")","v":""},"","自動販売機３の表示基準を遵守しない理由区分"]
[{"$f":"IF(様式_ニ十歳!$AA$120>0,\"</IKC00150>\",\"\")","v":""},""]
[{"$f":"IF(様式_ニ十歳!$AA$121>0,\"<IKC00160>\",\"\")","v":""},""]
[{"$f":"IF(様式_ニ十歳!$AA$121>0,\"<gen:era>\"&様式_ニ十歳!$AA$121&\"</gen:era>\",\"\")","v":""},"","自動販売機３の表示基準遵守予定期限　元号"]
[{"$f":"IF(様式_ニ十歳!$AA$121>0,\"<gen:yy>\"&TEXT(様式_ニ十歳!$P$121,\"e\")&\"</gen:yy>\",\"\")","v":""},"","自動販売機３の表示基準遵守予定期限　年"]
[{"$f":"IF(様式_ニ十歳!$AA$121>0,\"<gen:mm>\"&MONTH(様式_ニ十歳!$P$121)&\"</gen:mm>\",\"\")","v":""},"","自動販売機３の表示基準遵守予定期限　月"]
[{"$f":"IF(様式_ニ十歳!$AA$121>0,\"<gen:dd>\"&DAY(様式_ニ十歳!$P$121)&\"</gen:dd>\",\"\")","v":""},"","自動販売機３の表示基準遵守予定期限　日"]
[{"$f":"IF(様式_ニ十歳!$AA$121>0,\"</IKC00160>\",\"\")","v":""},""]
[{"$f":"IF(SUM(様式_ニ十歳!$AA$120:$AA$121)>0,\"</IKC00140>\",\"\")","v":""},""]
[{"$f":"IF(様式_ニ十歳!$AA$122>0,\"<IKC00170>\",\"\")","v":""},""]
[{"$f":"IF(様式_ニ十歳!$AA$122>0,\"<kubun_CD>\"&様式_ニ十歳!$AA$122&\"</kubun_CD>\",\"\")","v":""},"","自動販売機３の販売停止タイマー設定有無"]
[{"$f":"IF(様式_ニ十歳!$AA$122>0,\"</IKC00170>\",\"\")","v":""},""]
[{"$f":"IF(様式_ニ十歳!$AA$123>0,\"<IKC00180>\",\"\")","v":""},""]
[{"$f":"IF(様式_ニ十歳!$AA$123>0,\"<kubun_CD>\"&様式_ニ十歳!$AA$123&\"</kubun_CD>\",\"\")","v":""},"","自動販売機３のセレクトボタンの酒表示有無"]
[{"$f":"IF(様式_ニ十歳!$AA$123>0,\"</IKC00180>\",\"\")","v":""},""]
[{"$f":"IF(SUM(様式_ニ十歳!$AA$108:$AA$117,様式_ニ十歳!$AA$120:$AA$123)>0,\"</IKC00000>\",\"\")","v":""},""]
[{"$f":"IF(SUM(様式_ニ十歳!$AB$108:$AB$117,様式_ニ十歳!$AB$120:$AB$123)>0,\"<IKC00000>\",\"\")","v":""},""]
[{"$f":"IF(様式_ニ十歳!$S$107>0,\"<IKC00010>\"&ASC(様式_ニ十歳!$S$107)&\"</IKC00010>\",\"\")","v":""},"","自動販売機４の順号"]
[{"$f":"IF(様式_ニ十歳!$AB$108>0,\"<IKC00020>\",\"\")","v":""},""]
[{"$f":"IF(様式_ニ十歳!$AB$108>0,\"<gen:era>\"&様式_ニ十歳!$AB$108&\"</gen:era>\",\"\")","v":""},"","自動販売機４の設置年月　元号"]
[{"$f":"IF(様式_ニ十歳!$AB$108>0,\"<gen:yy>\"&TEXT(様式_ニ十歳!$S$108,\"e\")&\"</gen:yy>\",\"\")","v":""},"","自動販売機４の設置年月　年"]
[{"$f":"IF(様式_ニ十歳!$AB$108>0,\"<gen:mm>\"&MONTH(様式_ニ十歳!$S$108)&\"</gen:mm>\",\"\")","v":""},"","自動販売機４の設置年月　月"]
[{"$f":"IF(様式_ニ十歳!$AB$108>0,\"</IKC00020>\",\"\")","v":""},""]
[{"$f":"IF(様式_ニ十歳!$AB$109>0,\"<IKC00030>\",\"\")","v":""},{"$f":"IF(LEFT(A434,4)=\"<!--\",\"\",SUBSTITUTE(SUBSTITUTE(SUBSTITUTE(A434,\"<\",\"&amp;lt;\"),\">\",\"&amp;gt;\"),\"\"\"\",\"&amp;quot;\"))","v":""}]
[{"$f":"IF(様式_ニ十歳!$AB$109>0,\"<kubun_CD>\"&様式_ニ十歳!$AB$109&\"</kubun_CD>\",\"\")","v":""},"","自動販売機４の改良区分"]
[{"$f":"IF(様式_ニ十歳!$AB$109>0,\"</IKC00030>\",\"\")","v":""},""]
[{"$f":"IF(様式_ニ十歳!$AB$110>0,\"<IKC00040>\",\"\")","v":""},""]
[{"$f":"IF(様式_ニ十歳!$AB$110>0,\"<kubun_CD>\"&様式_ニ十歳!$AB$110&\"</kubun_CD>\",\"\")","v":""},"","自動販売機４の店内設置区分"]
[{"$f":"IF(様式_ニ十歳!$AB$110>0,\"</IKC00040>\",\"\")","v":""},""]
[{"$f":"IF(SUM(様式_ニ十歳!$AB$111:$AB$115)>0,\"<IKC00050>\",\"\")","v":""},""]
[{"$f":"IF(様式_ニ十歳!$AB$111>0,\"<IKC00060>\",\"\")","v":""},""]
[{"$f":"IF(様式_ニ十歳!$AB$111>0,\"<kubun_CD>\"&様式_ニ十歳!$AB$111&\"</kubun_CD>\",\"\")","v":""},"","自動販売機４の二十歳未満の者の飲酒防止表示有無"]
[{"$f":"IF(様式_ニ十歳!$AB$111>0,\"</IKC00060>\",\"\")","v":""},""]
[{"$f":"IF(様式_ニ十歳!$AB$112>0,\"<IKC00070>\",\"\")","v":""},""]
[{"$f":"IF(様式_ニ十歳!$AB$112>0,\"<kubun_CD>\"&様式_ニ十歳!$AB$112&\"</kubun_CD>\",\"\")","v":""},"","自動販売機４の免許者表示有無"]
[{"$f":"IF(様式_ニ十歳!$AB$112>0,\"</IKC00070>\",\"\")","v":""},""]
[{"$f":"IF(様式_ニ十歳!$AB$113>0,\"<IKC00080>\",\"\")","v":""},""]
[{"$f":"IF(様式_ニ十歳!$AB$113>0,\"<kubun_CD>\"&様式_ニ十歳!$AB$113&\"</kubun_CD>\",\"\")","v":""},"","自動販売機４の販売管理者表示有無"]
[{"$f":"IF(様式_ニ十歳!$AB$113>0,\"</IKC00080>\",\"\")","v":""},""]
[{"$f":"IF(様式_ニ十歳!$AB$114>0,\"<IKC00090>\",\"\")","v":""},""]
[{"$f":"IF(様式_ニ十歳!$AB$114>0,\"<kubun_CD>\"&様式_ニ十歳!$AB$114&\"</kubun_CD>\",\"\")","v":""},"","自動販売機４の連絡先電話番号表示有無"]
[{"$f":"IF(様式_ニ十歳!$AB$114>0,\"</IKC00090>\",\"\")","v":""},""]
[{"$f":"IF(様式_ニ十歳!$AB$115>0,\"<IKC00100>\",\"\")","v":""},""]
[{"$f":"IF(様式_ニ十歳!$AB$115>0,\"<kubun_CD>\"&様式_ニ十歳!$AB$115&\"</kubun_CD>\",\"\")","v":""},"","自動販売機４の販売停止時間有無"]
[{"$f":"IF(様式_ニ十歳!$AB$115>0,\"</IKC00100>\",\"\")","v":""},""]
[{"$f":"IF(SUM(様式_ニ十歳!$AB$111:$AB$115)>0,\"</IKC00050>\",\"\")","v":""},""]
[{"$f":"IF(SUM(様式_ニ十歳!$AB$116:$AB$117)>0,\"<IKC00110>\",\"\")","v":""},""]
[{"$f":"IF(様式_ニ十歳!$AB$116>0,\"<IKC00120>\",\"\")","v":""},""]
[{"$f":"IF(様式_ニ十歳!$AB$116>0,\"<kubun_CD>\"&様式_ニ十歳!$AB$116&\"</kubun_CD>\",\"\")","v":""},"","自動販売機４の撤廃予定区分"]
[{"$f":"IF(様式_ニ十歳!$AB$116>0,\"</IKC00120>\",\"\")","v":""},""]
[{"$f":"IF(様式_ニ十歳!$AB$117>0,\"<IKC00130>\",\"\")","v":""},""]
[{"$f":"IF(様式_ニ十歳!$AB$117>0,\"<gen:era>\"&様式_ニ十歳!$AB$117&\"</gen:era>\",\"\")","v":""},"","自動販売機４の撤廃予定年月　元号"]
[{"$f":"IF(様式_ニ十歳!$AB$117>0,\"<gen:yy>\"&TEXT(様式_ニ十歳!$S$117,\"e\")&\"</gen:yy>\",\"\")","v":""},"","自動販売機４の撤廃予定年月　年"]
[{"$f":"IF(様式_ニ十歳!$AB$117>0,\"<gen:mm>\"&MONTH(様式_ニ十歳!$S$117)&\"</gen:mm>\",\"\")","v":""},"","自動販売機４の撤廃予定年月　月"]
[{"$f":"IF(様式_ニ十歳!$AB$117>0,\"<gen:dd>\"&DAY(様式_ニ十歳!$S$117)&\"</gen:dd>\",\"\")","v":""},"","自動販売機４の撤廃予定年月　日"]
[{"$f":"IF(様式_ニ十歳!$AB$117>0,\"</IKC00130>\",\"\")","v":""},""]
[{"$f":"IF(SUM(様式_ニ十歳!$AB$116:$AB$117)>0,\"</IKC00110>\",\"\")","v":""},""]
[{"$f":"IF(SUM(様式_ニ十歳!$AB$120:$AB$121)>0,\"<IKC00140>\",\"\")","v":""},""]
[{"$f":"IF(様式_ニ十歳!$AB$120>0,\"<IKC00150>\",\"\")","v":""},""]
[{"$f":"IF(様式_ニ十歳!$AB$120>0,\"<kubun_CD>\"&様式_ニ十歳!$AB$120&\"</kubun_CD>\",\"\")","v":""},"","自動販売機４の表示基準を遵守しない理由区分"]
[{"$f":"IF(様式_ニ十歳!$AB$120>0,\"</IKC00150>\",\"\")","v":""},""]
[{"$f":"IF(様式_ニ十歳!$AB$121>0,\"<IKC00160>\",\"\")","v":""},""]
[{"$f":"IF(様式_ニ十歳!$AB$121>0,\"<gen:era>\"&様式_ニ十歳!$AB$121&\"</gen:era>\",\"\")","v":""},"","自動販売機４の表示基準遵守予定期限　元号"]
[{"$f":"IF(様式_ニ十歳!$AB$121>0,\"<gen:yy>\"&TEXT(様式_ニ十歳!$S$121,\"e\")&\"</gen:yy>\",\"\")","v":""},"","自動販売機４の表示基準遵守予定期限　年"]
[{"$f":"IF(様式_ニ十歳!$AB$121>0,\"<gen:mm>\"&MONTH(様式_ニ十歳!$S$121)&\"</gen:mm>\",\"\")","v":""},"","自動販売機４の表示基準遵守予定期限　月"]
[{"$f":"IF(様式_ニ十歳!$AB$121>0,\"<gen:dd>\"&DAY(様式_ニ十歳!$S$121)&\"</gen:dd>\",\"\")","v":""},"","自動販売機４の表示基準遵守予定期限　日"]
[{"$f":"IF(様式_ニ十歳!$AB$121>0,\"</IKC00160>\",\"\")","v":""},""]
[{"$f":"IF(SUM(様式_ニ十歳!$AB$120:$AB$121)>0,\"</IKC00140>\",\"\")","v":""},""]
[{"$f":"IF(様式_ニ十歳!$AB$122>0,\"<IKC00170>\",\"\")","v":""},""]
[{"$f":"IF(様式_ニ十歳!$AB$122>0,\"<kubun_CD>\"&様式_ニ十歳!$AB$122&\"</kubun_CD>\",\"\")","v":""},"","自動販売機４の販売停止タイマー設定有無"]
[{"$f":"IF(様式_ニ十歳!$AB$122>0,\"</IKC00170>\",\"\")","v":""},""]
[{"$f":"IF(様式_ニ十歳!$AB$123>0,\"<IKC00180>\",\"\")","v":""},""]
[{"$f":"IF(様式_ニ十歳!$AB$123>0,\"<kubun_CD>\"&様式_ニ十歳!$AB$123&\"</kubun_CD>\",\"\")","v":""},"","自動販売機４のセレクトボタンの酒表示有無"]
[{"$f":"IF(様式_ニ十歳!$AB$123>0,\"</IKC00180>\",\"\")","v":""},""]
[{"$f":"IF(SUM(様式_ニ十歳!$AB$108:$AB$117,様式_ニ十歳!$AB$120:$AB$123)>0,\"</IKC00000>\",\"\")","v":""},""]
[{"$f":"IF(SUM(様式_ニ十歳!$Y$108:$AB$117,様式_ニ十歳!$Y$120:$AB$123)=0,\"\",\"<IKD00000>\")","v":""},""]
[{"$f":"IF(SUM(様式_ニ十歳!$Y$108:$AB$117,様式_ニ十歳!$Y$120:$AB$123)=0,\"\",\"<IKD00010>\")","v":""},""]
[{"$f":"IF(SUM(様式_ニ十歳!$Y$108:$AB$117,様式_ニ十歳!$Y$120:$AB$123)=0,\"\",\"<IKD00020>\")","v":""},""]
[{"$f":"IF(SUM(様式_ニ十歳!$Y$108:$AB$117,様式_ニ十歳!$Y$120:$AB$123)=0,\"\",\"<kubun_CD>\"&NOT(様式_ニ十歳!$Y$118)+1&\"</kubun_CD>\")","v":""},"","自動販売機廃棄しない理由１（経済的）"]
[{"$f":"IF(SUM(様式_ニ十歳!$Y$108:$AB$117,様式_ニ十歳!$Y$120:$AB$123)=0,\"\",\"</IKD00020>\")","v":""},""]
[{"$f":"IF(SUM(様式_ニ十歳!$Y$108:$AB$117,様式_ニ十歳!$Y$120:$AB$123)=0,\"\",\"<IKD00030>\")","v":""},""]
[{"$f":"IF(SUM(様式_ニ十歳!$Y$108:$AB$117,様式_ニ十歳!$Y$120:$AB$123)=0,\"\",\"<kubun_CD>\"&NOT(様式_ニ十歳!$Z$118)+1&\"</kubun_CD>\")","v":""},"","自動販売機廃棄しない理由２（環境）"]
[{"$f":"IF(SUM(様式_ニ十歳!$Y$108:$AB$117,様式_ニ十歳!$Y$120:$AB$123)=0,\"\",\"</IKD00030>\")","v":""},""]
[{"$f":"IF(SUM(様式_ニ十歳!Y108:AB117,様式_ニ十歳!Y120:AB123)=0,\"\",\"<IKD00040>\")","v":""},""]
[{"$f":"IF(SUM(様式_ニ十歳!$Y$108:$AB$117,様式_ニ十歳!$Y$120:$AB$123)=0,\"\",\"<IKD00050>\")","v":""},"","自動販売機廃棄しない理由３（その他）"]
[{"$f":"IF(SUM(様式_ニ十歳!$Y$108:$AB$117,様式_ニ十歳!$Y$120:$AB$123)=0,\"\",\"<kubun_CD>\"&NOT(様式_ニ十歳!$AA$118)+1&\"</kubun_CD>\")","v":""},""]
[{"$f":"IF(SUM(様式_ニ十歳!$Y$108:$AB$117,様式_ニ十歳!$Y$120:$AB$123)=0,\"\",\"</IKD00050>\")","v":""},""]
[{"$f":"IF(様式_ニ十歳!N119=\"\",\"\",\"<IKD00060>\"&DBCS(様式_ニ十歳!N119)&\"</IKD00060>\")","v":""},"","自動販売機廃棄しない理由３（その他）の具体的理由"]
[{"$f":"IF(SUM(様式_ニ十歳!Y108:AB117,様式_ニ十歳!Y120:AB123)=0,\"\",\"</IKD00040>\")","v":""},""]
[{"$f":"IF(SUM(様式_ニ十歳!Y108:AB117,様式_ニ十歳!Y120:AB123)=0,\"\",\"</IKD00010>\")","v":""},{"$f":"IF(LEFT(A500,4)=\"<!--\",\"\",SUBSTITUTE(SUBSTITUTE(SUBSTITUTE(A500,\"<\",\"&amp;lt;\"),\">\",\"&amp;gt;\"),\"\"\"\",\"&amp;quot;\"))","v":""}]
[{"$f":"IF(SUM(様式_ニ十歳!Y108:AB117,様式_ニ十歳!Y120:AB123)=0,\"\",\"</IKD00000>\")","v":""},{"$f":"IF(LEFT(A501,4)=\"<!--\",\"\",SUBSTITUTE(SUBSTITUTE(SUBSTITUTE(A501,\"<\",\"&amp;lt;\"),\">\",\"&amp;gt;\"),\"\"\"\",\"&amp;quot;\"))","v":""}]
[null,"&lt;/page&gt;&lt;/reportValue&gt;"]
[null,"</param>"]
["</LIZ143>"]

{"sheet":"利用者ファイル基本","index":8,"n_rows":30,"n_cols":2,"rows_kept":30,"cut":false,"hidden":true,"merged":[]}
["備考","利用者ファイル内容（共通）"]
["ヘッダー部分","<?xml version=\"1.0\" encoding=\"UTF-8\"?>"]
[null,"<itemclass name=\"キャビネット\" progId=\"nta.CLCCabinet.1\">"]
[null,"<param name=\"リビジョン\">2.10.0.0</param>"]
[null,"<param name=\"申告等管理\">"]
[null,"<container name=\"申告等管理\" progId=\"nta.CLCStatementManager.1\">"]
[]
["データ部分","ヘッダーとフッターの間に個々の販売数量等のデータを挿入する。"]
[]
["フッター部分","</container>"]
[null,"</param>"]
[null,"<param name=\"納税者等情報\">"]
[null,"<itemclass name=\"納税者等情報\" progId=\"nta.CLCProfile.1\">"]
[null,"<param name=\"納税者等情報内容部\">"]
[null,"<itemclass name=\"納税者等情報内容部\" progId=\"nta.CLCProfileContent.1\">"]
["個人は0,法人は1",{"$f":"\"<param name=\"\"個人法人フラグ\"\">\"&IF(LEFT(基本項目!$E$6,1)=\"1\",\"0\",\"1\")&\"</param>\"","v":"<param name=\"個人法人フラグ\">1</param>"}]
["販売業者名",{"$f":"\"<param name=\"\"氏名名称\"\">\"&基本項目!$E$10&\"</param>\"","v":"<param name=\"氏名名称\"></param>"}]
["販売業者名（カナ）",{"$f":"\"<param name=\"\"氏名名称読み\"\">\"&基本項目!$E$11&\"</param>\"","v":"<param name=\"氏名名称読み\"></param>"}]
["製造場：税務署番号",{"$f":"\"<param name=\"\"所轄税務署番号\"\">\"&基本項目!$I$33&\"</param>\"","v":{"$error":"#N/A"}}]
["製造場：所在地",{"$f":"\"<param name=\"\"製造所住所\"\">\"&基本項目!$E$30&\"</param>\"","v":{"$error":"#N/A"}}]
["製造者：代表",{"$f":"\"<param name=\"\"代表者氏名\"\">\"&基本項目!$E$13&\"</param>\"","v":"<param name=\"代表者氏名\"></param>"}]
["製造者：代表（カナ）",{"$f":"\"<param name=\"\"代表者氏名読み\"\">\"&基本項目!$E$14&\"</param>\"","v":"<param name=\"代表者氏名読み\"></param>"}]
["製造者：代表住所",{"$f":"\"<param name=\"\"代表者住所\"\">\"&基本項目!$E$15&\"</param>\"","v":"<param name=\"代表者住所\"></param>"}]
["利用者番号を設定",{"$f":"\"<param name=\"\"利用者識別番号\"\">\"&基本項目!$E$6&\"</param>\"","v":"<param name=\"利用者識別番号\"></param>"}]
[null,"</itemclass>"]
[null,"</param>"]
["利用者番号を設定",{"$f":"\"<param name=\"\"利用者識別番号\"\">\"&基本項目!$E$6&\"</param>\"","v":"<param name=\"利用者識別番号\"></param>"}]
[null,"</itemclass>"]
[null,"</param>"]
[null,"</itemclass>"]

{"sheet":"利用者ファイル販数量","index":9,"n_rows":111,"n_cols":2,"rows_kept":111,"cut":false,"hidden":true,"merged":[]}
["備考","利用者ファイル内容（個別）"]
["e-Taxソフトの申告･申請名称⇒「販売数量等報告(●●)」(●●は店舗番号を設定）",{"$f":"\"<item filename=\"\"\"\" key=\"\"\"\" keysave=\"\"true\"\" mode=\"\"0\"\" name=\"\"(\"&基本項目!L20&\")数量報告\"\"><itemclass name=\"\"申告等\"\" progId=\"\"nta.CLCStatement.1\"\">\"","v":"<item filename=\"\" key=\"\" keysave=\"true\" mode=\"0\" name=\"()数量報告\"><itemclass name=\"申告等\" progId=\"nta.CLCStatement.1\">"}]
[null,"<param name=\"IT部更新フラグ\">0</param>"]
[null,"<param name=\"スキーマファイル\">shuzei\\PLI0510-170.xsd</param>"]
[null,"<param name=\"ネームスペース\">http://xml.e-tax.nta.go.jp/XSD/shuzei</param>"]
[null,"<param name=\"バージョン\">170.1</param>"]
[null,"<param name=\"検証スクリプトファイル名\">CMPLI0510-170.xfc</param>"]
["当該処理時刻を設定",{"$f":"\"<param name=\"\"更新日時\"\">\"& TEXT(NOW(),\"yyyy-mm-dd hh:mm:ss\")&\"</param>\"","v":"<param name=\"更新日時\">2024-02-15 13:46:45</param>"}]
["販売業者名を設定",{"$f":"\"<param name=\"\"作成者\"\">\"&基本項目!$E$10&\"</param>\"","v":"<param name=\"作成者\"></param>"}]
["当該処理時刻を設定",{"$f":"\"<param name=\"\"作成日時\"\">\"& TEXT(NOW(),\"yyyy-mm-dd hh:mm:ss\")&\"</param>\"","v":"<param name=\"作成日時\">2024-02-15 13:46:45</param>"}]
[null,"<param name=\"手続きID\">PLI0510</param>"]
[null,"<param name=\"手続き内帳票一覧ファイル名\">CLPLI-170.ncs</param>"]
[null,"<param name=\"手続き名\">酒類の販売数量等報告</param>"]
[null,"<param name=\"署名管理\"><container name=\"署名管理\" progId=\"nta.CLCSignatureManager.1\"/>"]
[null,"</param>"]
[null,"<param name=\"署名数\">0</param>"]
[null,"<param name=\"署名不要\">0</param>"]
[null,"<param name=\"申告等ステータス\">2</param>"]
[null,"<param name=\"申告等種類\">申請・届出書</param>"]
[null,"<param name=\"申告等種類コード\">2</param>"]
["e-Taxソフトの申告･申請名称⇒「販売数量等報告(●●)」(●●は店舗番号を設定）",{"$f":"\"<param name=\"\"申告等名\"\">(\"&基本項目!L20&\")数量報告</param>\"","v":"<param name=\"申告等名\">()数量報告</param>"}]
[null,"<param name=\"税目\">酒税</param>"]
[null,"<param name=\"税目コード\">060</param>"]
[null,"<param name=\"帳票等管理\"><container name=\"帳票等管理\" progId=\"nta.CLCReportManager.1\">"]
["V7にfalseに変更","<item filename=\"\" key=\"\" keysave=\"true\" mode=\"0\" name=\"酒類の販売数量等報告書\"><itemclass name=\"帳票等\" progId=\"nta.CLCReport.1\">"]
[null,"<param name=\"CHMファイル名\">LIY150-003.chm</param>"]
[null,"<param name=\"CSVデータ組み込みフラグ\">0</param>"]
[null,"<param name=\"CSVデータ追加種別\">0</param>"]
[null,"<param name=\"XFTファイル名\">CMAELIY150-005_1.aep</param>"]
[null,"<param name=\"ステータス\">2</param>"]
[null,"<param name=\"バージョン\">5.0</param>"]
["更新日時は、組み込み処理日を設定",{"$f":"\"<param name=\"\"更新日時\"\">\"& TEXT(NOW(),\"yyyy-mm-dd hh:mm:ss\")&\"</param>\"","v":"<param name=\"更新日時\">2024-02-15 13:46:45</param>"}]
[null,"<param name=\"合計表の削除可否\">1</param>"]
["霞が関WAN経由の場合は”ntakasumi”","<param name=\"作成ソフト名\">ntaclient</param>"]
["販売業者名を設定",{"$f":"\"<param name=\"\"作成者名\"\">\"&基本項目!$E$10&\"</param>\"","v":"<param name=\"作成者名\"></param>"}]
[null,"<param name=\"次葉種別\">0</param>"]
[null,"<param name=\"次葉追加可能枚数\">0</param>"]
[null,"<param name=\"種別\">0</param>"]
[null,"<param name=\"順序数\"/>"]
[null,"<param name=\"相続税申告書参照作成初期状態フラグ\">0</param>"]
["データ部分本体（マクロで編集）","<param name=\"帳票データ\">&lt;reportValue reportId=&quot;LIY150&quot; reportName=&quot;酒類の販売数量等報告書&quot; leafId=&quot;&quot;&gt;&lt;page reportId=&quot;LIY150&quot; reportName=&quot;酒類の販売数量等報告書&quot; status=&quot;0&quot;&gt;&amp;lt;GOA00000&amp;gt;&amp;lt;GOA00010&amp;gt;&amp;lt;gen:era&amp;gt;5&amp;lt;/gen:era&amp;gt;&amp;lt;gen:yy&amp;gt;5&amp;lt;/gen:yy&amp;gt;&amp;lt;/GOA00010&amp;gt;&amp;lt;GOA00020&amp;gt;&amp;lt;gen:era&amp;gt;5&amp;lt;/gen:era&amp;gt;&amp;lt;gen:yy&amp;gt;6&amp;lt;/gen:yy&amp;gt;&amp;lt;/GOA00020&amp;gt;&amp;lt;/GOA00000&amp;gt;&amp;lt;GOB00000&amp;gt;&amp;lt;GOB00005&amp;gt;33333333&amp;lt;/GOB00005&amp;gt;&amp;lt;GOB00010 IDREF=&amp;quot;TEISYUTSU_DAY&amp;quot;/&amp;gt;&amp;lt;GOB00020 IDREF=&amp;quot;ZEIMUSHO&amp;quot;/&amp;gt;&amp;lt;GOB00030&amp;gt;&amp;lt;GOB00040 IDREF=&amp;quot;NOZEISHA_ZIP&amp;quot;/&amp;gt;&amp;lt;GOB00050 IDREF=&amp;quot;NOZEISHA_ADR&amp;quot;/&amp;gt;&amp;lt;GOB00060 IDREF=&amp;quot;NOZEISHA_TEL&amp;quot;/&amp;gt;&amp;lt;GOB00070&amp;gt;&amp;lt;GOB00140 IDREF=&amp;quot;NOZEISHA_NM_KN&amp;quot;/&amp;gt;&amp;lt;GOB00080 IDREF=&amp;quot;NOZEISHA_NM&amp;quot;/&amp;gt;&amp;lt;GOB00150 IDREF=&amp;quot;DAIHYO_NM_KN&amp;quot;/&amp;gt;&amp;lt;GOB00090 IDREF=&amp;quot;DAIHYO_NM&amp;quot;/&amp;gt;&amp;lt;/GOB00070&amp;gt;&amp;lt;/GOB00030&amp;gt;&amp;lt;GOB00100&amp;gt;&amp;lt;GOB00105 IDREF=&amp;quot;SEIZOJO_ZIP&amp;quot;/&amp;gt;&amp;lt;GOB00110 IDREF=&amp;quot;SEIZOJO_ADR&amp;quot;/&amp;gt;&amp;lt;GOB00120 IDREF=&amp;quot;SEIZOJO_NM&amp;quot;/&amp;gt;&amp;lt;GOB00130 IDREF=&amp;quot;SEIZOJO_TEL&amp;quot;/&amp;gt;&amp;lt;/GOB00100&amp;gt;&amp;lt;/GOB00000&amp;gt;&amp;lt;GOC00000&amp;gt;&amp;lt;GOC00010&amp;gt;&amp;lt;GOC00020&amp;gt;&amp;lt;GOC00030&amp;gt;&amp;lt;/GOC00030&amp;gt;&amp;lt;GOC00060&amp;gt;1000&amp;lt;/GOC00060&amp;gt;&amp;lt;/GOC00020&amp;gt;&amp;lt;GOC00070&amp;gt;9100&amp;lt;/GOC00070&amp;gt;&amp;lt;/GOC00010&amp;gt;&amp;lt;GOC00080&amp;gt;&amp;lt;GOC00090&amp;gt;&amp;lt;GOC00100&amp;gt;&amp;lt;/GOC00100&amp;gt;&amp;lt;/GOC00090&amp;gt;&amp;lt;/GOC00080&amp;gt;&amp;lt;GOC00150&amp;gt;&amp;lt;GOC00160&amp;gt;&amp;lt;GOC00170&amp;gt;&amp;lt;/GOC00170&amp;gt;&amp;lt;/GOC00160&amp;gt;&amp;lt;/GOC00150&amp;gt;&amp;lt;GOC00220&amp;gt;&amp;lt;GOC00230&amp;gt;&amp;lt;GOC00240&amp;gt;&amp;lt;/GOC00240&amp;gt;&amp;lt;GOC00270&amp;gt;200&amp;lt;/GOC00270&amp;gt;&amp;lt;/GOC00230&amp;gt;&amp;lt;GOC00280&amp;gt;20&amp;lt;/GOC00280&amp;gt;&amp;lt;/GOC00220&amp;gt;&amp;lt;GOC00290&amp;gt;&amp;lt;GOC00300&amp;gt;&amp;lt;GOC00310&amp;gt;&amp;lt;/GOC00310&amp;gt;&amp;lt;GOC00340&amp;gt;300&amp;lt;/GOC00340&amp;gt;&amp;lt;/GOC00300&amp;gt;&amp;lt;GOC00350&amp;gt;30&amp;lt;/GOC00350&amp;gt;&amp;lt;/GOC00290&amp;gt;&amp;lt;GOC00360&amp;gt;&amp;lt;GOC00370&amp;gt;&amp;lt;GOC00380&amp;gt;&amp;lt;/GOC00380&amp;gt;&amp;lt;GOC00410&amp;gt;400&amp;lt;/GOC00410&amp;gt;&amp;lt;/GOC00370&amp;gt;&amp;lt;GOC00420&amp;gt;40&amp;lt;/GOC00420&amp;gt;&amp;lt;/GOC00360&amp;gt;&amp;lt;GOC00430&amp;gt;&amp;lt;GOC00440&amp;gt;&amp;lt;GOC00450&amp;gt;&amp;lt;/GOC00450&amp;gt;&amp;lt;GOC00480&amp;gt;500&amp;lt;/GOC00480&amp;gt;&amp;lt;/GOC00440&amp;gt;&amp;lt;GOC00490&amp;gt;50&amp;lt;/GOC00490&amp;gt;&amp;lt;/GOC00430&amp;gt;&amp;lt;GOC00500&amp;gt;&amp;lt;GOC00510&amp;gt;&amp;lt;GOC00520&amp;gt;&amp;lt;/GOC00520&amp;gt;&amp;lt;GOC00550&amp;gt;600&amp;lt;/GOC00550&amp;gt;&amp;lt;/GOC00510&amp;gt;&amp;lt;GOC00560&amp;gt;60&amp;lt;/GOC00560&amp;gt;&amp;lt;/GOC00500&amp;gt;&amp;lt;GOC00570&amp;gt;&amp;lt;GOC00580&amp;gt;&amp;lt;GOC00590&amp;gt;&amp;lt;/GOC00590&amp;gt;&amp;lt;GOC00620&amp;gt;700&amp;lt;/GOC00620&amp;gt;&amp;lt;/GOC00580&amp;gt;&amp;lt;GOC00630&amp;gt;70&amp;lt;/GOC00630&amp;gt;&amp;lt;/GOC00570&amp;gt;&amp;lt;GOC00640&amp;gt;&amp;lt;GOC00650&amp;gt;&amp;lt;GOC00660&amp;gt;&amp;lt;/GOC00660&amp;gt;&amp;lt;/GOC00650&amp;gt;&amp;lt;/GOC00640&amp;gt;&amp;lt;GOC00710&amp;gt;&amp;lt;GOC00720&amp;gt;&amp;lt;GOC00730&amp;gt;&amp;lt;/GOC00730&amp;gt;&amp;lt;/GOC00720&amp;gt;&amp;lt;/GOC00710&amp;gt;&amp;lt;GOC00780&amp;gt;&amp;lt;GOC00790&amp;gt;&amp;lt;GOC00800&amp;gt;&amp;lt;/GOC00800&amp;gt;&amp;lt;GOC00830&amp;gt;800&amp;lt;/GOC00830&amp;gt;&amp;lt;/GOC00790&amp;gt;&amp;lt;GOC00840&amp;gt;80&amp;lt;/GOC00840&amp;gt;&amp;lt;/GOC00780&amp;gt;&amp;lt;GOC00850&amp;gt;&amp;lt;GOC00860&amp;gt;&amp;lt;GOC00870&amp;gt;&amp;lt;/GOC00870&amp;gt;&amp;lt;GOC00900&amp;gt;900&amp;lt;/GOC00900&amp;gt;&amp;lt;/GOC00860&amp;gt;&amp;lt;GOC00910&amp;gt;90&amp;lt;/GOC00910&amp;gt;&amp;lt;/GOC00850&amp;gt;&amp;lt;GOC00920&amp;gt;&amp;lt;GOC00930&amp;gt;&amp;lt;GOC00940&amp;gt;&amp;lt;/GOC00940&amp;gt;&amp;lt;GOC00970&amp;gt;50&amp;lt;/GOC00970&amp;gt;&amp;lt;/GOC00930&amp;gt;&amp;lt;GOC00980&amp;gt;5&amp;lt;/GOC00980&amp;gt;&amp;lt;/GOC00920&amp;gt;&amp;lt;GOC00990&amp;gt;&amp;lt;GOC01000&amp;gt;&amp;lt;GOC01010&amp;gt;&amp;lt;/GOC01010&amp;gt;&amp;lt;GOC01040&amp;gt;150&amp;lt;/GOC01040&amp;gt;&amp;lt;/GOC01000&amp;gt;&amp;lt;GOC01050&amp;gt;15&amp;lt;/GOC01050&amp;gt;&amp;lt;/GOC00990&amp;gt;&amp;lt;GOC01060&amp;gt;&amp;lt;GOC01070&amp;gt;&amp;lt;GOC01080&amp;gt;&amp;lt;/GOC01080&amp;gt;&amp;lt;/GOC01070&amp;gt;&amp;lt;/GOC01060&amp;gt;&amp;lt;GOC01130&amp;gt;&amp;lt;GOC01140&amp;gt;&amp;lt;GOC01150&amp;gt;&amp;lt;/GOC01150&amp;gt;&amp;lt;GOC01180 AutoCalc=&amp;quot;1&amp;quot;&amp;gt;5600&amp;lt;/GOC01180&amp;gt;&amp;lt;/GOC01140&amp;gt;&amp;lt;GOC01190 AutoCalc=&amp;quot;1&amp;quot;&amp;gt;9560&amp;lt;/GOC01190&amp;gt;&amp;lt;/GOC01130&amp;gt;&amp;lt;GOC01200&amp;gt;&amp;lt;GOC01210&amp;gt;&amp;lt;GOC01220&amp;gt;&amp;lt;/GOC01220&amp;gt;&amp;lt;/GOC01210&amp;gt;&amp;lt;/GOC01200&amp;gt;&amp;lt;GOC01270&amp;gt;&amp;lt;GOC01280&amp;gt;&amp;lt;kubun_CD&amp;gt;3&amp;lt;/kubun_CD&amp;gt;&amp;lt;/GOC01280&amp;gt;&amp;lt;/GOC01270&amp;gt;&amp;lt;/GOC00000&amp;gt;&lt;/page&gt;&lt;/reportValue&gt;</param>"]
[null,"<param name=\"帳票種別ノード作成用\">1</param>"]
[null,"<param name=\"帳票種別一覧表示用\">1</param>"]
[null,"<param name=\"帳票種別管理単位\">1</param>"]
[null,"<param name=\"帳票数\">1</param>"]
[null,"<param name=\"複数帳票\">1</param>"]
[null,"<param name=\"編集中\">0</param>"]
[null,"<param name=\"面数\">1</param>"]
[null,"<param name=\"様式ID\">LIY150</param>"]
[null,"<param name=\"様式名称\">酒類の販売数量等報告書</param>"]
[null,"<param name=\"様式名称略称\">酒類の販売数量等報告書</param>"]
[null,"</itemclass>"]
[null,"</item>"]
[null,"</container>"]
[null,"</param>"]
[null,"<param name=\"帳票名称管理\"><container name=\"要素名称管理\" progId=\"nta.CLCNameManager.1\">"]
["keysaveの値は、最初のデータのみ\"false\"2番目のデータ以降は\"true\"を設定","<item filename=\"\" key=\"\" keysave=\"false\" mode=\"0\" name=\"酒類の販売数量等報告書\"><itemclass name=\"要素名称\" progId=\"nta.CLCItemName.1\">"]
[null,"<param name=\"個数\">1</param>"]
[null,"</itemclass>"]
[null,"</item>"]
[null,"</container>"]
[null,"</param>"]
[null,"<param name=\"提出先区分\">1</param>"]
["提出先税務署名を設定",{"$f":"\"<param name=\"\"提出先税務署\"\">\"&基本項目!$E$33&\"</param>\"","v":{"$error":"#N/A"}}]
["提出先税務署番号を設定",{"$f":"\"<param name=\"\"提出先税務署番号\"\">\"&基本項目!$I$33&\"</param>\"","v":{"$error":"#N/A"}}]
["提出年月日",{"$f":"\"<param name=\"\"提出年月日月\"\">\"&MONTH(基本項目!$E$4)&\"</param>\"","v":"<param name=\"提出年月日月\">2</param>"}]
["提出年月日",{"$f":"\"<param name=\"\"提出年月日元号\"\">\"&VLOOKUP(TEXT(基本項目!$E$4,\"gggg\"),元号ＴＢ,2,FALSE)&\"</param>\"","v":"<param name=\"提出年月日元号\">5</param>"}]
["提出年月日",{"$f":"\"<param name=\"\"提出年月日日\"\">\"&DAY(基本項目!$E$4)&\"</param>\"","v":"<param name=\"提出年月日日\">15</param>"}]
["提出年月日",{"$f":"\"<param name=\"\"提出年月日年\"\">\"&TEXT(基本項目!$E$4,\"e\")&\"</param>\"","v":"<param name=\"提出年月日年\">6</param>"}]
[null,"<param name=\"適用期間フラグ\">0000000000000</param>"]
[null,"<param name=\"添付書類管理\"><container name=\"添付書類管理\" progId=\"nta.CLCAttachedManager.1\"/>"]
[null,"</param>"]
[null,"<param name=\"添付書類名称管理\"><container name=\"要素名称管理\" progId=\"nta.CLCNameManager.1\"/>"]
[null,"</param>"]
[null,"<param name=\"納税者等情報内容部\"><itemclass name=\"納税者等情報内容部\" progId=\"nta.CLCProfileContent.1\">"]
["マイナンバー個人",{"$f":"\"<param name=\"\"共通番号-個人\"\">\"&IF(AND(LEFT(基本項目!$E$6,1)=\"1\",基本項目!$E$7<>\"\"),基本項目!$E$7,\"\")&\"</param>\"","v":"<param name=\"共通番号-個人\"></param>"}]
["マイナンバー法人",{"$f":"\"<param name=\"\"共通番号-法人\"\">\"&IF(AND(LEFT(基本項目!$E$6,1)=\"2\",基本項目!$E$7<>\"\"),基本項目!$E$7,\"\")&\"</param>\"","v":"<param name=\"共通番号-法人\"></param>"}]
["個人は0,法人は1",{"$f":"\"<param name=\"\"個人法人フラグ\"\">\"&IF(LEFT(基本項目!$E$6,1)=\"1\",\"0\",\"1\")&\"</param>\"","v":"<param name=\"個人法人フラグ\">1</param>"}]
["販売業者名",{"$f":"\"<param name=\"\"氏名名称\"\">\"&基本項目!$E$10&\"</param>\"","v":"<param name=\"氏名名称\"></param>"}]
["販売業者名（カナ）",{"$f":"\"<param name=\"\"氏名名称読み\"\">\"&基本項目!$E$11&\"</param>\"","v":"<param name=\"氏名名称読み\"></param>"}]
["製造場：税務署番号",{"$f":"\"<param name=\"\"所轄税務署番号\"\">\"&基本項目!$I$33&\"</param>\"","v":{"$error":"#N/A"}}]
["製造場：所在地",{"$f":"\"<param name=\"\"製造所住所\"\">\"&基本項目!$E$30&\"</param>\"","v":{"$error":"#N/A"}}]
["製造場：電話番号設定",{"$f":"\"<param name=\"\"製造所電話番号加入者番号\"\">\"&SPLITC(基本項目!$E$32,2)&\"</param>\"","v":{"$error":"#VALUE!"}}]
["製造場：電話番号設定",{"$f":"\"<param name=\"\"製造所電話番号市外局番\"\">\"&SPLITC(基本項目!$E$32,0)&\"</param>\"","v":{"$error":"#VALUE!"}}]
["製造場：電話番号設定",{"$f":"\"<param name=\"\"製造所電話番号市内局番\"\">\"&SPLITC(基本項目!$E$32,1)&\"</param>\"","v":{"$error":"#VALUE!"}}]
["製造場：電話番号設定",{"$f":"\"<param name=\"\"製造所名称\"\">\"&基本項目!$E$31&\"</param>\"","v":{"$error":"#N/A"}}]
[null,"<param name=\"製造所名称読み\"></param>"]
["製造場：郵便番号設定",{"$f":"\"<param name=\"\"製造所郵便番号下4桁\"\">\"&SPLITC(基本項目!$E$29,1)&\"</param>\"","v":{"$error":"#VALUE!"}}]
["製造場：郵便番号設定",{"$f":"\"<param name=\"\"製造所郵便番号上3桁\"\">\"&SPLITC(基本項目!$E$29,0)&\"</param>\"","v":{"$error":"#VALUE!"}}]
[null,"<param name=\"製造場等略称\"></param>"]
["製造者：代表",{"$f":"\"<param name=\"\"代表者氏名\"\">\"&基本項目!$E$13&\"</param>\"","v":"<param name=\"代表者氏名\"></param>"}]
["製造者：代表（カナ）",{"$f":"\"<param name=\"\"代表者氏名読み\"\">\"&基本項目!$E$14&\"</param>\"","v":"<param name=\"代表者氏名読み\"></param>"}]
["製造者：代表住所",{"$f":"\"<param name=\"\"代表者住所\"\">\"&基本項目!$E$15&\"</param>\"","v":"<param name=\"代表者住所\"></param>"}]
["製造者：住所",{"$f":"\"<param name=\"\"納税者所在地\"\">\"&基本項目!$E$9&\"</param>\"","v":"<param name=\"納税者所在地\"></param>"}]
["製造者：電話番号",{"$f":"\"<param name=\"\"納税者所在地電話番号加入者番号\"\">\"&SPLITC(基本項目!$E$12,2)&\"</param>\"","v":{"$error":"#VALUE!"}}]
["製造者：電話番号",{"$f":"\"<param name=\"\"納税者所在地電話番号市外局番\"\">\"&SPLITC(基本項目!$E$12,0)&\"</param>\"","v":{"$error":"#VALUE!"}}]
["製造者：電話番号",{"$f":"\"<param name=\"\"納税者所在地電話番号市内局番\"\">\"&SPLITC(基本項目!$E$12,1)&\"</param>\"","v":{"$error":"#VALUE!"}}]
["製造者：郵便番号",{"$f":"\"<param name=\"\"納税者所在地郵便番号下4桁\"\">\"&SPLITC(基本項目!$E$8,1)&\"</param>\"","v":{"$error":"#VALUE!"}}]
["製造者：郵便番号",{"$f":"\"<param name=\"\"納税者所在地郵便番号上3桁\"\">\"&SPLITC(基本項目!$E$8,0)&\"</param>\"","v":{"$error":"#VALUE!"}}]
["利用者識別番号",{"$f":"\"<param name=\"\"利用者識別番号\"\">\"&基本項目!$E$6&\"</param>\"","v":"<param name=\"利用者識別番号\"></param>"}]
[null,"</itemclass>"]
[null,"</param>"]
["販売業者名",{"$f":"\"<param name=\"\"納税者等情報名\"\">\"&基本項目!$E$10&\"</param>\"","v":"<param name=\"納税者等情報名\"></param>"}]
[null,"<param name=\"表示制御フラグ\">0</param>"]
[null,"<param name=\"不要ノード\">1</param>"]
[null,"<param name=\"複数提出\">1</param>"]
[null,"<param name=\"複数利用者の可否\">0</param>"]
["個人の場合はCLTAX1002060、法人の場合はCLTAX2002060",{"$f":"IF(LEFT(基本項目!$E$6,1)=\"1\",\"<param name=\"\"様式集ファイル名\"\">CLTAX1002060-200.ncs</param>\",\"<param name=\"\"様式集ファイル名\"\">CLTAX2002060-200.ncs</param>\")","v":"<param name=\"様式集ファイル名\">CLTAX2002060-200.ncs</param>"}]
[null,"<param name=\"様式集ロケーション\">/tax/item[5]/item[2]</param>"]
[null,"</itemclass>"]
[null,"</item>"]

{"sheet":"利用者ファイルニ十歳","index":10,"n_rows":227,"n_cols":2,"rows_kept":227,"cut":false,"hidden":true,"merged":[]}
["備考","利用者ファイル内容（個別）"]
["e-Taxソフトの申告･申請名称⇒「二十歳未満の者の飲酒防止等報告書(●●)」(●●は店舗番号を設定）",{"$f":"\"<item filename=\"\"\"\" key=\"\"\"\" keysave=\"\"false\"\" mode=\"\"0\"\" name=\"\"(\"&基本項目!L20&\")二十歳報告\"\"><itemclass name=\"\"申告等\"\" progId=\"\"nta.CLCStatement.1\"\">\"","v":"<item filename=\"\" key=\"\" keysave=\"false\" mode=\"0\" name=\"()二十歳報告\"><itemclass name=\"申告等\" progId=\"nta.CLCStatement.1\">"}]
[null,"<param name=\"IT部更新フラグ\">0</param>"]
[null,"<param name=\"スキーマファイル\">shuzei\\PLI0890-200.xsd</param>"]
[null,"<param name=\"ネームスペース\">http://xml.e-tax.nta.go.jp/XSD/shuzei</param>"]
[null,"<param name=\"バージョン\">200.0</param>"]
[null,"<param name=\"検証スクリプトファイル名\">CMPLI0890-200.xfc</param>"]
["当該処理時刻を設定",{"$f":"\"<param name=\"\"更新日時\"\">\"& TEXT(NOW(),\"yyyy-mm-dd hh:mm:ss\")&\"</param>\"","v":"<param name=\"更新日時\">2024-02-15 13:46:45</param>"}]
["販売業者名を設定",{"$f":"\"<param name=\"\"作成者\"\">\"&基本項目!$E$10&\"</param>\"","v":"<param name=\"作成者\"></param>"}]
["当該処理時刻を設定",{"$f":"\"<param name=\"\"作成日時\"\">\"& TEXT(NOW(),\"yyyy-mm-dd hh:mm:ss\")&\"</param>\"","v":"<param name=\"作成日時\">2024-02-15 13:46:45</param>"}]
[null,"<param name=\"手続きID\">PLI0890</param>"]
[null,"<param name=\"手続き内帳票一覧ファイル名\">CLPLI-200.ncs</param>"]
[null,"<param name=\"手続き名\">二十歳未満の者のの飲酒防止に関する表示基準の実施状況等報告</param>"]
[null,"<param name=\"署名管理\"><container name=\"署名管理\" progId=\"nta.CLCSignatureManager.1\"/>"]
[null,"</param>"]
[null,"<param name=\"署名数\">0</param>"]
[null,"<param name=\"署名不要\">0</param>"]
[null,"<param name=\"申告等ステータス\">2</param>"]
[null,"<param name=\"申告等種類\">申請・届出書</param>"]
[null,"<param name=\"申告等種類コード\">2</param>"]
["e-Taxソフトの申告･申請名称⇒「二十歳未満の者の飲酒防止等報告書(●●)」(●●は店舗番号を設定）",{"$f":"\"<param name=\"\"申告等名\"\">(\"&基本項目!L20&\")二十歳報告</param>\"","v":"<param name=\"申告等名\">()二十歳報告</param>"}]
[null,"<param name=\"税目\">酒税</param>"]
[null,"<param name=\"税目コード\">060</param>"]
[null,"<param name=\"帳票等管理\">"]
[null,"<container name=\"帳票等管理\" progId=\"nta.CLCReportManager.1\">"]
[null,"<item filename=\"\" key=\"\" keysave=\"false\" mode=\"0\" name=\"「ニ十歳未満の者の飲酒防止に関する表示基準」の実施状況等報告書　1面\">"]
[null,"<itemclass name=\"帳票等\" progId=\"nta.CLCReport.1\">"]
["verup時に注意","<param name=\"CHMファイル名\">LIZ140-008.chm</param>"]
[null,"<param name=\"CSVデータ組み込みフラグ\">0</param>"]
[null,"<param name=\"CSVデータ追加種別\">0</param>"]
["verup時に注意","<param name=\"XFTファイル名\">CMAELIZ140-011_1.aep</param>"]
[null,"<param name=\"ステータス\">2</param>"]
["verup時に注意","<param name=\"バージョン\">11.0</param>"]
["verup時に注意","<param name=\"検査スクリプトファイル名\">CMLIZ140-011.xfc</param>"]
["更新日時は、組み込み処理日を設定",{"$f":"\"<param name=\"\"更新日時\"\">\"& TEXT(NOW(),\"yyyy-mm-dd hh:mm:ss\")&\"</param>\"","v":"<param name=\"更新日時\">2024-02-15 13:46:45</param>"}]
[null,"<param name=\"合計表の削除可否\">1</param>"]
["霞が関WAN経由の場合は”ntakasumi”","<param name=\"作成ソフト名\">ntaclient</param>"]
["販売業者名を設定",{"$f":"\"<param name=\"\"作成者名\"\">\"&基本項目!$E$10&\"</param>\"","v":"<param name=\"作成者名\"></param>"}]
[null,"<param name=\"次葉種別\">0</param>"]
[null,"<param name=\"次葉追加可能枚数\">0</param>"]
[null,"<param name=\"種別\">0</param>"]
[null,"<param name=\"順序数\">LIZ140-1</param>"]
[null,"<param name=\"相続税申告書参照作成初期状態フラグ\">0</param>"]
["データ部分本体（マクロで編集）","<param name=\"帳票データ\">&lt;reportValue reportId=&quot;LIZ140&quot; reportName=&quot;「ニ十歳未満の者の飲酒防止に関する表示基準」の実施状況等報告書　1面&quot; leafId=&quot;&quot;&gt;&lt;page reportId=&quot;LIZ140&quot; reportName=&quot;「ニ十歳未満の者の飲酒防止に関する表示基準」の実施状況等報告書　1面&quot; status=&quot;0&quot;&gt;&amp;lt;IHA00000&amp;gt;&amp;lt;IHA00005&amp;gt;00009999&amp;lt;/IHA00005&amp;gt;&amp;lt;IHA00010 IDREF=&amp;quot;TEISYUTSU_DAY&amp;quot;/&amp;gt;&amp;lt;IHA00020 IDREF=&amp;quot;ZEIMUSHO&amp;quot;/&amp;gt;&amp;lt;IHA00030&amp;gt;&amp;lt;IHA00040 IDREF=&amp;quot;NOZEISHA_ZIP&amp;quot;/&amp;gt;&amp;lt;IHA00050 IDREF=&amp;quot;NOZEISHA_ADR&amp;quot;/&amp;gt;&amp;lt;IHA00060 IDREF=&amp;quot;NOZEISHA_TEL&amp;quot;/&amp;gt;&amp;lt;IHA00070&amp;gt;&amp;lt;IHA00080 IDREF=&amp;quot;NOZEISHA_NM&amp;quot;/&amp;gt;&amp;lt;IHA00090 IDREF=&amp;quot;DAIHYO_NM&amp;quot;/&amp;gt;&amp;lt;/IHA00070&amp;gt;&amp;lt;/IHA00030&amp;gt;&amp;lt;IHA00140&amp;gt;&amp;lt;IHA00150 IDREF=&amp;quot;SEIZOJO_ADR&amp;quot;/&amp;gt;&amp;lt;IHA00160 IDREF=&amp;quot;SEIZOJO_NM&amp;quot;/&amp;gt;&amp;lt;/IHA00140&amp;gt;&amp;lt;IHA00300&amp;gt;50&amp;lt;/IHA00300&amp;gt;&amp;lt;IHA00310&amp;gt;100&amp;lt;/IHA00310&amp;gt;&amp;lt;IHA00320&amp;gt;&amp;lt;IHA00330&amp;gt;&amp;lt;kubun_CD&amp;gt;1&amp;lt;/kubun_CD&amp;gt;&amp;lt;/IHA00330&amp;gt;&amp;lt;IHA00340&amp;gt;&amp;lt;IHA00350&amp;gt;8&amp;lt;/IHA00350&amp;gt;&amp;lt;IHA00360&amp;gt;0&amp;lt;/IHA00360&amp;gt;&amp;lt;/IHA00340&amp;gt;&amp;lt;IHA00370&amp;gt;&amp;lt;IHA00380&amp;gt;14&amp;lt;/IHA00380&amp;gt;&amp;lt;IHA00390&amp;gt;0&amp;lt;/IHA00390&amp;gt;&amp;lt;/IHA00370&amp;gt;&amp;lt;/IHA00320&amp;gt;&amp;lt;IHA00200&amp;gt;&amp;lt;IHA00210&amp;gt;&amp;lt;kubun_CD&amp;gt;2&amp;lt;/kubun_CD&amp;gt;&amp;lt;/IHA00210&amp;gt;&amp;lt;/IHA00200&amp;gt;&amp;lt;IHA00250&amp;gt;&amp;lt;IHA00260&amp;gt;&amp;lt;kubun_CD&amp;gt;3&amp;lt;/kubun_CD&amp;gt;&amp;lt;/IHA00260&amp;gt;&amp;lt;/IHA00250&amp;gt;&amp;lt;/IHA00000&amp;gt;&amp;lt;IHB00000&amp;gt;&amp;lt;IHB00010&amp;gt;&amp;lt;gen:era&amp;gt;5&amp;lt;/gen:era&amp;gt;&amp;lt;gen:yy&amp;gt;6&amp;lt;/gen:yy&amp;gt;&amp;lt;/IHB00010&amp;gt;&amp;lt;IHB00020&amp;gt;&amp;lt;IHB00030&amp;gt;&amp;lt;IHB00040&amp;gt;&amp;lt;kubun_CD&amp;gt;1&amp;lt;/kubun_CD&amp;gt;&amp;lt;/IHB00040&amp;gt;&amp;lt;IHB00070&amp;gt;&amp;lt;kubun_CD&amp;gt;1&amp;lt;/kubun_CD&amp;gt;&amp;lt;/IHB00070&amp;gt;&amp;lt;IHB00090&amp;gt;&amp;lt;kubun_CD&amp;gt;1&amp;lt;/kubun_CD&amp;gt;&amp;lt;/IHB00090&amp;gt;&amp;lt;/IHB00030&amp;gt;&amp;lt;IHB00100&amp;gt;&amp;lt;IHB00110&amp;gt;&amp;lt;kubun_CD&amp;gt;2&amp;lt;/kubun_CD&amp;gt;&amp;lt;/IHB00110&amp;gt;&amp;lt;/IHB00100&amp;gt;&amp;lt;IHB00150&amp;gt;&amp;lt;kubun_CD&amp;gt;2&amp;lt;/kubun_CD&amp;gt;&amp;lt;/IHB00150&amp;gt;&amp;lt;/IHB00020&amp;gt;&amp;lt;/IHB00000&amp;gt;&lt;/page&gt;&lt;/reportValue&gt;</param>"]
[null,"<param name=\"帳票種別ノード作成用\">1</param>"]
[null,"<param name=\"帳票種別一覧表示用\">1</param>"]
[null,"<param name=\"帳票種別管理単位\">1</param>"]
[null,"<param name=\"帳票数\">1</param>"]
[null,"<param name=\"複数帳票\">1</param>"]
[null,"<param name=\"編集中\">0</param>"]
[null,"<param name=\"面数\">1</param>"]
[null,"<param name=\"様式ID\">LIZ140</param>"]
[null,"<param name=\"様式名称\">「ニ十歳未満の者の飲酒防止に関する表示基準」の実施状況等報告書　1面</param>"]
[null,"<param name=\"様式名称略称\">「ニ十歳未満の者の飲酒防止に関する表示基準」の実施状況等報告書　1面</param>"]
[null,"</itemclass>"]
[null,"</item>"]
[null,"<item filename=\"\" key=\"\" keysave=\"false\" mode=\"0\" name=\"「ニ十歳未満の者の飲酒防止に関する表示基準」の実施状況等報告書　2面\">"]
[null,"<itemclass name=\"帳票等\" progId=\"nta.CLCReport.1\">"]
["verup時に注意","<param name=\"CHMファイル名\">LIZ140-008.chm</param>"]
[null,"<param name=\"CSVデータ組み込みフラグ\">0</param>"]
[null,"<param name=\"CSVデータ追加種別\">0</param>"]
["verup時に注意","<param name=\"XFTファイル名\">CMAELIZ141-009_1.aep</param>"]
[null,"<param name=\"ステータス\">2</param>"]
["verup時に注意","<param name=\"バージョン\">9.0</param>"]
["verup時に注意","<param name=\"検査スクリプトファイル名\">CMLIZ141-009.xfc</param>"]
["更新日時は、組み込み処理日を設定",{"$f":"\"<param name=\"\"更新日時\"\">\"& TEXT(NOW(),\"yyyy-mm-dd hh:mm:ss\")&\"</param>\"","v":"<param name=\"更新日時\">2024-02-15 13:46:45</param>"}]
[null,"<param name=\"合計表の削除可否\">1</param>"]
["霞が関WAN経由の場合は”ntakasumi”","<param name=\"作成ソフト名\">ntaclient</param>"]
["販売業者名を設定",{"$f":"\"<param name=\"\"作成者名\"\">\"&基本項目!$E$10&\"</param>\"","v":"<param name=\"作成者名\"></param>"}]
[null,"<param name=\"次葉種別\">0</param>"]
[null,"<param name=\"次葉追加可能枚数\">0</param>"]
[null,"<param name=\"種別\">0</param>"]
[null,"<param name=\"順序数\">LIZ141-1</param>"]
[null,"<param name=\"相続税申告書参照作成初期状態フラグ\">0</param>"]
["データ部分本体（マクロで編集）","<param name=\"帳票データ\">&lt;reportValue reportId=&quot;LIZ141&quot; reportName=&quot;「ニ十歳未満の者の飲酒防止に関する表示基準」の実施状況等報告書　2面&quot; leafId=&quot;&quot;&gt;&lt;page reportId=&quot;LIZ141&quot; reportName=&quot;「ニ十歳未満の者の飲酒防止に関する表示基準」の実施状況等報告書　2面&quot; status=&quot;0&quot;&gt;&amp;lt;IIG00000&amp;gt;&amp;lt;IIG00030&amp;gt;山田　三郎&amp;lt;/IIG00030&amp;gt;&amp;lt;IIG00040&amp;gt;33&amp;lt;/IIG00040&amp;gt;&amp;lt;IIG00050&amp;gt;&amp;lt;gen:era&amp;gt;5&amp;lt;/gen:era&amp;gt;&amp;lt;gen:yy&amp;gt;2&amp;lt;/gen:yy&amp;gt;&amp;lt;gen:mm&amp;gt;6&amp;lt;/gen:mm&amp;gt;&amp;lt;gen:dd&amp;gt;1&amp;lt;/gen:dd&amp;gt;&amp;lt;/IIG00050&amp;gt;&amp;lt;IIG00060&amp;gt;&amp;lt;kubun_CD&amp;gt;2&amp;lt;/kubun_CD&amp;gt;&amp;lt;/IIG00060&amp;gt;&amp;lt;IIG00070&amp;gt;&amp;lt;kubun_CD&amp;gt;1&amp;lt;/kubun_CD&amp;gt;&amp;lt;/IIG00070&amp;gt;&amp;lt;IIG00080&amp;gt;&amp;lt;kubun_CD&amp;gt;1&amp;lt;/kubun_CD&amp;gt;&amp;lt;/IIG00080&amp;gt;&amp;lt;IIG00010&amp;gt;&amp;lt;kubun_CD&amp;gt;1&amp;lt;/kubun_CD&amp;gt;&amp;lt;/IIG00010&amp;gt;&amp;lt;IIG00020&amp;gt;&amp;lt;kubun_CD&amp;gt;1&amp;lt;/kubun_CD&amp;gt;&amp;lt;/IIG00020&amp;gt;&amp;lt;/IIG00000&amp;gt;&lt;/page&gt;&lt;/reportValue&gt;</param>"]
[null,"<param name=\"帳票種別ノード作成用\">1</param>"]
[null,"<param name=\"帳票種別一覧表示用\">1</param>"]
[null,"<param name=\"帳票種別管理単位\">1</param>"]
[null,"<param name=\"帳票数\">1</param>"]
[null,"<param name=\"複数帳票\">1</param>"]
[null,"<param name=\"編集中\">0</param>"]
[null,"<param name=\"面数\">1</param>"]
[null,"<param name=\"様式ID\">LIZ141</param>"]
[null,"<param name=\"様式名称\">「ニ十歳未満の者の飲酒防止に関する表示基準」の実施状況等報告書　2面</param>"]
[null,"<param name=\"様式名称略称\">「ニ十歳未満の者の飲酒防止に関する表示基準」の実施状況等報告書　2面</param>"]
[null,"</itemclass>"]
[null,"</item>"]
[null,"<item filename=\"\" key=\"\" keysave=\"false\" mode=\"0\" name=\"「ニ十歳未満の者の飲酒防止に関する表示基準」の実施状況等報告書　3面\">"]
[null,"<itemclass name=\"帳票等\" progId=\"nta.CLCReport.1\">"]
["verup時に注意","<param name=\"CHMファイル名\">LIZ140-008.chm</param>"]
[null,"<param name=\"CSVデータ組み込みフラグ\">0</param>"]
[null,"<param name=\"CSVデータ追加種別\">0</param>"]
["verup時に注意","<param name=\"XFTファイル名\">CMAELIZ142-007_1.aep</param>"]
[null,"<param name=\"ステータス\">2</param>"]
["verup時に注意","<param name=\"バージョン\">7.0</param>"]
["更新日時は、組み込み処理日を設定",{"$f":"\"<param name=\"\"更新日時\"\">\"& TEXT(NOW(),\"yyyy-mm-dd hh:mm:ss\")&\"</param>\"","v":"<param name=\"更新日時\">2024-02-15 13:46:45</param>"}]
[null,"<param name=\"合計表の削除可否\">1</param>"]
["霞が関WAN経由の場合は”ntakasumi”","<param name=\"作成ソフト名\">ntaclient</param>"]
["販売業者名を設定",{"$f":"\"<param name=\"\"作成者名\"\">\"&基本項目!$E$10&\"</param>\"","v":"<param name=\"作成者名\"></param>"}]
["V7変更","<param name=\"次葉種別\">0</param>"]
[null,"<param name=\"次葉追加可能枚数\">0</param>"]
[null,"<param name=\"種別\">0</param>"]
["verup時に注意","<param name=\"順序数\">LIZ142-1</param>"]
[null,"<param name=\"相続税申告書参照作成初期状態フラグ\">0</param>"]
["データ部分本体（マクロで編集）","<param name=\"帳票データ\">&lt;reportValue reportId=&quot;LIZ142&quot; reportName=&quot;「ニ十歳未満の者の飲酒防止に関する表示基準」の実施状況等報告書　3面&quot; leafId=&quot;&quot;&gt;&lt;page reportId=&quot;LIZ142&quot; reportName=&quot;「ニ十歳未満の者の飲酒防止に関する表示基準」の実施状況等報告書　3面&quot; status=&quot;0&quot;&gt;&amp;lt;IJC00000&amp;gt;&amp;lt;IJC00010&amp;gt;&amp;lt;kubun_CD&amp;gt;1&amp;lt;/kubun_CD&amp;gt;&amp;lt;/IJC00010&amp;gt;&amp;lt;IJC00020&amp;gt;&amp;lt;kubun_CD&amp;gt;1&amp;lt;/kubun_CD&amp;gt;&amp;lt;/IJC00020&amp;gt;&amp;lt;/IJC00000&amp;gt;&amp;lt;IJD00000&amp;gt;&amp;lt;IJD00010&amp;gt;&amp;lt;kubun_CD&amp;gt;1&amp;lt;/kubun_CD&amp;gt;&amp;lt;/IJD00010&amp;gt;&amp;lt;IJD00020&amp;gt;&amp;lt;kubun_CD&amp;gt;1&amp;lt;/kubun_CD&amp;gt;&amp;lt;/IJD00020&amp;gt;&amp;lt;/IJD00000&amp;gt;&amp;lt;IJE00000&amp;gt;&amp;lt;IJE00010&amp;gt;&amp;lt;kubun_CD&amp;gt;1&amp;lt;/kubun_CD&amp;gt;&amp;lt;/IJE00010&amp;gt;&amp;lt;IJE00020&amp;gt;&amp;lt;kubun_CD&amp;gt;1&amp;lt;/kubun_CD&amp;gt;&amp;lt;/IJE00020&amp;gt;&amp;lt;IJE00030&amp;gt;&amp;lt;kubun_CD&amp;gt;1&amp;lt;/kubun_CD&amp;gt;&amp;lt;/IJE00030&amp;gt;&amp;lt;IJE00040&amp;gt;&amp;lt;kubun_CD&amp;gt;1&amp;lt;/kubun_CD&amp;gt;&amp;lt;/IJE00040&amp;gt;&amp;lt;/IJE00000&amp;gt;&amp;lt;IJF00000&amp;gt;&amp;lt;kubun_CD&amp;gt;1&amp;lt;/kubun_CD&amp;gt;&amp;lt;/IJF00000&amp;gt;&lt;/page&gt;&lt;/reportValue&gt;</param>"]
[null,"<param name=\"帳票種別ノード作成用\">1</param>"]
[null,"<param name=\"帳票種別一覧表示用\">1</param>"]
[null,"<param name=\"帳票種別管理単位\">1</param>"]
[null,"<param name=\"帳票数\">1</param>"]
[null,"<param name=\"複数帳票\">1</param>"]
[null,"<param name=\"編集中\">0</param>"]
[null,"<param name=\"面数\">1</param>"]
[null,"<param name=\"様式ID\">LIZ142</param>"]
[null,"<param name=\"様式名称\">「ニ十歳未満の者の飲酒防止に関する表示基準」の実施状況等報告書　3面</param>"]
[null,"<param name=\"様式名称略称\">「ニ十歳未満の者の飲酒防止に関する表示基準」の実施状況等報告書　3面</param>"]
[null,"</itemclass>"]
[null,"</item>"]
[null,"<item filename=\"\" key=\"\" keysave=\"false\" mode=\"0\" name=\"「ニ十歳未満の者の飲酒防止に関する表示基準」の実施状況等報告書　4面\">"]
[null,"<itemclass name=\"帳票等\" progId=\"nta.CLCReport.1\">"]
["verup時に注意","<param name=\"CHMファイル名\">LIZ140-008.chm</param>"]
[null,"<param name=\"CSVデータ組み込みフラグ\">0</param>"]
[null,"<param name=\"CSVデータ追加種別\">0</param>"]
["verup時に注意","<param name=\"XFTファイル名\">CMAELIZ143-005_1.aep</param>"]
[null,"<param name=\"ステータス\">2</param>"]
["verup時に注意","<param name=\"バージョン\">5.0</param>"]
["更新日時は、組み込み処理日を設定",{"$f":"\"<param name=\"\"更新日時\"\">\"& TEXT(NOW(),\"yyyy-mm-dd hh:mm:ss\")&\"</param>\"","v":"<param name=\"更新日時\">2024-02-15 13:46:45</param>"}]
[null,"<param name=\"合計表の削除可否\">1</param>"]
["霞が関WAN経由の場合は”ntakasumi”","<param name=\"作成ソフト名\">ntaclient</param>"]
["販売業者名を設定",{"$f":"\"<param name=\"\"作成者名\"\">\"&基本項目!$E$10&\"</param>\"","v":"<param name=\"作成者名\"></param>"}]
["V7変更","<param name=\"次葉ID\">LIZ143</param>"]
["V7変更","<param name=\"次葉種別\">1</param>"]
[null,"<param name=\"次葉追加可能枚数\">0</param>"]
[null,"<param name=\"種別\">0</param>"]
["verup時に注意","<param name=\"順序数\">LIZ143-1</param>"]
[null,"<param name=\"相続税申告書参照作成初期状態フラグ\">0</param>"]
["データ部分本体（マクロで編集）","<param name=\"帳票データ\">&lt;reportValue reportId=&quot;LIZ143&quot; reportName=&quot;「ニ十歳未満の者の飲酒防止に関する表示基準」の実施状況等報告書　4面&quot; leafId=&quot;LIZ143&quot;&gt;&lt;page reportId=&quot;LIZ143&quot; reportName=&quot;「ニ十歳未満の者の飲酒防止に関する表示基準」の実施状況等報告書　4面&quot; status=&quot;0&quot;&gt;&lt;/page&gt;&lt;/reportValue&gt;</param>"]
[null,"<param name=\"帳票種別ノード作成用\">1</param>"]
[null,"<param name=\"帳票種別一覧表示用\">1</param>"]
[null,"<param name=\"帳票種別管理単位\">1</param>"]
[null,"<param name=\"帳票数\">1</param>"]
[null,"<param name=\"複数帳票\">1</param>"]
[null,"<param name=\"編集中\">0</param>"]
[null,"<param name=\"面数\">1</param>"]
[null,"<param name=\"様式ID\">LIZ143</param>"]
[null,"<param name=\"様式名称\">「ニ十歳未満の者の飲酒防止に関する表示基準」の実施状況等報告書　4面</param>"]
[null,"<param name=\"様式名称略称\">「ニ十歳未満の者の飲酒防止に関する表示基準」の実施状況等報告書　4面</param>"]
[null,"</itemclass>"]
[null,"</item>"]
[null,"</container>"]
[null,"</param>"]
[null,"<param name=\"帳票名称管理\">"]
[null,"<container name=\"要素名称管理\" progId=\"nta.CLCNameManager.1\">"]
[null,"<item filename=\"\" key=\"\" keysave=\"true\" mode=\"0\" name=\"「ニ十歳未満の者の飲酒防止に関する表示基準」の実施状況等報告書　1面\">"]
[null,"<itemclass name=\"要素名称\" progId=\"nta.CLCItemName.1\">"]
[null,"<param name=\"個数\">1</param>"]
[null,"</itemclass>"]
[null,"</item>"]
[null,"<item filename=\"\" key=\"\" keysave=\"true\" mode=\"0\" name=\"「ニ十歳未満の者の飲酒防止に関する表示基準」の実施状況等報告書　2面\">"]
[null,"<itemclass name=\"要素名称\" progId=\"nta.CLCItemName.1\">"]
[null,"<param name=\"個数\">1</param>"]
[null,"</itemclass>"]
[null,"</item>"]
[null,"<item filename=\"\" key=\"\" keysave=\"true\" mode=\"0\" name=\"「ニ十歳未満の者の飲酒防止に関する表示基準」の実施状況等報告書　3面\">"]
[null,"<itemclass name=\"要素名称\" progId=\"nta.CLCItemName.1\">"]
[null,"<param name=\"個数\">1</param>"]
[null,"</itemclass>"]
[null,"</item>"]
[null,"<item filename=\"\" key=\"\" keysave=\"true\" mode=\"0\" name=\"「ニ十歳未満の者の飲酒防止に関する表示基準」の実施状況等報告書　4面\">"]
[null,"<itemclass name=\"要素名称\" progId=\"nta.CLCItemName.1\">"]
[null,"<param name=\"個数\">1</param>"]
[null,"</itemclass>"]
[null,"</item>"]
[null,"</container>"]
[null,"</param>"]
[null,"<param name=\"提出先区分\">1</param>"]
["提出先税務署",{"$f":"\"<param name=\"\"提出先税務署\"\">\"&基本項目!$E$33&\"</param>\"","v":{"$error":"#N/A"}}]
["提出先税務署番号",{"$f":"\"<param name=\"\"提出先税務署番号\"\">\"&基本項目!$I$33&\"</param>\"","v":{"$error":"#N/A"}}]
["提出年月日月",{"$f":"\"<param name=\"\"提出年月日月\"\">\"&MONTH(基本項目!$E$4)&\"</param>\"","v":"<param name=\"提出年月日月\">2</param>"}]
["提出年月日元号",{"$f":"\"<param name=\"\"提出年月日元号\"\">\"&VLOOKUP(TEXT(基本項目!$E$4,\"gggg\"),元号ＴＢ,2,FALSE)&\"</param>\"","v":"<param name=\"提出年月日元号\">5</param>"}]
["提出年月日日",{"$f":"\"<param name=\"\"提出年月日日\"\">\"&DAY(基本項目!$E$4)&\"</param>\"","v":"<param name=\"提出年月日日\">15</param>"}]
["提出年月日年",{"$f":"\"<param name=\"\"提出年月日年\"\">\"&TEXT(基本項目!$E$4,\"e\")&\"</param>\"","v":"<param name=\"提出年月日年\">6</param>"}]
[null,"<param name=\"適用期間フラグ\">0000000000000</param>"]
[null,"<param name=\"添付書類管理\">"]
[null,"<container name=\"添付書類管理\" progId=\"nta.CLCAttachedManager.1\"/>"]
[null,"</param>"]
[null,"<param name=\"添付書類名称管理\">"]
[null,"<container name=\"要素名称管理\" progId=\"nta.CLCNameManager.1\"/>"]
[null,"</param>"]
[null,"<param name=\"納税者等情報内容部\">"]
[null,"<itemclass name=\"納税者等情報内容部\" progId=\"nta.CLCProfileContent.1\">"]
["マイナンバー個人",{"$f":"\"<param name=\"\"共通番号-個人\"\">\"&IF(AND(LEFT(基本項目!$E$6,1)=\"1\",基本項目!$E$7<>\"\"),基本項目!$E$7,\"\")&\"</param>\"","v":"<param name=\"共通番号-個人\"></param>"}]
["マイナンバー法人",{"$f":"\"<param name=\"\"共通番号-法人\"\">\"&IF(AND(LEFT(基本項目!$E$6,1)=\"2\",基本項目!$E$7<>\"\"),基本項目!$E$7,\"\")&\"</param>\"","v":"<param name=\"共通番号-法人\"></param>"}]
["個人は0,法人は1",{"$f":"\"<param name=\"\"個人法人フラグ\"\">\"&IF(LEFT(基本項目!$E$6,1)=\"1\",\"0\",\"1\")&\"</param>\"","v":"<param name=\"個人法人フラグ\">1</param>"}]
["販売業者名",{"$f":"\"<param name=\"\"氏名名称\"\">\"&基本項目!$E$10&\"</param>\"","v":"<param name=\"氏名名称\"></param>"}]
["販売業者名（カナ）",{"$f":"\"<param name=\"\"氏名名称読み\"\">\"&基本項目!$E$11&\"</param>\"","v":"<param name=\"氏名名称読み\"></param>"}]
["製造場：税務署番号",{"$f":"\"<param name=\"\"所轄税務署番号\"\">\"&基本項目!$I$33&\"</param>\"","v":{"$error":"#N/A"}}]
["製造場：所在地",{"$f":"\"<param name=\"\"製造所住所\"\">\"&基本項目!$E$30&\"</param>\"","v":{"$error":"#N/A"}}]
["製造場：電話番号設定",{"$f":"\"<param name=\"\"製造所電話番号加入者番号\"\">\"&SPLITC(基本項目!$E$32,2)&\"</param>\"","v":{"$error":"#VALUE!"}}]
["製造場：電話番号設定",{"$f":"\"<param name=\"\"製造所電話番号市外局番\"\">\"&SPLITC(基本項目!$E$32,0)&\"</param>\"","v":{"$error":"#VALUE!"}}]
["製造場：電話番号設定",{"$f":"\"<param name=\"\"製造所電話番号市内局番\"\">\"&SPLITC(基本項目!$E$32,1)&\"</param>\"","v":{"$error":"#VALUE!"}}]
["製造場：電話番号設定",{"$f":"\"<param name=\"\"製造所名称\"\">\"&基本項目!$E$31&\"</param>\"","v":{"$error":"#N/A"}}]
[null,"<param name=\"製造所名称読み\"></param>"]
["製造場：郵便番号設定",{"$f":"\"<param name=\"\"製造所郵便番号下4桁\"\">\"&SPLITC(基本項目!$E$29,1)&\"</param>\"","v":{"$error":"#VALUE!"}}]
["製造場：郵便番号設定",{"$f":"\"<param name=\"\"製造所郵便番号上3桁\"\">\"&SPLITC(基本項目!$E$29,0)&\"</param>\"","v":{"$error":"#VALUE!"}}]
[null,"<param name=\"製造場等略称\"></param>"]
["製造者：代表",{"$f":"\"<param name=\"\"代表者氏名\"\">\"&基本項目!$E$13&\"</param>\"","v":"<param name=\"代表者氏名\"></param>"}]
["製造者：代表（カナ）",{"$f":"\"<param name=\"\"代表者氏名読み\"\">\"&基本項目!$E$14&\"</param>\"","v":"<param name=\"代表者氏名読み\"></param>"}]
["製造者：代表住所",{"$f":"\"<param name=\"\"代表者住所\"\">\"&基本項目!$E$15&\"</param>\"","v":"<param name=\"代表者住所\"></param>"}]
["製造者：住所",{"$f":"\"<param name=\"\"納税者所在地\"\">\"&基本項目!$E$9&\"</param>\"","v":"<param name=\"納税者所在地\"></param>"}]
["製造者：電話番号",{"$f":"\"<param name=\"\"納税者所在地電話番号加入者番号\"\">\"&SPLITC(基本項目!$E$12,2)&\"</param>\"","v":{"$error":"#VALUE!"}}]
["製造者：電話番号",{"$f":"\"<param name=\"\"納税者所在地電話番号市外局番\"\">\"&SPLITC(基本項目!$E$12,0)&\"</param>\"","v":{"$error":"#VALUE!"}}]
["製造者：電話番号",{"$f":"\"<param name=\"\"納税者所在地電話番号市内局番\"\">\"&SPLITC(基本項目!$E$12,1)&\"</param>\"","v":{"$error":"#VALUE!"}}]
[null,"<param name=\"納税者所在地読み\"></param>"]
["製造者：郵便番号",{"$f":"\"<param name=\"\"納税者所在地郵便番号下4桁\"\">\"&SPLITC(基本項目!$E$8,1)&\"</param>\"","v":{"$error":"#VALUE!"}}]
["製造者：郵便番号",{"$f":"\"<param name=\"\"納税者所在地郵便番号上3桁\"\">\"&SPLITC(基本項目!$E$8,0)&\"</param>\"","v":{"$error":"#VALUE!"}}]
["利用者識別番号",{"$f":"\"<param name=\"\"利用者識別番号\"\">\"&基本項目!$E$6&\"</param>\"","v":"<param name=\"利用者識別番号\"></param>"}]
[null,"</itemclass>"]
[null,"</param>"]
["販売業者名",{"$f":"\"<param name=\"\"納税者等情報名\"\">\"&基本項目!$E$10&\"</param>\"","v":"<param name=\"納税者等情報名\"></param>"}]
[null,"<param name=\"表示制御フラグ\">0</param>"]
[null,"<param name=\"不要ノード\">1</param>"]
[null,"<param name=\"複数提出\">1</param>"]
[null,"<param name=\"複数利用者の可否\">0</param>"]
["個人の場合はCLTAX1002060、法人の場合はCLTAX2002060",{"$f":"IF(LEFT(基本項目!$E$6,1)=\"1\",\"<param name=\"\"様式集ファイル名\"\">CLTAX1002060-200.ncs</param>\",\"<param name=\"\"様式集ファイル名\"\">CLTAX2002060-200.ncs</param>\")","v":"<param name=\"様式集ファイル名\">CLTAX2002060-200.ncs</param>"}]
[null,"<param name=\"様式集ロケーション\">/tax/item[5]/item[3]</param>"]
[null,"</itemclass>"]
[null,"</item>"]

{"sheet":"補助機能等","index":11,"n_rows":30,"n_cols":3,"rows_kept":30,"cut":false,"hidden":false,"merged":[]}
["　【一括印刷機能】"]
[]
[]
[]
[]
[]
[]
["【酒類区分補正処理】"]
["　社内システムの酒類区分名を、当該ツールで使用する酒類区分名に置換します。"]
["　以下の表に社内システムで使用している酒類区分名を入力し、置換ボタンをクリックしてください。"]
["　（黄色の部分が入力部分です。青色部分は当該ツールで使用している酒類区分名です。）"]
[]
[null,"変更前＿酒類区分","変更後　酒類区分"]
[null,"清酒","清酒"]
[null,"合成清酒","合成清酒"]
[null,"連続式蒸留焼酎","連続式蒸留焼酎"]
[null,"単式蒸留焼酎","単式蒸留焼酎"]
[null,"みりん","みりん"]
[null,"ビール","ビール"]
[null,"果実酒","果実酒"]
[null,"甘味果実酒","甘味果実酒"]
[null,"ウイスキー","ウイスキー"]
[null,"ブランデー","ブランデー"]
[null,"原料用アルコール","原料用アルコール"]
[null,"発泡酒","発泡酒"]
[null,"その他の醸造酒","その他の醸造酒"]
[null,"スピリッツ","スピリッツ"]
[null,"リキュール","リキュール"]
[null,"雑酒","雑酒"]
[null,"粉末酒","粉末酒"]

{"sheet":"保守用メモ","index":12,"n_rows":4,"n_cols":3,"rows_kept":4,"cut":false,"hidden":true,"merged":[]}
["利用者ファイルの帳票データ部分の解析は”&amp\"等を読み替えるため、次の計算式を用いる。"]
["元データ","計算式"]
["<param name=\"帳票データ\">&lt;reportValue reportId=&quot;LIZ141&quot; reportName=&quot;「ニ十歳未満の者の飲酒防止に関する表示基準」の実施状況等報告書　2面&quot; leafId=&quot;&quot;&gt;&lt;page reportId=&quot;LIZ141&quot; reportName=&quot;「ニ十歳未満の者の飲酒防止に関する表示基準」の実施状況等報告書　2面&quot; status=&quot;0&quot;&gt;&amp;lt;IIG00000&amp;gt;&amp;lt;IIG00030&amp;gt;管理者&amp;lt;/IIG00030&amp;gt;&amp;lt;IIG00040&amp;gt;30&amp;lt;/IIG00040&amp;gt;&amp;lt;IIG00050&amp;gt;&amp;lt;gen:era&amp;gt;5&amp;lt;/gen:era&amp;gt;&amp;lt;gen:yy&amp;gt;4&amp;lt;/gen:yy&amp;gt;&amp;lt;gen:mm&amp;gt;1&amp;lt;/gen:mm&amp;gt;&amp;lt;gen:dd&amp;gt;1&amp;lt;/gen:dd&amp;gt;&amp;lt;/IIG00050&amp;gt;&amp;lt;IIG00060&amp;gt;&amp;lt;kubun_CD&amp;gt;1&amp;lt;/kubun_CD&amp;gt;&amp;lt;/IIG00060&amp;gt;&amp;lt;IIG00070&amp;gt;&amp;lt;kubun_CD&amp;gt;1&amp;lt;/kubun_CD&amp;gt;&amp;lt;/IIG00070&amp;gt;&amp;lt;IIG00080&amp;gt;&amp;lt;kubun_CD&amp;gt;1&amp;lt;/kubun_CD&amp;gt;&amp;lt;/IIG00080&amp;gt;&amp;lt;IIG00010&amp;gt;&amp;lt;kubun_CD&amp;gt;1&amp;lt;/kubun_CD&amp;gt;&amp;lt;/IIG00010&amp;gt;&amp;lt;IIG00020&amp;gt;&amp;lt;kubun_CD&amp;gt;1&amp;lt;/kubun_CD&amp;gt;&amp;lt;/IIG00020&amp;gt;&amp;lt;/IIG00000&amp;gt;&amp;lt;IIK00000&amp;gt;&amp;lt;IIK00010&amp;gt;10&amp;lt;/IIK00010&amp;gt;&amp;lt;IIK00020&amp;gt;10000000&amp;lt;/IIK00020&amp;gt;&amp;lt;IIK00030&amp;gt;9000000&amp;lt;/IIK00030&amp;gt;&amp;lt;IIK00040&amp;gt;8000000&amp;lt;/IIK00040&amp;gt;&amp;lt;IIK00050&amp;gt;7000000&amp;lt;/IIK00050&amp;gt;&amp;lt;IIK00060&amp;gt;6000000&amp;lt;/IIK00060&amp;gt;&amp;lt;IIK00065&amp;gt;5000000&amp;lt;/IIK00065&amp;gt;&amp;lt;IIK00070&amp;gt;4000000&amp;lt;/IIK00070&amp;gt;&amp;lt;IIK00080&amp;gt;1000000&amp;lt;/IIK00080&amp;gt;&amp;lt;/IIK00000&amp;gt;&lt;/page&gt;&lt;/reportValue&gt;</param>",{"$f":"SUBSTITUTE(SUBSTITUTE(SUBSTITUTE(SUBSTITUTE(SUBSTITUTE(SUBSTITUTE(SUBSTITUTE(A3,\"&amp;lt;\",\"<\"),\"&amp;gt;\",\">\"),\"&amp;quot;\",\"\"\"\"),\"&gt;\",\">\"),\"&lt;\",\"<\"),\"&quot;\",\"\"\"\"),\"><\",\">\"&CHAR(10)&\"<\")","v":"<param name=\"帳票データ\">\n<reportValue reportId=\"LIZ141\" reportName=\"「ニ十歳未満の者の飲酒防止に関する表示基準」の実施状況等報告書　2面\" leafId=\"\">\n<page reportId=\"LIZ141\" reportName=\"「ニ十歳未満の者の飲酒防止に関する表示基準」の実施状況等報告書　2面\" status=\"0\">\n<IIG00000>\n<IIG00030>管理者</IIG00030>\n<IIG00040>30</IIG00040>\n<IIG00050>\n<gen:era>5</gen:era>\n<gen:yy>4</gen:yy>\n<gen:mm>1</gen:mm>\n<gen:dd>1</gen:dd>\n</IIG00050>\n<IIG00060>\n<kubun_CD>1</kubun_CD>\n</IIG00060>\n<IIG00070>\n<kubun_CD>1</kubun_CD>\n</IIG00070>\n<IIG00080>\n<kubun_CD>1</kubun_CD>\n</IIG00080>\n<IIG00010>\n<kubun_CD>1</kubun_CD>\n</IIG00010>\n<IIG00020>\n<kubun_CD>1</kubun_CD>\n</IIG00020>\n</IIG00000>\n<IIK00000>\n<IIK00010>10</IIK00010>\n<IIK00020>10000000</IIK00020>\n<IIK00030>9000000</IIK00030>\n<IIK00040>8000000</IIK00040>\n<IIK00050>7000000</IIK00050>\n<IIK00060>6000000</IIK00060>\n<IIK00065>5000000</IIK00065>\n<IIK00070>4000000</IIK00070>\n<IIK00080>1000000</IIK00080>\n</IIK00000>\n</page>\n</reportValue>\n</param>"},"やりすぎ変換"]
[null,{"$f":"SUBSTITUTE(SUBSTITUTE(SUBSTITUTE(SUBSTITUTE(A4,\"&amp;lt;\",\"<\"),\"&amp;gt;\",\">\"),\"&amp;quot;\",\"\"\"\"),\"><\",\">\"&CHAR(10)&\"<\")","v":""}]